Workbook
Name Additional_Factor: 'אפשרויות בחירה'!$C$706:$C$854
Name Amoritization: 'אפשרויות בחירה'!$C$544:$C$548
Name Capsule: 'אפשרויות בחירה'!$C$934:$C$936
Name Company_Name: 'File Name Info'!$A$34:$A$130
Name Company_Name_ID: 'File Name Info'!$A$34:$B$130
Name Consortium: 'אפשרויות בחירה'!$C$512:$C$513
Name Country_list: 'אפשרויות בחירה'!$C$4:$C$85
Name Country_list_funds: 'אפשרויות בחירה'!$C$4:$C$103
Name CSA: 'אפשרויות בחירה'!$C$693:$C$694
Name Delivery: 'אפשרויות בחירה'!$C$670:$C$671
Name Dependence_Independence: 'אפשרויות בחירה'!$C$658:$C$659
Name Duration_Underlying_Interest_Rate: 'אפשרויות בחירה'!$C$685:$C$692
Name File_Type: 'File Name Info'!$A$10:$A$12
Name Full_File_Type: 'File Name Info'!$A$11:$B$13
Name Full_Type: 'File Name Info'!$A$2:$B$8
Name Full_Type_Nostro: 'File Name Info'!$A$3:$B$6
Name Full_Year: 'File Name Info'!$A$22:$B$31
Name Fund_Strategy: 'אפשרויות בחירה'!$C$595:$C$625
Name Fund_type: 'אפשרויות בחירה'!$C$326:$C$496
Name Holding_interest: 'אפשרויות בחירה'!$C$146:$C$147
Name In_the_books: 'אפשרויות בחירה'!$C$660:$C$661
Name Industry_Sector: 'אפשרויות בחירה'!#REF!
Name Industry_sector_all: 'אפשרויות בחירה'!$C$202:$C$325
Name Industry_sectors: 'אפשרויות בחירה'!$C$202:$C$325
Name israel_abroad: 'אפשרויות בחירה'!$C$2:$C$3
Name Issuer_Number_Banks: 'אפשרויות בחירה'!$C$111:$C$113
Name Issuer_Number_Fund: 'אפשרויות בחירה'!$C$114:$C$117
Name issuer_number_loan: 'אפשרויות בחירה'!$C$118:$C$126
Name Issuer_Number_Type: 'אפשרויות בחירה'!$C$104:$C$110
Name Issuer_Number_Type_2: 'אפשרויות בחירה'!#REF!
Name Issuer_Number_Type_3: 'אפשרויות בחירה'!#REF!
Name Issuer_Number_Type_V2: 'אפשרויות בחירה'!$C$104:$C$110
Name Issuer_Type_TFunds: 'אפשרויות בחירה'!#REF!
Name Leading_factor: 'אפשרויות בחירה'!$C$697:$C$705
Name Linked_Type: 'אפשרויות בחירה'!$C$514:$C$517
Name other_investments: 'אפשרויות בחירה'!$C$1018:$C$1051
Name Penalty: 'אפשרויות בחירה'!$C$855:$C$856
Name QTR: 'File Name Info'!$A$15:$A$19
Name Rating_Agency: 'אפשרויות בחירה'!$C$188:$C$201
Name real_estate_lifestage: 'אפשרויות בחירה'!$C$638:$C$646
Name real_estate_loans: 'אפשרויות בחירה'!$C$551:$C$589
Name Real_Estate_Main_Use: 'אפשרויות בחירה'!$C$626:$C$637
Name Recourse_Nonrecourse: 'אפשרויות בחירה'!$C$542:$C$543
Name Repayment_Rights: 'אפשרויות בחירה'!$C$549:$C$550
Name Reset_frequency: 'אפשרויות בחירה'!$C$662:$C$669
Name Security_ID_Number_Type: 'אפשרויות בחירה'!#REF!
Name Security_Number_Loans: 'אפשרויות בחירה'!$C$131
Name Stock_Exchange: 'אפשרויות בחירה'!#REF!
Name Stock_Exchange_Gov_Bonds: 'אפשרויות בחירה'!$C$148:$C$181
Name Subordination_Risk: 'אפשרויות בחירה'!$C$186:$C$187
Name Tradeable_Status: 'אפשרויות בחירה'!#REF!
Name Tradeable_Status_All: 'אפשרויות בחירה'!$C$135:$C$145
Name tradeable_status_bonds: 'אפשרויות בחירה'!#REF!
Name tradeable_status_funds: 'אפשרויות בחירה'!#REF!
Name tradeable_status_stock: 'אפשרויות בחירה'!#REF!
Name Tradeable_Status_v2: 'אפשרויות בחירה'!#REF!
Name tradeable_status_warrants: 'אפשרויות בחירה'!#REF!
Name tradeable_status_warrants_v2: 'אפשרויות בחירה'!#REF!
Name Transaction: 'אפשרויות בחירה'!$C$647:$C$650
Name Type: 'File Name Info'!$A$2:$A$8

Sheet עמוד פתיחה
A1: קובץ דיווח עבור רשימת נכסים ברמת הנכס הבודד (חוזר גופים מוסדיים 2015-9-14)
A3: יש לבחור תחום: | D3: נכסי עמיתים - קופות גמל
A5: האם מדובר בקובץ לממומנה או לציבור: | D5: לציבור
A7: יש לבחור את רבעון הדיווח: | D7: 02
A9: יש לבחור את שנת הדיווח: | D9: 2026
A11: יש לבחור את הגוף המוסדי: | D11: ילין לפידות ניהול קופות גמל בע"מ
A13: ח.פ. הגוף המוסדי: | D13: =IFERROR(VLOOKUP(D11,'[1]File Name Info'!A35:B130,2,0),"תא מחושב") -> 513611509
A15: שם קובץ לשמירה | D15: =IF(D5="לממונה",CONCATENATE(D13, "_",VLOOKUP(D3,Full_Type,2,0),"_",D7,VLOOKUP(D9,Full_Year,2,0),".xlxs"),IF(D5="לציבור",CONCATENATE(D13,"_",VLOOKUP(D3,Full_Type_Nostro,2,0),"_",VLOOKUP(D5,Full_File_Type,2,0),"_",D7,VLOOKUP(D9,Full_Year,2,0),".xlsx"),"שם קובץ לשמירה")) -> 513611509_gm_p_0226.xlsx

Sheet סכום נכסים
C1: ידווח בקבצי נכסי הנוסטרו בלבד
A2: אפיק | B2: שווי הוגן (באלפי ש"ח) | C2: עלות מופחתת (באלפי ש"ח) | D2: השיטה שיושמה בדוח הכספי | E2: שיעור מסך נכסי השקעה
A3: מזומנים ושווי מזומנים | B3: =SUM('מזומנים ושווי מזומנים'!O:O) -> 16649871 | E3: =SUM('מזומנים ושווי מזומנים'!O:O)/B30 -> 0.20326528
A4: איגרות חוב ממשלתיות | B4: =SUM('איגרות חוב ממשלתיות'!U:U) -> 29011557 | E4: =SUM('איגרות חוב ממשלתיות'!U:U)/B30 -> 0.35417945
A5: ניירות ערך מסחריים | B5: =SUM('ניירות ערך מסחריים'!AD:AD) -> 0 | E5: =SUM('ניירות ערך מסחריים'!AD:AD)/B30 -> 0
A6: איגרות חוב | B6: =SUM('איגרות חוב'!AD:AD) -> 9752312.1 | E6: =SUM('איגרות חוב'!AD:AD)/B30 -> 0.11905836
A7: מניות מבכ ויהש | B7: =SUM('מניות מבכ ויהש'!U:U) -> 16494056 | E7: =SUM('מניות מבכ ויהש'!U:U)/B30 -> 0.20136305
A8: קרנות סל | B8: =SUM('קרנות סל'!T:T) -> 3218903.4 | E8: =SUM('קרנות סל'!T:T)/B30 -> 0.039297078
A9: קרנות נאמנות | B9: =SUM('קרנות נאמנות'!T:T) -> 578886.5 | E9: =SUM('קרנות נאמנות'!T:T)/B30 -> 0.0070671732
A10: כתבי אופציה | B10: =SUM('כתבי אופציה'!W:W) -> 28949.424 | E10: =SUM('כתבי אופציה'!W:W)/B30 -> 0.00035342091
A11: אופציות | B11: =SUM(אופציות!V:V) -> -2968.9 | E11: =SUM(אופציות!V:V)/B30 -> -3.6244982e-05
A12: חוזים עתידיים | B12: =SUM('חוזים עתידיים'!R:R) -> 60233.912 | E12: =SUM('חוזים עתידיים'!R:R)/B30 -> 0.0007353488
A13: מוצרים מובנים | B13: =SUM('מוצרים מובנים'!Z:Z) -> 236727.9 | E13: =SUM('מוצרים מובנים'!Z:Z)/B30 -> 0.0028900261
A14: לא סחיר איגרות חוב ממשלתיות | B14: =SUM('לא סחיר איגרות חוב ממשלתיות'!U:U) -> 0 | E14: =SUM('לא סחיר איגרות חוב ממשלתיות'!U:U)/B30 -> 0
A15: לא סחיר איגרות חוב מיועדות | B15: =SUM('לא סחיר איגרות חוב מיועדות'!N:N) -> 0 | E15: =SUM('לא סחיר איגרות חוב מיועדות'!N:N)/B30 -> 0
A16: אפיק השקעה מובטח תשואה | B16: =SUM('אפיק השקעה מובטח תשואה'!F:F) -> 0 | E16: =SUM('אפיק השקעה מובטח תשואה'!F:F)/B30 -> 0
A17: לא סחיר ניירות ערך מסחריים | B17: =SUM('לא סחיר ניירות ערך מסחריים'!AI:AI) -> 216423.42 | E17: =SUM('לא סחיר ניירות ערך מסחריים'!AI:AI)/B30 -> 0.0026421446
A18: לא סחיר איגרות חוב | B18: =SUM('לא סחיר איגרות חוב'!AG:AG) -> 943398.06 | E18: =SUM('לא סחיר איגרות חוב'!AG:AG)/B30 -> 0.01151721
A19: לא סחיר מניות מבכ ויהש | B19: =SUM('לא סחיר מניות מבכ ויהש'!X:X) -> 9620.474 | E19: =SUM('לא סחיר מניות מבכ ויהש'!X:X)/B30 -> 0.00011744886
A20: קרנות השקעה | B20: =SUM('קרנות השקעה'!W:W) -> 1304866.5 | E20: =SUM('קרנות השקעה'!W:W)/B30 -> 0.015930096
A21: לא סחיר כתבי אופציה | B21: =SUM('לא סחיר כתבי אופציה'!Z:Z) -> 57751.046 | E21: =SUM('לא סחיר כתבי אופציה'!Z:Z)/B30 -> 0.00070503743
A22: לא סחיר אופציות | B22: =SUM('לא סחיר אופציות'!Z:Z) -> 0 | E22: =SUM('לא סחיר אופציות'!Z:Z)/B30 -> 0
A23: לא סחיר נגזרים אחרים | B23: =SUM('לא סחיר נגזרים אחרים'!R:R) -> 660401.84 | E23: =SUM('לא סחיר נגזרים אחרים'!R:R)/B30 -> 0.0080623304
A24: הלוואות | B24: =SUM(הלוואות!AT:AT) -> 474072.68 | E24: =SUM(הלוואות!AT:AT)/B30 -> 0.0057875832
A25: לא סחיר מוצרים מובנים | B25: =SUM('לא סחיר מוצרים מובנים'!AB:AB) -> 191449.04 | E25: =SUM('לא סחיר מוצרים מובנים'!AB:AB)/B30 -> 0.0023372518
A26: פיקדונות מעל 3 חודשים | B26: =SUM('פיקדונות מעל 3 חודשים'!T:T) -> 2080338.8 | E26: =SUM('פיקדונות מעל 3 חודשים'!T:T)/B30 -> 0.025397232
A27: זכויות מקרקעין | B27: =SUM('זכויות מקרקעין'!S:S) -> 0 | E27: =SUM('זכויות מקרקעין'!S:S)/B30 -> 0
A28: השקעה בחברות מוחזקות | B28: =SUM('השקעה בחברות מוחזקות'!U:U) -> 0 | E28: =SUM('השקעה בחברות מוחזקות'!U:U)/B30 -> 0
A29: נכסים אחרים | B29: =SUM('נכסים אחרים'!N:N) -> -54821.249 | E29: =SUM('נכסים אחרים'!N:N)/B30 -> -0.00066926982
A30: סך הכל נכסים | B30: =IF(SUM(B3:B29)=0,0.0001,SUM(B3:B29)) -> 81912029 | C30: =SUM(C3:C29) -> 0 | D30: =SUM(D3:D29) -> 0 | E30: =SUM(E3:E29) -> 1
A31: מסגרות אשראי | B31: 80000 | E31: =B31/B30 -> 0.00097665753
A32: יתרות התחייבות להשקעה | B32: =SUM('יתרות התחייבות להשקעה'!O:O) -> 1153474.9 | E32: =B32/B30 -> 0.014081874

Sheet מזומנים ושווי מזומנים
A1: מספר קופה/קרן/ח.פ. עבור חברת ביטוח | B1: מספר מסלול | C1: שם הבנק | D1: מספר מזהה בנק | E1: סוג מספר מזהה בנק | F1: מאפיין עיקרי | G1: ישראל/חו"ל | H1: בעל עניין/צד קשור | I1: דירוג הבנק | J1: שם מדרג | K1: מטבע פעילות | L1: שווי מטבעי | M1: שער חליפין | N1: שיעור ריבית | O1: שווי הוגן (באלפי ש"ח) | P1: שיעור מנכסי אפיק ההשקעה | Q1: שיעור מסך נכסי ההשקעה
A2: 1035 | B2: 1036 | C2: בנק לאומי לישראל בע"מ | D2: 10-800 | E2: סימול בנק | F2: מזומן ועו"ש נקוב במט"ח | G2: ישראל | H2: לא | I2: AAA | J2: S&P מעלות | K2: USD | L2: 23700.244 | M2: 2.978 | O2: 70579.327 | P2: 0.033528094 | Q2: 0.011252438
A3: 1035 | B3: 1036 | C3: בנק לאומי לישראל בע"מ | D3: 10-800 | E3: סימול בנק | F3: מזומן ועו"ש נקוב במט"ח | G3: ישראל | H3: לא | I3: AAA | J3: S&P מעלות | K3: EUR | L3: 13963.059 | M3: 3.3945 | O3: 47397.604 | P3: 0.022515818 | Q3: 0.007556584
A4: 1035 | B4: 1036 | C4: בנק לאומי לישראל בע"מ | D4: 10-800 | E4: סימול בנק | F4: מזומן ועו"ש נקוב במט"ח | G4: ישראל | H4: לא | I4: AAA | J4: S&P מעלות | K4: GBP | L4: 2059.048 | M4: 3.9389 | O4: 8110.384 | P4: 0.0038527674 | Q4: 0.0012930358
A5: 1035 | B5: 1036 | C5: בנק לאומי לישראל בע"מ | D5: 10-800 | E5: סימול בנק | F5: מזומן ועו"ש נקוב במט"ח | G5: ישראל | H5: לא | I5: AAA | J5: S&P מעלות | K5: JPY | L5: 29.744 | M5: 1.8341 | O5: 54.553 | P5: 2.5915012e-05 | Q5: 8.6973949e-06
A6: 1035 | B6: 1036 | C6: בנק לאומי לישראל בע"מ | D6: 10-800 | E6: סימול בנק | F6: מזומן ועו"ש נקוב במט"ח | G6: ישראל | H6: לא | I6: AAA | J6: S&P מעלות | K6: AUD | L6: 1085.952 | M6: 2.0512 | O6: 2227.505 | P6: 0.0010581566 | Q6: 0.00035513029
A7: 1035 | B7: 1036 | C7: בנק לאומי לישראל בע"מ | D7: 10-800 | E7: סימול בנק | F7: מזומן ועו"ש נקוב במט"ח | G7: ישראל | H7: לא | I7: AAA | J7: S&P מעלות | K7: SGD | L7: 143.927 | M7: 2.3032 | O7: 331.494 | P7: 0.0001574732 | Q7: 5.2849932e-05
A8: 1035 | B8: 1036 | C8: בנק לאומי לישראל בע"מ | D8: 10-800 | E8: סימול בנק | F8: מזומן ועו"ש נקוב במט"ח | G8: ישראל | H8: לא | I8: AAA | J8: S&P מעלות | K8: HKD | L8: 86466.552 | M8: 0.3803 | O8: 32883.23 | P8: 0.015620891 | Q8: 0.0052425622
A9: 1035 | B9: 1036 | C9: בנק לאומי לישראל בע"מ | D9: 10-800 | E9: סימול בנק | F9: מזומן ועו"ש בש"ח | G9: ישראל | H9: לא | I9: AAA | J9: S&P מעלות | K9: ILS | L9: 680916.13 | M9: 1 | O9: 680916.13 | P9: 0.32346327 | Q9: 0.10855823
A10: 1035 | B10: 1036 | C10: בנק מזרחי | D10: 20-61 | E10: סימול בנק | F10: מזומן ועו"ש נקוב במט"ח | G10: ישראל | H10: לא | I10: AAA | J10: S&P מעלות | K10: USD | L10: 8.333 | M10: 2.978 | O10: 24.817 | P10: 1.1788965e-05 | Q10: 3.9565207e-06
A11: 1035 | B11: 1036 | C11: בנק מזרחי | D11: 20-61 | E11: סימול בנק | F11: מזומן ועו"ש נקוב במט"ח | G11: ישראל | H11: לא | I11: AAA | J11: S&P מעלות | K11: EUR | L11: 1.991 | M11: 3.3945 | O11: 6.757 | P11: 3.2098168e-06 | Q11: 1.0772538e-06
A12: 1035 | B12: 1036 | C12: בנק מזרחי | D12: 20-61 | E12: סימול בנק | F12: מזומן ועו"ש נקוב במט"ח | G12: ישראל | H12: לא | I12: AAA | J12: S&P מעלות | K12: GBP | L12: 0.001 | M12: 3.9389 | O12: 0.004 | P12: 1.7962945e-09 | Q12: 6.0285839e-10
A13: 1035 | B13: 1036 | C13: בנק מזרחי | D13: 20-61 | E13: סימול בנק | F13: מזומן ועו"ש נקוב במט"ח | G13: ישראל | H13: לא | I13: AAA | J13: S&P מעלות | K13: AUD | L13: 0.042 | M13: 2.0512 | O13: 0.085 | P13: 4.052549e-08 | Q13: 1.360085e-08
... A538: 11389 | B538: 15715 | C538: בנק מזרחי | D538: 20-61 | E538: סימול בנק | F538: מזומן ועו"ש בש"ח | G538: ישראל | H538: לא | I538: AAA | J538: S&P מעלות | K538: ILS | L538: 9.246 | M538: 1 | O538: 9.246 | P538: 0.0003827912 | Q538: 0.00010943227

Sheet איגרות חוב ממשלתיות
A1: מספר קופה/קרן/ח.פ. עבור חברת ביטוח | B1: מספר מסלול | C1: שם מנפיק | D1: שם נייר ערך | E1: מספר נייר ערך | F1: מאפיין עיקרי | G1: ישראל/חו"ל | H1: מדינה לפי חשיפה כלכלית | I1: זירת מסחר | J1: דירוג | K1: שם מדרג | L1: מטבע פעילות | M1: מח"מ | N1: מועד פדיון | O1: שיעור ריבית | P1: תשואה לפדיון | Q1: סכום לקבל (במטבע הפעילות) | R1: ערך נקוב (יחידות) | S1: שער חליפין | T1: שער נייר הערך | U1: שווי הוגן (באלפי ש"ח) | V1: עלות מופחתת (באלפי ש"ח) | W1: השיטה שיושמה בדוח הכספי | X1: שיעור מערך נקוב מונפק | Y1: שיעור מנכסי אפיק ההשקעה | Z1: שיעור מסך נכסי ההשקעה
A2: 1035 | B2: 1036 | C2: מדינת ישראל | D2: ממשל צמודה 0527 | E2: IL0011408478 | F2: צמוד למדד המחירים לצרכן בריבית קבועה | G2: ישראל | H2: ישראל | I2: TASE | J2: RF | K2: פנימי | L2: ILS | M2: 0.912 | N2: 31/05/2027 | O2: 0.0075 | P2: 0.01726 | R2: 10584443 | S2: 1 | T2: 119.65 | U2: 12664.286 | W2: שווי הוגן | X2: 0.000435 | Y2: 0.0077020865 | Z2: 0.0020190628
A3: 1035 | B3: 1036 | C3: מדינת ישראל | D3: מקמ 726 | E3: IL0082607214 | F3: מק"מ קצר משנים עשר חודשים | G3: ישראל | H3: ישראל | I3: TASE | J3: RF | K3: פנימי | L3: ILS | M3: 0.016 | N3: 08/07/2026 | O3: 0 | P3: 0.04352 | R3: 123058694 | S3: 1 | T3: 99.93 | U3: 122972.55 | W3: שווי הוגן | X3: 0.003619 | Y3: 0.074788681 | Z3: 0.019605472
A4: 1035 | B4: 1036 | C4: מדינת ישראל | D4: מקמ 816 | E4: IL0082608121 | F4: מק"מ קצר משנים עשר חודשים | G4: ישראל | H4: ישראל | I4: TASE | J4: RF | K4: פנימי | L4: ILS | M4: 0.093 | N4: 06/08/2026 | O4: 0 | P4: 0.03501 | R4: 191908792 | S4: 1 | T4: 99.68 | U4: 191294.68 | W4: שווי הוגן | X4: 0.005644 | Y4: 0.11634041 | Z4: 0.030498047
A5: 1035 | B5: 1036 | C5: מדינת ישראל | D5: מלווה קצר מועד 916 | E5: IL0082609111 | F5: מק"מ קצר משנים עשר חודשים | G5: ישראל | H5: ישראל | I5: TASE | J5: RF | K5: פנימי | L5: ILS | M5: 0.170 | N5: 02/09/2026 | O5: 0 | P5: 0.03423 | R5: 174976378 | S5: 1 | T5: 99.43 | U5: 173979.01 | W5: שווי הוגן | X5: 0.005468 | Y5: 0.10580947 | Z5: 0.027737415
A6: 1035 | B6: 1036 | C6: מדינת ישראל | D6: מלווה קצר מועד 1016 | E6: IL0082610184 | F6: מק"מ קצר משנים עשר חודשים | G6: ישראל | H6: ישראל | I6: TASE | J6: RF | K6: פנימי | L6: ILS | M6: 0.750 | N6: 07/10/2026 | O6: 0 | P6: 0.0334 | R6: 95735494 | S6: 1 | T6: 99.13 | U6: 94902.595 | W6: שווי הוגן | X6: 0.005319 | Y6: 0.057717269 | Z6: 0.015130289
A7: 1035 | B7: 1036 | C7: מדינת ישראל | D7: מקמ 1216 | E7: IL0082612164 | F7: מק"מ קצר משנים עשר חודשים | G7: ישראל | H7: ישראל | I7: TASE | J7: RF | K7: פנימי | L7: ILS | M7: 0.419 | N7: 02/12/2026 | O7: 0 | P7: 0.03296 | R7: 152144174 | S7: 1 | T7: 98.65 | U7: 150090.23 | W7: שווי הוגן | X7: 0.008452 | Y7: 0.091280939 | Z7: 0.023928834
A8: 1035 | B8: 1036 | C8: מדינת ישראל | D8: מקמ 317 | E8: IL0082703161 | F8: מק"מ קצר משנים עשר חודשים | G8: ישראל | H8: ישראל | I8: TASE | J8: RF | K8: פנימי | L8: ILS | M8: 0.668 | N8: 03/03/2027 | O8: 0 | P8: 0.03242 | R8: 175879936 | S8: 1 | T8: 97.89 | U8: 172168.87 | W8: שווי הוגן | X8: 0.009771 | Y8: 0.10470859 | Z8: 0.027448824
A9: 1035 | B9: 1036 | C9: מדינת ישראל | D9: מלווה קצר מועד 517 | E9: IL0082705141 | F9: מק"מ קצר משנים עשר חודשים | G9: ישראל | H9: ישראל | I9: TASE | J9: RF | K9: פנימי | L9: ILS | M9: 0.841 | N9: 05/05/2027 | O9: 0 | P9: 0.03232 | R9: 142271000 | S9: 1 | T9: 97.36 | U9: 138515.05 | W9: שווי הוגן | X9: 0.007904 | Y9: 0.084241217 | Z9: 0.022083407
A10: 1035 | B10: 1036 | C10: מדינת ישראל | D10: מקמ 617 | E10: IL0082706131 | F10: מק"מ קצר משנים עשר חודשים | G10: ישראל | H10: ישראל | I10: TASE | J10: RF | K10: פנימי | L10: ILS | M10: 0.918 | N10: 02/06/2027 | O10: 0 | P10: 0.032 | R10: 171676624 | S10: 1 | T10: 97.15 | U10: 166783.84 | W10: שווי הוגן | X10: 0.009538 | Y10: 0.10143356 | Z10: 0.026590291
A11: 1035 | B11: 1036 | C11: מדינת ישראל | D11: מקמ 726 | E11: IL0082607214 | F11: מק"מ קצר משנים עשר חודשים | G11: ישראל | H11: ישראל | I11: TASE | J11: RF | K11: פנימי | L11: ILS | M11: 0.016 | N11: 08/07/2026 | O11: 0 | P11: 0.04352 | R11: 3000000 | S11: 1 | T11: 99.93 | U11: 2997.9 | W11: שווי הוגן | X11: 8.8e-05 | Y11: 0.0018232441 | Z11: 0.00047795418
A12: 1035 | B12: 1036 | C12: מדינת ישראל | D12: מלווה קצר מועד 916 | E12: IL0082609111 | F12: מק"מ קצר משנים עשר חודשים | G12: ישראל | H12: ישראל | I12: TASE | J12: RF | K12: פנימי | L12: ILS | M12: 0.170 | N12: 02/09/2026 | O12: 0 | P12: 0.03423 | R12: 6000000 | S12: 1 | T12: 99.43 | U12: 5965.8 | W12: שווי הוגן | X12: 0.000188 | Y12: 0.0036282431 | Z12: 0.00095112547
A13: 1035 | B13: 1036 | C13: מדינת ישראל | D13: מלווה קצר מועד 1016 | E13: IL0082610184 | F13: מק"מ קצר משנים עשר חודשים | G13: ישראל | H13: ישראל | I13: TASE | J13: RF | K13: פנימי | L13: ILS | M13: 0.750 | N13: 07/10/2026 | O13: 0 | P13: 0.0334 | R13: 3000000 | S13: 1 | T13: 99.13 | U13: 2973.9 | W13: שווי הוגן | X13: 0.000167 | Y13: 0.001808648 | Z13: 0.00047412787
... A18: 1035 | B18: 1036 | C18: Federal Republic Of Germany | D18: OBL 0 10/09/26 | E18: DE0001141844 | F18: נקוב במט"ח | G18: חו"ל | H18: גרמניה | I18: FOREIGN_GOV_SEC | J18: Aaa | K18: Moodys | L18: EUR | M18: 0.271 | N18: 09/10/2026 | O18: 0 | P18: 0.02203 | R18: 5197000 | S18: 3.3945 | T18: 99.41 | U18: 17537.045 | W18: שווי הוגן | X18: 0.000217 | Y18: 0.010665571 | Z18: 0.0027959252
A19: 1035 | B19: 1036 | C19: US Govt | D19: TREASURY BILL 07/09/26 | E19: US912797RF64 | F19: נקוב במט"ח | G19: חו"ל | H19: ארה"ב | I19: FOREIGN_GOV_SEC | J19: Aa1 | K19: Moodys | L19: USD | M19: 0.103 | N19: 07/09/2026 | O19: 0 | P19: 0.03689 | Q19: 10952 | R19: 0 | S19: 2.978 | T19: 0 | U19: 32615.056 | W19: שווי הוגן | X19: 0 | Y19: 0.019835621 | Z19: 0.0051998073
A20: 1035 | B20: 1036 | C20: US Govt | D20: T 1 1/8 02/28/27 | E20: US912828ZB95 | F20: נקוב במט"ח | G20: חו"ל | H20: ארה"ב | I20: FOREIGN_GOV_SEC | J20: Aa1 | K20: Moodys | L20: USD | M20: 0.663 | N20: 28/02/2027 | O20: 0.01125 | P20: 0.04 | R20: 35684000 | S20: 2.978 | T20: 98.513 | U20: 104686.9 | W20: שווי הוגן | X20: 0.000971 | Y20: 0.063667825 | Z20: 0.016690197
A21: 1035 | B21: 1037 | C21: מדינת ישראל | D21: ממשלתי שקלית 0142 | E21: IL0011254005 | F21: לא צמוד למדד המחירים לצרכן ריבית קבועה | G21: ישראל | H21: ישראל | I21: TASE | J21: RF | K21: פנימי | L21: ILS | M21: 11.060 | N21: 31/01/2042 | O21: 0.055 | P21: 0.03945 | R21: 8459115 | S21: 1 | T21: 120.13 | U21: 10161.935 | W21: שווי הוגן | X21: 0.00023 | Y21: 0.051851183 | Z21: 0.024516293
A22: 1035 | B22: 1037 | C22: מדינת ישראל | D22: ממשל שקלית 0327 | E22: IL0011393449 | F22: לא צמוד למדד המחירים לצרכן ריבית קבועה | G22: ישראל | H22: ישראל | I22: TASE | J22: RF | K22: פנימי | L22: ILS | M22: 0.745 | N22: 31/03/2027 | O22: 0.02 | P22: 0.03205 | R22: 12491639 | S22: 1 | T22: 99.63 | U22: 12445.42 | W22: שווי הוגן | X22: 0.000443 | Y22: 0.063502646 | Z22: 0.030025341
A23: 1035 | B23: 1037 | C23: מדינת ישראל | D23: ממשל שקלית 0347 | E23: IL0011401937 | F23: לא צמוד למדד המחירים לצרכן ריבית קבועה | G23: ישראל | H23: ישראל | I23: TASE | J23: RF | K23: פנימי | L23: ILS | M23: 14.459 | N23: 31/03/2047 | O23: 0.0375 | P23: 0.04131 | R23: 1191656 | S23: 1 | T23: 95.7 | U23: 1140.415 | W23: שווי הוגן | X23: 4.2e-05 | Y23: 0.0058189565 | Z23: 0.0027513209
A24: 1035 | B24: 1037 | C24: מדינת ישראל | D24: ממשל צמודה 0527 | E24: IL0011408478 | F24: צמוד למדד המחירים לצרכן בריבית קבועה | G24: ישראל | H24: ישראל | I24: TASE | J24: RF | K24: פנימי | L24: ILS | M24: 0.912 | N24: 31/05/2027 | O24: 0.0075 | P24: 0.01726 | R24: 3864037 | S24: 1 | T24: 119.65 | U24: 4623.32 | W24: שווי הוגן | X24: 0.000159 | Y24: 0.023590451 | Z24: 0.011154045
A25: 1035 | B25: 1037 | C25: מדינת ישראל | D25: ממשל שיקלית 0928 | E25: IL0011508798 | F25: לא צמוד למדד המחירים לצרכן ריבית קבועה | G25: ישראל | H25: ישראל | I25: TASE | J25: RF | K25: פנימי | L25: ILS | M25: 2.177 | N25: 28/09/2028 | O25: 0.0225 | P25: 0.03278 | R25: 275055 | S25: 1 | T25: 99.5 | U25: 273.68 | W25: שווי הוגן | X25: 8e-06 | Y25: 0.0013964484 | Z25: 0.00066026918
A26: 1035 | B26: 1037 | C26: מדינת ישראל | D26: ממשלתית צמודה 0.5% 0529 | E26: IL0011570236 | F26: צמוד למדד המחירים לצרכן בריבית קבועה | G26: ישראל | H26: ישראל | I26: TASE | J26: RF | K26: פנימי | L26: ILS | M26: 2.900 | N26: 31/05/2029 | O26: 0.005 | P26: 0.01631 | R26: 3896340 | S26: 1 | T26: 115.67 | U26: 4506.896 | W26: שווי הוגן | X26: 0.000118 | Y26: 0.0229964 | Z26: 0.010873165
A27: 1035 | B27: 1037 | C27: מדינת ישראל | D27: ממשלתית שקלית 0537 | E27: IL0011661803 | F27: לא צמוד למדד המחירים לצרכן ריבית קבועה | G27: ישראל | H27: ישראל | I27: TASE | J27: RF | K27: פנימי | L27: ILS | M27: 10.022 | N27: 31/05/2037 | O27: 0.015 | P27: 0.03813 | R27: 12500787 | S27: 1 | T27: 79.78 | U27: 9973.128 | W27: שווי הוגן | X27: 0.000298 | Y27: 0.050887797 | Z27: 0.024060785
A28: 1035 | B28: 1037 | C28: מדינת ישראל | D28: ממשלתית צמודה 0726 | E28: IL0011695645 | F28: צמוד למדד המחירים לצרכן בריבית קבועה | G28: ישראל | H28: ישראל | I28: TASE | J28: RF | K28: פנימי | L28: ILS | M28: 0.079 | N28: 31/07/2026 | O28: 0.001 | P28: 0.05014 | R28: 4336296 | S28: 1 | T28: 119.09 | U28: 5164.095 | W28: שווי הוגן | X28: 0.00036 | Y28: 0.026349749 | Z28: 0.012458697
A29: 1035 | B29: 1037 | C29: מדינת ישראל | D29: ממשל צמודה 1131 | E29: IL0011722209 | F29: צמוד למדד המחירים לצרכן בריבית קבועה | G29: ישראל | H29: ישראל | I29: TASE | J29: RF | K29: פנימי | L29: ILS | M29: 5.401 | N29: 30/11/2031 | O29: 0.001 | P29: 0.01653 | R29: 3033717 | S29: 1 | T29: 109.97 | U29: 3336.179 | W29: שווי הוגן | X29: 8.9e-05 | Y29: 0.017022822 | Z29: 0.0080487361
A30: 1035 | B30: 1037 | C30: מדינת ישראל | D30: ממשלתית שקלית 1.3% 04/32 | E30: IL0011806606 | F30: לא צמוד למדד המחירים לצרכן ריבית קבועה | G30: ישראל | H30: ישראל | I30: TASE | J30: RF | K30: פנימי | L30: ILS | M30: 5.629 | N30: 30/04/2032 | O30: 0.013 | P30: 0.0347 | R30: 5827619 | S30: 1 | T30: 88.94 | U30: 5183.084 | W30: שווי הוגן | X30: 0.000142 | Y30: 0.026446642 | Z30: 0.01250451
A31: 1035 | B31: 1037 | C31: מדינת ישראל | D31: ממשל שקלית 11/52 2.8% | E31: IL0011840761 | F31: לא צמוד למדד המחירים לצרכן ריבית קבועה | G31: ישראל | H31: ישראל | I31: TASE | J31: RF | K31: פנימי | L31: ILS | M31: 17.434 | N31: 29/11/2052 | O31: 0.028 | P31: 0.04304 | R31: 7526890 | S31: 1 | T31: 78.16 | U31: 5883.017 | W31: שווי הוגן | X31: 0.000209 | Y31: 0.030018044 | Z31: 0.014193141
... A146: 1035 | B146: 9939 | C146: US Govt | D146: T 3 3/4 06/30/27 | E146: US91282CNL18 | F146: נקוב במט"ח | G146: חו"ל | H146: ארה"ב | I146: FOREIGN_GOV_SEC | J146: Aa1 | K146: Moodys | L146: USD | M146: 0.000 | N146: 30/06/2027 | O146: 0.0375 | P146: 0 | R146: 3425000 | S146: 2.978 | T146: 99.668 | U146: 10165.757 | W146: שווי הוגן | X146: 4.5e-05 | Y146: 0.0061950159 | Z146: 0.0025811417
A147: 1035 | B147: 9939 | C147: US Govt | D147: TREASURY BILL 07/09/26 | E147: US912797RF64 | F147: נקוב במט"ח | G147: חו"ל | H147: ארה"ב | I147: FOREIGN_GOV_SEC | J147: Aa1 | K147: Moodys | L147: USD | M147: 0.103 | N147: 07/09/2026 | O147: 0 | P147: 0.03689 | Q147: 6171 | R147: 0 | S147: 2.978 | T147: 0 | U147: 18377.238 | W147: שווי הוגן | X147: 0 | Y147: 0.011199096 | Z147: 0.0046660821
A148: 1035 | B148: 9939 | C148: מדינת ישראל | D148: ISRAEL 5 01/13/36 | E148: US46515CJZ86 | F148: נקוב במט"ח | G148: חו"ל | H148: ישראל | I148: אחר | J148: Baa1 | K148: Moodys | L148: USD | M148: 7.489 | N148: 13/01/2036 | O148: 0.05 | P148: 0.05317 | R148: 1018000 | S148: 2.978 | T148: 99.741 | U148: 3023.763 | W148: שווי הוגן | X148: 0.000509 | Y148: 0.0018426825 | Z148: 0.0007677502
A149: 1035 | B149: 9939 | C149: מדינת ישראל | D149: ISRAEL 5 7/8 01/13/56 | E149: US46515CKR42 | F149: נקוב במט"ח | G149: חו"ל | H149: ישראל | I149: אחר | J149: Baa1 | K149: Moodys | L149: USD | M149: 13.723 | N149: 13/01/2056 | O149: 0.05875 | P149: 0.0609 | R149: 473000 | S149: 2.978 | T149: 99.583 | U149: 1402.724 | W149: שווי הוגן | X149: 0.00027 | Y149: 0.00085482049 | Z149: 0.00035615934
A150: 1035 | B150: 9939 | C150: מדינת ישראל | D150: ISRAEL 4 1/2 13/01/2031 | E150: US46515CJY12 | F150: נקוב במט"ח | G150: חו"ל | H150: ישראל | I150: אחר | J150: Baa1 | K150: Moodys | L150: USD | M150: 4.059 | N150: 13/01/2031 | O150: 0.045 | P150: 0.05025 | R150: 26000 | S150: 2.978 | T150: 99.919 | U150: 77.365 | W150: שווי הוגן | X150: 1.2e-05 | Y150: 4.7146433e-05 | Z150: 1.9643472e-05
A151: 1035 | B151: 9939 | C151: US Govt | D151: T 1 1/8 02/28/27 | E151: US912828ZB95 | F151: נקוב במט"ח | G151: חו"ל | H151: ארה"ב | I151: FOREIGN_GOV_SEC | J151: Aa1 | K151: Moodys | L151: USD | M151: 0.663 | N151: 28/02/2027 | O151: 0.01125 | P151: 0.04 | R151: 10580000 | S151: 2.978 | T151: 98.513 | U151: 31038.767 | W151: שווי הוגן | X151: 0.000288 | Y151: 0.018915037 | Z151: 0.0078809143
A152: 1035 | B152: 9940 | C152: מדינת ישראל | D152: ממשלתי שקלית 0142 | E152: IL0011254005 | F152: לא צמוד למדד המחירים לצרכן ריבית קבועה | G152: ישראל | H152: ישראל | I152: TASE | J152: RF | K152: פנימי | L152: ILS | M152: 11.060 | N152: 31/01/2042 | O152: 0.055 | P152: 0.03945 | R152: 140079219 | S152: 1 | T152: 120.13 | U152: 168277.17 | W152: שווי הוגן | X152: 0.003804 | Y152: 0.034822653 | Z152: 0.013613169
A153: 1035 | B153: 9940 | C153: מדינת ישראל | D153: ממשל שקלית 0327 | E153: IL0011393449 | F153: לא צמוד למדד המחירים לצרכן ריבית קבועה | G153: ישראל | H153: ישראל | I153: TASE | J153: RF | K153: פנימי | L153: ILS | M153: 0.745 | N153: 31/03/2027 | O153: 0.02 | P153: 0.03205 | R153: 67353590 | S153: 1 | T153: 99.63 | U153: 67104.382 | W153: שווי הוגן | X153: 0.002386 | Y153: 0.013886332 | Z153: 0.0054285637
A154: 1035 | B154: 9940 | C154: מדינת ישראל | D154: ממשל שקלית 0347 | E154: IL0011401937 | F154: לא צמוד למדד המחירים לצרכן ריבית קבועה | G154: ישראל | H154: ישראל | I154: TASE | J154: RF | K154: פנימי | L154: ILS | M154: 14.459 | N154: 31/03/2047 | O154: 0.0375 | P154: 0.04131 | R154: 60099296 | S154: 1 | T154: 95.7 | U154: 57515.026 | W154: שווי הוגן | X154: 0.002137 | Y154: 0.011901946 | Z154: 0.0046528106
A155: 1035 | B155: 9940 | C155: מדינת ישראל | D155: ממשל צמודה 0527 | E155: IL0011408478 | F155: צמוד למדד המחירים לצרכן בריבית קבועה | G155: ישראל | H155: ישראל | I155: TASE | J155: RF | K155: פנימי | L155: ILS | M155: 0.912 | N155: 31/05/2027 | O155: 0.0075 | P155: 0.01726 | R155: 141345691 | S155: 1 | T155: 119.65 | U155: 169120.12 | W155: שווי הוגן | X155: 0.005803 | Y155: 0.03499709 | Z155: 0.013681362
A156: 1035 | B156: 9940 | C156: מדינת ישראל | D156: ממשל שיקלית 0928 | E156: IL0011508798 | F156: לא צמוד למדד המחירים לצרכן ריבית קבועה | G156: ישראל | H156: ישראל | I156: TASE | J156: RF | K156: פנימי | L156: ILS | M156: 2.177 | N156: 28/09/2028 | O156: 0.0225 | P156: 0.03278 | R156: 59253027 | S156: 1 | T156: 99.5 | U156: 58956.762 | W156: שווי הוגן | X156: 0.001707 | Y156: 0.012200294 | Z156: 0.0047694432
A157: 1035 | B157: 9940 | C157: מדינת ישראל | D157: ממשלתית צמודה 0.5% 0529 | E157: IL0011570236 | F157: צמוד למדד המחירים לצרכן בריבית קבועה | G157: ישראל | H157: ישראל | I157: TASE | J157: RF | K157: פנימי | L157: ILS | M157: 2.900 | N157: 31/05/2029 | O157: 0.005 | P157: 0.01631 | R157: 82461420 | S157: 1 | T157: 115.67 | U157: 95383.125 | W157: שווי הוגן | X157: 0.002488 | Y157: 0.01973823 | Z157: 0.0077162378
A158: 1035 | B158: 9940 | C158: מדינת ישראל | D158: ממשלתית שקלית 1.00% 03/30 | E158: IL0011609851 | F158: לא צמוד למדד המחירים לצרכן ריבית קבועה | G158: ישראל | H158: ישראל | I158: TASE | J158: RF | K158: פנימי | L158: ILS | M158: 3.686 | N158: 31/03/2030 | O158: 0.01 | P158: 0.0336 | R158: 32887954 | S158: 1 | T158: 92.07 | U158: 30279.939 | W158: שווי הוגן | X158: 0.000871 | Y158: 0.0062660184 | Z158: 0.0024495655
...

Sheet ניירות ערך מסחריים
A1: מספר קופה/קרן/ח.פ. עבור חברת ביטוח | B1: מספר מסלול | C1: שם מנפיק | D1: מספר מנפיק | E1: סוג מספר מזהה מנפיק | F1: שם נייר ערך | G1: מספר נייר ערך | H1: סוג מספר נייר ערך | I1: מאפיין עיקרי | J1: ישראל/חו"ל | K1: מדינה לפי חשיפה כלכלית | L1: זירת מסחר | M1: ענף מסחר | N1: בעל עניין/צד קשור | O1: דירוג | P1: שם מדרג | Q1: דירוג נייר הערך/המנפיק | R1: מטבע פעילות | S1: מח"מ | T1: ריבית עוגן | U1: מועד פדיון | V1: שיעור ריבית | W1: תשואה לפדיון | X1: נחיתות חוזית | Y1: האם סווג כחוב בעייתי | Z1: ערך נקוב (יחידות) | AA1: שער חליפין | AB1: שער נייר הערך | AC1: סכום לקבל (במטבע הפעילות) | AD1: שווי הוגן (באלפי ש"ח) | AE1: עלות מופחתת (באלפי ש"ח) | AF1: עלות מופחתת (במטבע הפעילות) | AG1: השיטה שיושמה בדוח הכספי | AH1: שיעור מערך נקוב מונפק | AI1: שיעור מנכסי אפיק ההשקעה | AJ1: שיעור מסך נכסי ההשקעה

Sheet איגרות חוב
A1: מספר קופה/קרן/ח.פ. עבור חברת ביטוח | B1: מספר מסלול | C1: שם מנפיק | D1: מספר מנפיק | E1: סוג מספר מזהה מנפיק | F1: שם נייר ערך | G1: מספר נייר ערך | H1: סוג מספר נייר ערך | I1: מאפיין עיקרי | J1: ישראל/חו"ל | K1: מדינה לפי חשיפה כלכלית | L1: סטאטוס סחירות | M1: זירת מסחר | N1: ענף מסחר | O1: בעל עניין/צד קשור | P1: דירוג | Q1: שם מדרג | R1: דירוג נייר הערך/המנפיק | S1: מטבע פעילות | T1: מח"מ | U1: מועד פדיון | V1: שיעור ריבית | W1: תשואה לפדיון | X1: נחיתות חוזית | Y1: האם סווג כחוב בעייתי | Z1: ערך נקוב (יחידות) | AA1: שער חליפין | AB1: שער נייר הערך | AC1: סכום לקבל (במטבע הפעילות) | AD1: שווי הוגן (באלפי ש"ח) | AE1: עלות מופחתת (באלפי ש"ח) | AF1: עלות מופחתת (במטבע הפעילות) | AG1: השיטה שיושמה בדוח הכספי | AH1: שיעור מערך נקוב מונפק | AI1: שיעור מנכסי אפיק ההשקעה | AJ1: שיעור מסך נכסי ההשקעה
A2: 1035 | B2: 1036 | C2: פלאזה סנטרס | D2: 33248324 | E2: מספר תאגיד או שותפות בחו"ל | F2: פלאזה סנטרס אגח א | G2: IL0011094955 | H2: ISIN | I2: צמוד למדד המחירים לצרכן | J2: ישראל | K2: ישראל | L2: סחיר | M2: TASE | N2: בנייה | O2: לא | P2: NR | Q2: NR | R2: NR | S2: ILS | T2: NA | U2: 01/07/2026 | V2: 0.06 | W2: 0.0001 | X2: החוב לא נחות | Z2: 1498817.5 | AA2: 1 | AB2: 1.97 | AD2: 29.527 | AG2: שווי הוגן | AH2: 0.012728 | AI2: 0.00079295934 | AJ2: 4.7074326e-06
A3: 1035 | B3: 1036 | C3: פלאזה סנטרס | D3: 33248324 | E3: מספר תאגיד או שותפות בחו"ל | F3: פלאזה סנטרס אגח ב | G3: IL0011095036 | H3: ISIN | I3: צמוד למדד המחירים לצרכן | J3: ישראל | K3: ישראל | L3: סחיר | M3: TASE | N3: בנייה | O3: לא | P3: NR | Q3: NR | R3: NR | S3: ILS | T3: NA | U3: 01/07/2026 | V3: 0.069 | W3: 0.0001 | X3: החוב לא נחות | Z3: 421512.41 | AA3: 1 | AB3: 2.21 | AD3: 9.315 | AG3: שווי הוגן | AH3: 0.00244 | AI3: 0.00025017193 | AJ3: 1.4851549e-06
A4: 1035 | B4: 1036 | C4: קרדן אן.וי. | D4: 1239114 | E4: מספר תאגיד או שותפות בחו"ל | F4: קרדן אן וי אגח ב ( שימור | G4: IL0011130346 | H4: ISIN | I4: צמוד למדד המחירים לצרכן | J4: ישראל | K4: ישראל | L4: סחיר | M4: TASE | N4: השקעה ואחזקות | O4: לא | P4: NR | Q4: NR | R4: NR | S4: ILS | T4: NA | U4: 31/12/2026 | V4: 0.068 | W4: 0.0001 | X4: החוב לא נחות | Z4: 31656.14 | AA4: 1 | AB4: 27.5 | AD4: 8.705 | AG4: שווי הוגן | AH4: 7e-05 | AI4: 0.00023379035 | AJ4: 1.3879051e-06
A5: 1035 | B5: 1036 | C5: פריים אנרג'י פי.אי בע"מ | D5: 514902147 | E5: ח.פ. | F5: פריים אנרג'י אגח ב | G5: IL0011846628 | H5: ISIN | I5: צמוד למדד המחירים לצרכן | J5: ישראל | K5: ישראל | L5: סחיר | M5: TASE | N5: אנרגיה מתחדשת | O5: לא | P5: NR | Q5: NR | R5: NR | S5: ILS | T5: 1.558 | U5: 30/06/2028 | V5: 0.04 | W5: 0.0399 | X5: החוב לא נחות | Z5: 45961.56 | AA5: 1 | AB5: 116.28 | AD5: 53.444 | AG5: שווי הוגן | AH5: 0.000991 | AI5: 0.001435277 | AJ5: 8.5205751e-06
A6: 1035 | B6: 1036 | C6: מפעלים פטרוכימיים בישראל בע"מ | D6: 520029315 | E6: ח.פ. | F6: פטרוכימים אגח י | G6: IL0011902975 | H6: ISIN | I6: לא צמוד למדד המחירים לצרכן | J6: ישראל | K6: ישראל | L6: סחיר | M6: TASE | N6: אנרגיה | O6: לא | P6: NR | Q6: NR | R6: NR | S6: ILS | T6: 1.082 | U6: 01/08/2027 | V6: 0.1054 | W6: -0.12512 | X6: החוב לא נחות | Z6: 1336235 | AA6: 1 | AB6: 175.01 | AD6: 2338.545 | AG6: שווי הוגן | AH6: 0.008966 | AI6: 0.062803182 | AJ6: 0.00037283342
A7: 1035 | B7: 1036 | C7: כלל החזקות עסקי ביטוח בע"מ | D7: 520036120 | E7: ח.פ. | F7: כלל ביטוח אג ב | G7: IL0011934994 | H7: ISIN | I7: אג"ח להמרה לא צמוד למדד המחירים לצרכן | J7: ישראל | K7: ישראל | L7: סחיר | M7: TASE | N7: ביטוח | O7: לא | P7: AA- | Q7: S&P מעלות | R7: נייר ערך | S7: ILS | T7: 0.592 | U7: 28/02/2028 | V7: 0.028 | W7: -0.44005 | X7: החוב לא נחות | Z7: 1710223 | AA7: 1 | AB7: 291.3 | AD7: 4981.88 | AG7: שווי הוגן | AH7: 0.019663 | AI7: 0.1337917 | AJ7: 0.00079425938
A8: 1035 | B8: 1036 | C8: איסתא בע"מ | D8: 520042763 | E8: ח.פ. | F8: איסתא אגח א להמרה | G8: IL0011971285 | H8: ISIN | I8: אג"ח להמרה לא צמוד למדד המחירים לצרכן | J8: ישראל | K8: ישראל | L8: סחיר | M8: TASE | N8: מלונאות ותיירות | O8: לא | P8: NR | Q8: NR | R8: NR | S8: ILS | T8: 1.932 | U8: 30/06/2028 | V8: 0.0485 | W8: -0.01523 | X8: החוב לא נחות | Z8: 2150995 | AA8: 1 | AB8: 113 | AD8: 2430.624 | AG8: שווי הוגן | AH8: 0.00717 | AI8: 0.065276037 | AJ8: 0.00038751362
A9: 1035 | B9: 1036 | C9: ג'י סיטי בע"מ | D9: 520033234 | E9: ח.פ. | F9: ג'י סיטי אג יז | G9: IL0011981425 | H9: ISIN | I9: אג"ח להמרה לא צמוד למדד המחירים לצרכן | J9: ישראל | K9: גלובלי | L9: סחיר | M9: TASE | N9: נדל"ן מניב בחו"ל | O9: לא | P9: A- | Q9: S&P מעלות | R9: נייר ערך | S9: ILS | T9: 2.849 | U9: 01/07/2029 | V9: 0.055 | W9: 0.03987 | X9: החוב לא נחות | Z9: 8850666.9 | AA9: 1 | AB9: 104.2 | AD9: 9222.395 | AG9: שווי הוגן | AH9: 0.017144 | AI9: 0.24767356 | AJ9: 0.0014703233
A10: 1035 | B10: 1036 | C10: סולאיר אנרגיות מתחדשות בע"מ | D10: 516046307 | E10: ח.פ. | F10: סולאיר ב | G10: IL0012148321 | H10: ISIN | I10: צמוד למדד המחירים לצרכן | J10: ישראל | K10: ישראל | L10: סחיר | M10: TASE | N10: אנרגיה מתחדשת | O10: לא | P10: NR | Q10: NR | R10: NR | S10: ILS | T10: 3.161 | U10: 30/06/2030 | V10: 0.049 | W10: 0.03943 | X10: החוב לא נחות | Z10: 303546 | AA10: 1 | AB10: 106.79 | AD10: 324.157 | AG10: שווי הוגן | AH10: 0.000434 | AI10: 0.0087054462 | AJ10: 5.1680204e-05
A11: 1035 | B11: 1036 | C11: אנלייט אנרגיה מתחדשת בע"מ | D11: 520041146 | E11: ח.פ. | F11: אנלייט אג ח | G11: IL0012181306 | H11: ISIN | I11: אג"ח להמרה לא צמוד למדד המחירים לצרכן | J11: ישראל | K11: ישראל | L11: סחיר | M11: TASE | N11: אנרגיה מתחדשת | O11: לא | P11: A | Q11: S&P מעלות | R11: נייר ערך | S11: ILS | T11: 5.605 | U11: 01/09/2033 | V11: 0.04 | W11: -0.16717 | X11: החוב לא נחות | Z11: 2275000 | AA11: 1 | AB11: 332.5 | AD11: 7564.375 | AG11: שווי הוגן | AH11: 0.005745 | AI11: 0.20314633 | AJ11: 0.0012059857
A12: 1035 | B12: 1036 | C12: הפניקס אחזקות בע"מ | D12: 520017450 | E12: ח.פ. | F12: הפניקס 7 | G12: IL0012346321 | H12: ISIN | I12: אג"ח להמרה לא צמוד למדד המחירים לצרכן | J12: ישראל | K12: ישראל | L12: סחיר | M12: TASE | N12: ביטוח | O12: לא | P12: AA | Q12: S&P מעלות | R12: נייר ערך | S12: ILS | T12: 1.963 | U12: 30/06/2028 | V12: 0.025 | W12: -0.02748 | X12: החוב לא נחות | Z12: 1839462 | AA12: 1 | AB12: 110.9 | AD12: 2039.963 | AG12: שווי הוגן | AH12: 0.004654 | AI12: 0.054784576 | AJ12: 0.00032523067
A13: 1035 | B13: 1036 | C13: מטריקס אי.טי בע"מ | D13: 520039413 | E13: ח.פ. | F13: מטריקס 2 0.5% 01.02.31 | G13: IL0012359696 | H13: ISIN | I13: אג"ח להמרה לא צמוד למדד המחירים לצרכן | J13: ישראל | K13: ישראל | L13: סחיר | M13: TASE | N13: שרותי מידע | O13: לא | P13: Aa2 | Q13: מידרוג Moodys | R13: נייר ערך | S13: ILS | T13: 4.531 | U13: 01/02/2031 | V13: 0.005 | W13: 0.03265 | X13: החוב לא נחות | Z13: 1148780 | AA13: 1 | AB13: 88.6 | AD13: 1017.819 | AG13: שווי הוגן | AH13: 0.003868 | AI13: 0.02733421 | AJ13: 0.00016227055
... A21: 1035 | B21: 1037 | C21: ריט 1 בע"מ | D21: 513821488 | E21: ח.פ. | F21: ריט 1 אגח ו | G21: IL0011385445 | H21: ISIN | I21: צמוד למדד המחירים לצרכן | J21: ישראל | K21: ישראל | L21: סחיר | M21: TASE | N21: נדל"ן מניב בישראל | O21: לא | P21: AA | Q21: S&P מעלות | R21: נייר ערך | S21: ILS | T21: 2.582 | U21: 21/09/2031 | V21: 0.035 | W21: 0.02395 | X21: החוב לא נחות | Z21: 1295333.7 | AA21: 1 | AB21: 125.94 | AD21: 1631.343 | AG21: שווי הוגן | AH21: 0.001915 | AI21: 0.013588738 | AJ21: 0.0039357161
A22: 1035 | B22: 1037 | C22: קבוצת עזריאלי בע"מ (לשעבר קנית מימון) | D22: 510960719 | E22: ח.פ. | F22: עזריאלי אגח ד | G22: IL0011386500 | H22: ISIN | I22: צמוד למדד המחירים לצרכן | J22: ישראל | K22: ישראל | L22: סחיר | M22: TASE | N22: נדל"ן מניב בישראל | O22: לא | P22: AA+ | Q22: S&P מעלות | R22: נייר ערך | S22: ILS | T22: 2.215 | U22: 05/07/2030 | V22: 0.0134 | W22: 0.02307 | X22: החוב לא נחות | Z22: 888708.1 | AA22: 1 | AB22: 118.34 | AC22: 142.371 | AD22: 1194.068 | AG22: שווי הוגן | AH22: 0.000503 | AI22: 0.0099463294 | AJ22: 0.0028807625
A23: 1035 | B23: 1037 | C23: סלע קפיטל נדל"ן בע"מ | D23: 513992529 | E23: ח.פ. | F23: סלע נדלן אגח ג | G23: IL0011389736 | H23: ISIN | I23: צמוד למדד המחירים לצרכן | J23: ישראל | K23: ישראל | L23: סחיר | M23: TASE | N23: נדל"ן מניב בישראל | O23: לא | P23: Aa3 | Q23: מידרוג Moodys | R23: נייר ערך | S23: ILS | T23: 1.745 | U23: 13/04/2029 | V23: 0.0196 | W23: 0.02404 | X23: החוב לא נחות | Z23: 480056.75 | AA23: 1 | AB23: 119.64 | AD23: 574.34 | AG23: שווי הוגן | AH23: 0.000559 | AI23: 0.0047841277 | AJ23: 0.0013856303
A24: 1035 | B24: 1037 | C24: סלקום ישראל בע"מ | D24: 511930125 | E24: ח.פ. | F24: סלקום אגח יא | G24: IL0011392524 | H24: ISIN | I24: לא צמוד למדד המחירים לצרכן | J24: ישראל | K24: ישראל | L24: סחיר | M24: TASE | N24: תקשורת ומדיה | O24: לא | P24: AA- | Q24: S&P מעלות | R24: נייר ערך | S24: ILS | T24: 0.008 | U24: 05/07/2026 | V24: 0.0355 | W24: 0.12033 | X24: החוב לא נחות | Z24: 296090.5 | AA24: 1 | AB24: 101.68 | AD24: 301.065 | AG24: שווי הוגן | AH24: 0.002083 | AI24: 0.0025078051 | AJ24: 0.0007263374
A25: 1035 | B25: 1037 | C25: לוינשטיין נכסים | D25: 511134298 | E25: ח.פ. | F25: לוינשט נכ אגח ב | G25: IL0011397168 | H25: ISIN | I25: צמוד למדד המחירים לצרכן | J25: ישראל | K25: ישראל | L25: סחיר | M25: TASE | N25: נדל"ן מניב בישראל | O25: לא | P25: A+ | Q25: S&P מעלות | R25: נייר ערך | S25: ILS | T25: 0.988 | U25: 31/12/2027 | V25: 0.023 | W25: 0.03066 | X25: החוב לא נחות | Z25: 184794 | AA25: 1 | AB25: 119.88 | AD25: 221.531 | AG25: שווי הוגן | AH25: 0.004911 | AI25: 0.0018453059 | AJ25: 0.00053445728
A26: 1035 | B26: 1037 | C26: רבוע כחול נדל"ן בע"מ | D26: 513765859 | E26: ח.פ. | F26: רבוע נדלן אגח ו | G26: IL0011406076 | H26: ISIN | I26: צמוד למדד המחירים לצרכן | J26: ישראל | K26: ישראל | L26: סחיר | M26: TASE | N26: נדל"ן מניב בישראל | O26: לא | P26: AA | Q26: S&P מעלות | R26: נייר ערך | S26: ILS | T26: 0.414 | U26: 30/11/2026 | V26: 0.0215 | W26: 0.03508 | X26: החוב לא נחות | Z26: 304249.5 | AA26: 1 | AB26: 120.56 | AD26: 366.803 | AG26: שווי הוגן | AH26: 0.000434 | AI26: 0.0030553917 | AJ26: 0.00088493528
A27: 1035 | B27: 1037 | C27: רבוע כחול נדל"ן בע"מ | D27: 513765859 | E27: ח.פ. | F27: רבוע נדלן אגח ז | G27: IL0011406159 | H27: ISIN | I27: צמוד למדד המחירים לצרכן | J27: ישראל | K27: ישראל | L27: סחיר | M27: TASE | N27: נדל"ן מניב בישראל | O27: לא | P27: AA | Q27: S&P מעלות | R27: נייר ערך | S27: ILS | T27: 0.414 | U27: 30/11/2026 | V27: 0.016 | W27: 0.03616 | X27: החוב לא נחות | Z27: 266723.02 | AA27: 1 | AB27: 120.18 | AD27: 320.548 | AG27: שווי הוגן | AH27: 0.001838 | AI27: 0.0026700935 | AJ27: 0.00077334111
A28: 1035 | B28: 1037 | C28: ביג מרכזי קניות (2004) בע"מ | D28: 513623314 | E28: ח.פ. | F28: ביג אג"ח ט' | G28: IL0011410508 | H28: ISIN | I28: צמוד למדד המחירים לצרכן | J28: ישראל | K28: ישראל | L28: סחיר | M28: TASE | N28: נדל"ן מניב בישראל | O28: לא | P28: AA- | Q28: S&P מעלות | R28: נייר ערך | S28: ILS | T28: 0.468 | U28: 20/12/2026 | V28: 0.0195 | W28: 0.0383 | X28: החוב לא נחות | Z28: 410405 | AA28: 1 | AB28: 119.44 | AD28: 490.188 | AG28: שווי הוגן | AH28: 0.002437 | AI28: 0.0040831583 | AJ28: 0.0011826081
A29: 1035 | B29: 1037 | C29: תמר פטרוליום בעמ | D29: 515334662 | E29: ח.פ. | F29: תמר פטרוליום אגח א | G29: IL0011413320 | H29: ISIN | I29: צמוד למט"ח | J29: ישראל | K29: ישראל | L29: סחיר | M29: TASE | N29: חיפושי נפט וגז | O29: לא | P29: A1 | Q29: מידרוג Moodys | R29: נייר ערך | S29: ILS | T29: 1.771 | U29: 30/08/2028 | V29: 0.0469 | W29: 0.0534 | X29: החוב לא נחות | Z29: 1278144.6 | AA29: 1 | AB29: 85.05 | AD29: 1087.062 | AG29: שווי הוגן | AH29: 0.000946 | AI29: 0.0090549925 | AJ29: 0.002622604
A30: 1035 | B30: 1037 | C30: קרסו מוטורס בע"מ | D30: 514065283 | E30: ח.פ. | F30: קרסו מוטורס אגח ג | G30: IL0011418295 | H30: ISIN | I30: לא צמוד למדד המחירים לצרכן | J30: ישראל | K30: ישראל | L30: סחיר | M30: TASE | N30: מסחר | O30: לא | P30: AA- | Q30: S&P מעלות | R30: נייר ערך | S30: ILS | T30: 0.655 | U30: 01/09/2027 | V30: 0.023 | W30: 0.03886 | X30: החוב לא נחות | Z30: 1227959 | AA30: 1 | AB30: 99.76 | AD30: 1225.012 | AG30: שווי הוגן | AH30: 0.00149 | AI30: 0.010204085 | AJ30: 0.0029554166
A31: 1035 | B31: 1037 | C31: אפי נכסים בע"מ | D31: 510560188 | E31: ח.פ. | F31: אפי נכסים אגח 8 | G31: IL0011422313 | H31: ISIN | I31: צמוד למדד המחירים לצרכן | J31: ישראל | K31: ישראל | L31: סחיר | M31: TASE | N31: נדל"ן מניב בחו"ל | O31: לא | P31: A+ | Q31: S&P מעלות | R31: נייר ערך | S31: ILS | T31: 0.288 | U31: 15/10/2026 | V31: 0.0257 | W31: 0.03304 | X31: החוב לא נחות | Z31: 913977.71 | AA31: 1 | AB31: 120.8 | AD31: 1104.085 | AG31: שווי הוגן | AH31: 0.001101 | AI31: 0.0091967909 | AJ31: 0.0026636732
A32: 1035 | B32: 1037 | C32: סלקום ישראל בע"מ | D32: 511930125 | E32: ח.פ. | F32: סלקום אגח יב | G32: IL0011430803 | H32: ISIN | I32: לא צמוד למדד המחירים לצרכן | J32: ישראל | K32: ישראל | L32: סחיר | M32: TASE | N32: תקשורת ומדיה | O32: לא | P32: AA- | Q32: S&P מעלות | R32: נייר ערך | S32: ILS | T32: 0.997 | U32: 05/01/2028 | V32: 0.025 | W32: 0.039 | X32: החוב לא נחות | Z32: 100819 | AA32: 1 | AB32: 99.85 | AD32: 100.668 | AG32: שווי הוגן | AH32: 0.00019 | AI32: 0.00083854086 | AJ32: 0.00024286719
A33: 1035 | B33: 1037 | C33: מישורים השקעות נדלן בעמ | D33: 511491839 | E33: ח.פ. | F33: מישורים אגח ח | G33: IL0011431637 | H33: ISIN | I33: צמוד למדד המחירים לצרכן | J33: ישראל | K33: ישראל | L33: סחיר | M33: TASE | N33: נדל"ן מניב בחו"ל | O33: לא | P33: BBB+ | Q33: S&P מעלות | R33: נייר ערך | S33: ILS | T33: 0.079 | U33: 31/07/2026 | V33: 0.03 | W33: 0.21599 | X33: החוב לא נחות | Z33: 712855 | AA33: 1 | AB33: 120.19 | AD33: 856.78 | AG33: שווי הוגן | AH33: 0.017486 | AI33: 0.0071367964 | AJ33: 0.0020670355
A34: 1035 | B34: 1037 | C34: אוריין ש.מ. בע"מ | D34: 511068256 | E34: ח.פ. | F34: אוריין אגח ב | G34: IL0011433799 | H34: ISIN | I34: לא צמוד למדד המחירים לצרכן | J34: ישראל | K34: ישראל | L34: סחיר | M34: TASE | N34: שרותים | O34: לא | P34: A- | Q34: S&P מעלות | R34: נייר ערך | S34: ILS | T34: 0.499 | U34: 31/12/2026 | V34: 0.0325 | W34: 0.03389 | X34: החוב לא נחות | Z34: 235878.91 | AA34: 1 | AB34: 99.95 | AD34: 235.761 | AG34: שווי הוגן | AH34: 0.010813 | AI34: 0.0019638381 | AJ34: 0.00056878785
... A48: 1035 | B48: 1037 | C48: יוניברסל מוטורס ישראל בע"מ | D48: 511809071 | E48: ח.פ. | F48: יוניברסל אגח ג | G48: IL0011606709 | H48: ISIN | I48: צמוד למדד המחירים לצרכן | J48: ישראל | K48: ישראל | L48: סחיר | M48: TASE | N48: מסחר | O48: לא | P48: AA- | Q48: S&P מעלות | R48: נייר ערך | S48: ILS | T48: 0.602 | U48: 10/08/2027 | V48: 0.0105 | W48: 0.03792 | X48: החוב לא נחות | Z48: 410657.22 | AA48: 1 | AB48: 116.65 | AD48: 479.032 | AG48: שווי הוגן | AH48: 0.001794 | AI48: 0.0039902305 | AJ48: 0.0011556933
A49: 1035 | B49: 1037 | C49: ויקטורי רשת סופרמרקטים בע"מ | D49: 514068980 | E49: ח.פ. | F49: ויקטורי אגח ב | G49: IL0011614885 | H49: ISIN | I49: לא צמוד למדד המחירים לצרכן | J49: ישראל | K49: ישראל | L49: סחיר | M49: TASE | N49: רשתות שיווק | O49: לא | P49: A2 | Q49: מידרוג Moodys | R49: נייר ערך | S49: ILS | T49: 0.005 | U49: 02/07/2026 | V49: 0.015 | W49: 0.09482 | X49: החוב לא נחות | Z49: 0 | AA49: 1 | AB49: 0 | AC49: 96.571 | AD49: 96.571 | AG49: שווי הוגן | AH49: 0 | AI49: 0.0008044118 | AJ49: 0.00023298237
A50: 1035 | B50: 1037 | C50: אלדן תחבורה בע"מ | D50: 510454333 | E50: ח.פ. | F50: אלדן אגח ו | G50: IL0011616781 | H50: ISIN | I50: לא צמוד למדד המחירים לצרכן | J50: ישראל | K50: ישראל | L50: סחיר | M50: TASE | N50: שרותים | O50: לא | P50: A+ | Q50: S&P מעלות | R50: נייר ערך | S50: ILS | T50: 0.496 | U50: 30/12/2026 | V50: 0.028 | W50: 0.04928 | X50: החוב לא נחות | Z50: 76301.09 | AA50: 1 | AB50: 99.01 | AD50: 75.546 | AG50: שווי הוגן | AH50: 0.000882 | AI50: 0.00062927949 | AJ50: 0.00018225867
A51: 1035 | B51: 1037 | C51: אנרג'יקס אנרגיות מתחדשות בע"מ | D51: 513901371 | E51: ח.פ. | F51: אנרג'יקס אגח א | G51: IL0011617516 | H51: ISIN | I51: לא צמוד למדד המחירים לצרכן | J51: ישראל | K51: ישראל | L51: סחיר | M51: TASE | N51: אנרגיה מתחדשת | O51: לא | P51: A | Q51: S&P מעלות | R51: נייר ערך | S51: ILS | T51: 1.987 | U51: 01/08/2030 | V51: 0.0205 | W51: 0.04089 | X51: החוב לא נחות | Z51: 32333.84 | AA51: 1 | AB51: 96.95 | AD51: 31.348 | AG51: שווי הוגן | AH51: 4.1e-05 | AI51: 0.00026111924 | AJ51: 7.5628154e-05
A52: 1035 | B52: 1037 | C52: אפריקה ישראל מגורים בע"מ | D52: 520034760 | E52: ח.פ. | F52: אפריקה מגורים אגח ה | G52: IL0011628257 | H52: ISIN | I52: לא צמוד למדד המחירים לצרכן | J52: ישראל | K52: ישראל | L52: סחיר | M52: TASE | N52: בנייה | O52: לא | P52: A1 | Q52: מידרוג Moodys | R52: נייר ערך | S52: ILS | T52: 0.739 | U52: 31/03/2027 | V52: 0.024 | W52: 0.0392 | X52: החוב לא נחות | Z52: 432148.5 | AA52: 1 | AB52: 99.53 | AD52: 430.117 | AG52: שווי הוגן | AH52: 0.004034 | AI52: 0.0035827853 | AJ52: 0.0010376847
A53: 1035 | B53: 1037 | C53: מגה אור החזקות בע"מ | D53: 513257873 | E53: ח.פ. | F53: מגה אור אגח ט | G53: IL0011651416 | H53: ISIN | I53: צמוד למדד המחירים לצרכן | J53: ישראל | K53: ישראל | L53: סחיר | M53: TASE | N53: נדל"ן מניב בישראל | O53: לא | P53: AA | Q53: S&P מעלות | R53: נייר ערך | S53: ILS | T53: 2.617 | U53: 28/02/2030 | V53: 0.0084 | W53: 0.02375 | X53: החוב לא נחות | Z53: 309330 | AA53: 1 | AB53: 114.78 | AD53: 355.049 | AG53: שווי הוגן | AH53: 0.000214 | AI53: 0.0029574815 | AJ53: 0.0008565775
A54: 1035 | B54: 1037 | C54: סלע קפיטל נדל"ן בע"מ | D54: 513992529 | E54: ח.פ. | F54: סלע נדלן אגח ד | G54: IL0011671471 | H54: ISIN | I54: צמוד למדד המחירים לצרכן | J54: ישראל | K54: ישראל | L54: סחיר | M54: TASE | N54: נדל"ן מניב בישראל | O54: לא | P54: Aa3 | Q54: מידרוג Moodys | R54: נייר ערך | S54: ILS | T54: 5.003 | U54: 27/03/2033 | V54: 0.0158 | W54: 0.02472 | X54: החוב לא נחות | Z54: 1314082.6 | AA54: 1 | AB54: 114.82 | AD54: 1508.83 | AG54: שווי הוגן | AH54: 0.001192 | AI54: 0.012568226 | AJ54: 0.0036401445
A55: 1035 | B55: 1037 | C55: אנרג'יקס אנרגיות מתחדשות בע"מ | D55: 513901371 | E55: ח.פ. | F55: אנרג'יקס ב 0.25% | G55: IL0011684839 | H55: ISIN | I55: אג"ח להמרה לא צמוד למדד המחירים לצרכן | J55: ישראל | K55: גלובלי | L55: סחיר | M55: TASE | N55: אנרגיה מתחדשת | O55: לא | P55: A | Q55: S&P מעלות | R55: נייר ערך | S55: ILS | T55: 1.080 | U55: 01/08/2027 | V55: 0.00125 | W55: 0.04312 | X55: החוב לא נחות | Z55: 1438614 | AA55: 1 | AB55: 95.9 | AD55: 1379.631 | AG55: שווי הוגן | AH55: 0.002539 | AI55: 0.011492028 | AJ55: 0.0033284443
A56: 1035 | B56: 1037 | C56: אלון רבוע כחול ישראל בעמ | D56: 520042847 | E56: ח.פ. | F56: אלון רבוע כחול אגח ו | G56: IL0011691271 | H56: ISIN | I56: לא צמוד למדד המחירים לצרכן | J56: ישראל | K56: ישראל | L56: סחיר | M56: TASE | N56: השקעה ואחזקות | O56: לא | P56: AA- | Q56: S&P מעלות | R56: נייר ערך | S56: ILS | T56: 0.247 | U56: 30/09/2026 | V56: 0.039 | W56: 0.04372 | X56: החוב לא נחות | Z56: 970578 | AA56: 1 | AB56: 100.88 | AD56: 979.119 | AG56: שווי הוגן | AH56: 0.003369 | AI56: 0.0081558512 | AJ56: 0.002362185
A57: 1035 | B57: 1037 | C57: ZARASAI GROUP LTD | D57: 1744984 | E57: מספר תאגיד או שותפות בחו"ל | F57: דה זראסאי אגח ה | G57: IL0011695561 | H57: ISIN | I57: לא צמוד למדד המחירים לצרכן | J57: ישראל | K57: ארה"ב | L57: סחיר | M57: TASE | N57: נדל"ן מניב בחו"ל | O57: לא | P57: NR | Q57: NR | R57: NR | S57: ILS | T57: NA | U57: 31/12/2026 | V57: 0.0265 | W57: 1e-05 | X57: החוב לא נחות | Z57: 1053548 | AA57: 1 | AB57: 55 | AD57: 579.451 | AG57: שווי הוגן | AH57: 0.003806 | AI57: 0.0048267053 | AJ57: 0.0013979621
A58: 1035 | B58: 1037 | C58: מרכנתיל הנפקות בע"מ | D58: 513686154 | E58: ח.פ. | F58: מרכנתיל 4 | G58: IL0011713059 | H58: ISIN | I58: צמוד למדד המחירים לצרכן | J58: ישראל | K58: ישראל | L58: סחיר | M58: TASE | N58: בנקים | O58: לא | P58: AAA | Q58: S&P מעלות | R58: נייר ערך | S58: ILS | T58: 2.043 | U58: 30/01/2030 | V58: 0.015 | W58: 0.02213 | X58: החוב לא נחות | Z58: 376371.57 | AA58: 1 | AB58: 118.34 | AD58: 445.398 | AG58: שווי הוגן | AH58: 0.00202 | AI58: 0.0037100704 | AJ58: 0.0010745504
A59: 1035 | B59: 1037 | C59: יוניברסל מוטורס ישראל בע"מ | D59: 511809071 | E59: ח.פ. | F59: יוניברסל אגח ד | G59: IL0011722530 | H59: ISIN | I59: לא צמוד למדד המחירים לצרכן | J59: ישראל | K59: ישראל | L59: סחיר | M59: TASE | N59: מסחר | O59: לא | P59: AA- | Q59: S&P מעלות | R59: נייר ערך | S59: ILS | T59: 1.322 | U59: 11/02/2029 | V59: 0.0218 | W59: 0.03981 | X59: החוב לא נחות | Z59: -0.03 | AA59: 1 | AB59: 98.03 | AD59: 0 | AG59: שווי הוגן | AH59: 0 | AI59: -2.4497064e-10 | AJ59: -7.0951022e-11
A60: 1035 | B60: 1037 | C60: אלומיי קפיטל בע"מ | D60: 520039868 | E60: ח.פ. | F60: אלומיי ד | G60: IL0011729568 | H60: ISIN | I60: אג"ח להמרה לא צמוד למדד המחירים לצרכן | J60: ישראל | K60: ישראל | L60: סחיר | M60: TASE | N60: אנרגיה מתחדשת | O60: לא | P60: NR | Q60: NR | R60: NR | S60: ILS | T60: 0.499 | U60: 31/12/2026 | V60: 0.012 | W60: 0.04534 | X60: החוב לא נחות | Z60: 610103 | AA60: 1 | AB60: 98.4 | AD60: 600.341 | AG60: שווי הוגן | AH60: 0.00984 | AI60: 0.0050007142 | AJ60: 0.0014483605
...

Sheet מניות מבכ ויהש
A1: מספר קופה/קרן/ח.פ. עבור חברת ביטוח | B1: מספר מסלול | C1: שם מנפיק | D1: מספר מנפיק | E1: סוג מספר מזהה מנפיק | F1: שם נייר ערך | G1: מספר נייר ערך | H1: סוג מספר נייר ערך | I1: מאפיין עיקרי | J1: ישראל/חו"ל | K1: מדינה לפי חשיפה כלכלית | L1: סטאטוס סחירות | M1: זירת מסחר | N1: ענף מסחר | O1: בעל עניין/צד קשור | P1: מטבע פעילות | Q1: ערך נקוב (יחידות) | R1: שער חליפין | S1: שער נייר הערך | T1: סכום לקבל (במטבע הפעילות) | U1: שווי הוגן (באלפי ש"ח) | V1: שיעור מערך נקוב מונפק | W1: שיעור מנכסי אפיק ההשקעה | X1: שיעור מסך נכסי ההשקעה
A2: 1035 | B2: 1036 | C2: מבטח שמיר אחזקות בע"מ | D2: 520034125 | E2: ח.פ. | F2: מבטח שמיר | G2: IL0001270193 | H2: ISIN | I2: מניות | J2: ישראל | K2: ישראל | L2: סחיר | M2: TASE | N2: השקעה ואחזקות | O2: לא | P2: ILS | Q2: 15119 | R2: 1 | S2: 41980 | U2: 6346.956 | V2: 0.001429 | W2: 0.0030904752 | X2: 0.0010118931
A3: 1035 | B3: 1036 | C3: זנלכל בע"מ | D3: 520034208 | E3: ח.פ. | F3: זנלכל | G3: IL0001300131 | H3: ISIN | I3: מניות | J3: ישראל | K3: ישראל | L3: סחיר | M3: TASE | N3: מזון | O3: לא | P3: ILS | Q3: 31735 | R3: 1 | S3: 5253 | U3: 1667.04 | V3: 0.001381 | W3: 0.0008117189 | X3: 0.00026577555
A4: 1035 | B4: 1036 | C4: להב אל.אר רילאסטייט בעמ | D4: 520034257 | E4: ח.פ. | F4: להב | G4: IL0001360101 | H4: ISIN | I4: מניות | J4: ישראל | K4: ישראל | L4: סחיר | M4: TASE | N4: השקעה ואחזקות | O4: לא | P4: ILS | Q4: 444758 | R4: 1 | S4: 1110 | U4: 4936.814 | V4: 0.001517 | W4: 0.0024038452 | X4: 0.00078707455
A5: 1035 | B5: 1036 | C5: תדאה, פיתוח טכנולוגי ואוטומציה בע"מ | D5: 520034364 | E5: ח.פ. | F5: תדאה | G5: IL0001420186 | H5: ISIN | I5: מניות | J5: ישראל | K5: ישראל | L5: סחיר | M5: TASE | N5: השקעה ואחזקות | O5: לא | P5: ILS | Q5: 4038 | R5: 1 | S5: 388.1 | U5: 15.671 | V5: 0.000617 | W5: 7.6307937e-06 | X5: 2.4984984e-06
A6: 1035 | B6: 1036 | C6: קבוצת גולד בונד בע"מ | D6: 520034349 | E6: ח.פ. | F6: גולד | G6: IL0001490130 | H6: ISIN | I6: מניות | J6: ישראל | K6: ישראל | L6: סחיר | M6: TASE | N6: שרותים | O6: לא | P6: ILS | Q6: 806 | R6: 1 | S6: 23420 | U6: 188.765 | V6: 0.000199 | W6: 9.1914004e-05 | X6: 3.0094772e-05
A7: 1035 | B7: 1036 | C7: חירון-מסחר השקעות ומבנה תעשיה בע"מ | D7: 520034216 | E7: ח.פ. | F7: חירון | G7: IL0001500110 | H7: ISIN | I7: מניות | J7: ישראל | K7: ישראל | L7: סחיר | M7: TASE | N7: השקעה ואחזקות | O7: לא | P7: ILS | Q7: 3279 | R7: 1 | S7: 243740 | U7: 7992.235 | V7: 0.00664 | W7: 0.0038915981 | X7: 0.0012741993
A8: 1035 | B8: 1036 | C8: מלם-תים בע"מ | D8: 520034620 | E8: ח.פ. | F8: מלם תים | G8: IL0001560189 | H8: ISIN | I8: מניות | J8: ישראל | K8: ישראל | L8: סחיר | M8: TASE | N8: שרותי מידע | O8: לא | P8: ILS | Q8: 20614 | R8: 1 | S8: 7140 | U8: 1471.84 | V8: 0.000789 | W8: 0.00071667167 | X8: 0.00023465489
A9: 1035 | B9: 1036 | C9: נטו מ.ע. אחזקות בע"מ | D9: 520034109 | E9: ח.פ. | F9: נטו אחזקות | G9: IL0001680136 | H9: ISIN | I9: מניות | J9: ישראל | K9: ישראל | L9: סחיר | M9: TASE | N9: מזון | O9: לא | P9: ILS | Q9: 23377 | R9: 1 | S9: 21250 | U9: 4967.613 | V9: 0.006285 | W9: 0.0024188418 | X9: 0.00079198478
A10: 1035 | B10: 1036 | C10: כלל החזקות עסקי ביטוח בע"מ | D10: 520036120 | E10: ח.פ. | F10: כלל ביטוח | G10: IL0002240146 | H10: ISIN | I10: מניות | J10: ישראל | K10: ישראל | L10: סחיר | M10: TASE | N10: ביטוח | O10: לא | P10: ILS | Q10: 204009 | R10: 1 | S10: 22840 | U10: 46595.656 | V10: 0.002509 | W10: 0.022688468 | X10: 0.0074287296
A11: 1035 | B11: 1036 | C11: מבנה נדל"ן (כ.ד) בע"מ | D11: 520024126 | E11: ח.פ. | F11: מבנה | G11: IL0002260193 | H11: ISIN | I11: מניות | J11: ישראל | K11: ישראל | L11: סחיר | M11: TASE | N11: נדל"ן מניב בישראל | O11: לא | P11: ILS | Q11: 1165247 | R11: 1 | S11: 1300 | U11: 15148.211 | V11: 0.00161 | W11: 0.0073760033 | X11: 0.0024150741
A12: 1035 | B12: 1036 | C12: בזק החברה הישראלית לתקשורת בע"מ | D12: 520031931 | E12: ח.פ. | F12: בזק | G12: IL0002300114 | H12: ISIN | I12: מניות | J12: ישראל | K12: ישראל | L12: סחיר | M12: TASE | N12: תקשורת ומדיה | O12: לא | P12: ILS | Q12: 5030655 | R12: 1 | S12: 702.7 | U12: 35350.413 | V12: 0.001811 | W12: 0.017212908 | X12: 0.0056359043
A13: 1035 | B13: 1036 | C13: ישראמקו נגב 2 שותפות מוגבלת | D13: 550010003 | E13: מספר שותפות | F13: ישראמקו יהש | G13: IL0002320179 | H13: ISIN | I13: מניות | J13: ישראל | K13: ישראל | L13: סחיר | M13: TASE | N13: חיפושי נפט וגז | O13: לא | P13: ILS | Q13: 10117951 | R13: 1 | S13: 187 | U13: 18920.569 | V13: 0.003887 | W13: 0.0092128489 | X13: 0.0030164999
... A22: 1035 | B22: 1036 | C22: חד-אסף תעשיות בע"מ | D22: 520038449 | E22: ח.פ. | F22: חד אסף תעשיות | G22: IL0003510158 | H22: ISIN | I22: מניות | J22: ישראל | K22: ישראל | L22: סחיר | M22: TASE | N22: מתכת ומוצרי בניה | O22: לא | P22: ILS | Q22: 24739 | R22: 1 | S22: 3461 | U22: 856.217 | V22: 0.002013 | W22: 0.00041691114 | X22: 0.00013650635
A23: 1035 | B23: 1036 | C23: טלסיס בע"מ | D23: 520038100 | E23: ח.פ. | F23: טלסיס | G23: IL0003540197 | H23: ISIN | I23: מניות | J23: ישראל | K23: ארה"ב | L23: סחיר | M23: TASE | N23: אלקטרוניקה ואופטיקה | O23: לא | P23: ILS | Q23: 26654 | R23: 1 | S23: 35840 | T23: 105.496 | U23: 9658.289 | V23: 0.002827 | W23: 0.0047028374 | X23: 0.0015398178
A24: 1035 | B24: 1036 | C24: ארי נדל"ן(ארנה) השקעות בע"מ | D24: 520038332 | E24: ח.פ. | F24: ארי נדלן | G24: IL0003660136 | H24: ISIN | I24: מניות | J24: ישראל | K24: ישראל | L24: סחיר | M24: TASE | N24: נדל"ן מניב בישראל | O24: לא | P24: ILS | Q24: 2563876 | R24: 1 | S24: 610 | U24: 15639.644 | V24: 0.006993 | W24: 0.0076152928 | X24: 0.0024934231
A25: 1035 | B25: 1036 | C25: וילי פוד השקעות בע"מ | D25: 520038225 | E25: ח.פ. | F25: ויליפוד | G25: IL0003710139 | H25: ISIN | I25: מניות | J25: ישראל | K25: ישראל | L25: סחיר | M25: TASE | N25: מסחר | O25: לא | P25: ILS | Q25: 55973 | R25: 1 | S25: 5947 | U25: 3328.714 | V25: 0.004206 | W25: 0.0016208256 | X25: 0.00053069579
A26: 1035 | B26: 1036 | C26: א.מ.ת. מיחשוב בע"מ | D26: 520038514 | E26: ח.פ. | F26: אמת | G26: IL0003820102 | H26: ISIN | I26: מניות | J26: ישראל | K26: ישראל | L26: סחיר | M26: TASE | N26: שרותי מידע | O26: לא | P26: ILS | Q26: 37210 | R26: 1 | S26: 535 | U26: 199.073 | V26: 0.000711 | W26: 9.6933347e-05 | X26: 3.1738221e-05
A27: 1035 | B27: 1036 | C27: אלוני-חץ נכסים והשקעות בע"מ | D27: 520038506 | E27: ח.פ. | F27: אלוני חץ | G27: IL0003900136 | H27: ISIN | I27: מניות | J27: ישראל | K27: ישראל | L27: סחיר | M27: TASE | N27: נדל"ן מניב בישראל | O27: לא | P27: ILS | Q27: 516779 | R27: 1 | S27: 3316 | U27: 17136.392 | V27: 0.002283 | W27: 0.008344093 | X27: 0.0027320491
A28: 1035 | B28: 1036 | C28: ראלקו סוכנויות בע"מ | D28: 520038183 | E28: ח.פ. | F28: ראלקו | G28: IL0003930174 | H28: ISIN | I28: מניות | J28: ישראל | K28: ישראל | L28: סחיר | M28: TASE | N28: מסחר | O28: לא | P28: ILS | Q28: 27732 | R28: 1 | S28: 4449 | U28: 1233.797 | V28: 0.006577 | W28: 0.00060076324 | X28: 0.00019670379
A29: 1035 | B29: 1036 | C29: רציו חיפושי נפט (1992) - שותפות מוגבלת | D29: 550012777 | E29: מספר שותפות | F29: רציו יהש | G29: IL0003940157 | H29: ISIN | I29: מניות | J29: ישראל | K29: ישראל | L29: סחיר | M29: TASE | N29: חיפושי נפט וגז | O29: לא | P29: ILS | Q29: 553691 | R29: 1 | S29: 430 | U29: 2380.871 | V29: 0.000493 | W29: 0.0011592996 | X29: 0.0003795815
A30: 1035 | B30: 1036 | C30: אחים דוניץ בע"מ | D30: 520038605 | E30: ח.פ. | F30: דוניץ | G30: IL0004000100 | H30: ISIN | I30: מניות | J30: ישראל | K30: ישראל | L30: סחיר | M30: TASE | N30: בנייה | O30: לא | P30: ILS | Q30: 36895 | R30: 1 | S30: 24750 | U30: 9131.513 | V30: 0.004088 | W30: 0.004446338 | X30: 0.0014558339
A31: 1035 | B31: 1036 | C31: וילאר אינטרנשיונל בע"מ | D31: 520038910 | E31: ח.פ. | F31: וילאר | G31: IL0004160169 | H31: ISIN | I31: מניות | J31: ישראל | K31: ישראל | L31: סחיר | M31: TASE | N31: נדל"ן מניב בישראל | O31: לא | P31: ILS | Q31: 30426 | R31: 1 | S31: 17810 | U31: 5418.871 | V31: 0.00171 | W31: 0.0026385695 | X31: 0.0008639287
A32: 1035 | B32: 1036 | C32: נתנאל גרופ בע"מ | D32: 520039074 | E32: ח.פ. | F32: נתנאל גרופ | G32: IL0004210162 | H32: ISIN | I32: מניות | J32: ישראל | K32: ישראל | L32: סחיר | M32: TASE | N32: בנייה | O32: לא | P32: ILS | Q32: 61833 | R32: 1 | S32: 930.4 | U32: 575.294 | V32: 0.001979 | W32: 0.00028012365 | X32: 9.1718964e-05
A33: 1035 | B33: 1036 | C33: צבי צרפתי השקעות ובנין (1992) בע"מ | D33: 520039090 | E33: ח.פ. | F33: צרפתי | G33: IL0004250176 | H33: ISIN | I33: מניות | J33: ישראל | K33: ישראל | L33: סחיר | M33: TASE | N33: בנייה | O33: לא | P33: ILS | Q33: 45535 | R33: 1 | S33: 3487 | U33: 1587.805 | V33: 0.002235 | W33: 0.00077313804 | X33: 0.00025314328
A34: 1035 | B34: 1036 | C34: איי.אי.אס החזקות בע"מ | D34: 520039132 | E34: ח.פ. | F34: אייאיאס תעש | G34: IL0004310152 | H34: ISIN | I34: מניות | J34: ישראל | K34: ישראל | L34: סחיר | M34: TASE | N34: נדל"ן מניב בישראל | O34: לא | P34: ILS | Q34: 17302 | R34: 1 | S34: 70400 | U34: 12180.608 | V34: 0.001679 | W34: 0.0059310109 | X34: 0.0019419502
A35: 1035 | B35: 1036 | C35: סי אי סיסטמס (ישראל) בע"מ | D35: 520039280 | E35: ח.פ. | F35: סיאי | G35: IL0004420126 | H35: ISIN | I35: מניות | J35: ישראל | K35: ישראל | L35: סחיר | M35: TASE | N35: אלקטרוניקה ואופטיקה | O35: לא | P35: ILS | Q35: 55141 | R35: 1 | S35: 2021 | U35: 1114.4 | V35: 0.004833 | W35: 0.00054262613 | X35: 0.00017766835
A36: 1035 | B36: 1036 | C36: מרדכי אביב תעשיות בניה (1973) בע"מ | D36: 520039264 | E36: ח.פ. | F36: אביב בניה | G36: IL0004440181 | H36: ISIN | I36: מניות | J36: ישראל | K36: ישראל | L36: סחיר | M36: TASE | N36: בנייה | O36: לא | P36: ILS | Q36: 13684 | R36: 1 | S36: 2146 | U36: 293.659 | V36: 0.000995 | W36: 0.00014298897 | X36: 4.6817897e-05
A37: 1035 | B37: 1036 | C37: מטריקס אי.טי בע"מ | D37: 520039413 | E37: ח.פ. | F37: מטריקס | G37: IL0004450156 | H37: ISIN | I37: מניות | J37: ישראל | K37: ישראל | L37: סחיר | M37: TASE | N37: שרותי מידע | O37: לא | P37: ILS | Q37: 57926.33 | R37: 1 | S37: 7558 | T37: 56.189 | U37: 4434.261 | V37: 0.000622 | W37: 0.0021591408 | X37: 0.00070695266
A38: 1035 | B38: 1036 | C38: קבוצת גאון בע"מ | D38: 520025016 | E38: ח.פ. | F38: קבוצת גאון בע"מ | G38: IL0004540170 | H38: ISIN | I38: מניות | J38: ישראל | K38: ישראל | L38: סחיר | M38: TASE | N38: מתכת ומוצרי בניה | O38: לא | P38: ILS | Q38: 250602 | R38: 1 | S38: 2072 | U38: 5192.473 | V38: 0.005355 | W38: 0.0025283316 | X38: 0.00082783428
A39: 1035 | B39: 1036 | C39: ניו-מד אנרג'י- שותפות מוגבלת | D39: 550013098 | E39: מספר שותפות | F39: ניו-מד אנרג'י יהש | G39: IL0004750209 | H39: ISIN | I39: מניות | J39: ישראל | K39: ישראל | L39: סחיר | M39: TASE | N39: חיפושי נפט וגז | O39: לא | P39: ILS | Q39: 379893.92 | R39: 1 | S39: 1560 | U39: 5926.345 | V39: 0.000324 | W39: 0.0028856702 | X39: 0.0009448352
A40: 1035 | B40: 1036 | C40: קבוצת מיחשוב ישיר בע"מ | D40: 520040007 | E40: ח.פ. | F40: מחשוב ישיר קבוצה | G40: IL0005070128 | H40: ISIN | I40: מניות | J40: ישראל | K40: ישראל | L40: סחיר | M40: TASE | N40: שרותי מידע | O40: לא | P40: ILS | Q40: 31915 | R40: 1 | S40: 29740 | U40: 9491.521 | V40: 0.006875 | W40: 0.0046216342 | X40: 0.00151323
A41: 1035 | B41: 1036 | C41: כפרית תעשיות (1993) בע"מ | D41: 520038787 | E41: ח.פ. | F41: כפרית | G41: IL0005220111 | H41: ISIN | I41: מניות | J41: ישראל | K41: ישראל | L41: סחיר | M41: TASE | N41: כימיה, גומי ופלסטיק | O41: לא | P41: ILS | Q41: 118916 | R41: 1 | S41: 2121 | U41: 2522.208 | V41: 0.004931 | W41: 0.0012281198 | X41: 0.00040211482
A42: 1035 | B42: 1036 | C42: רבד בע"מ | D42: 520040148 | E42: ח.פ. | F42: רבד | G42: IL0005260125 | H42: ISIN | I42: מניות | J42: ישראל | K42: ישראל | L42: סחיר | M42: TASE | N42: נדל"ן מניב בישראל | O42: לא | P42: ILS | Q42: 172828 | R42: 1 | S42: 689.6 | U42: 1191.822 | V42: 0.006466 | W42: 0.00058032478 | X42: 0.00019001176
