Workbook
Name Additional_Factor: 'אפשרויות בחירה'!$C$706:$C$854
Name Amoritization: 'אפשרויות בחירה'!$C$544:$C$548
Name Capsule: 'אפשרויות בחירה'!$C$934:$C$936
Name Company_Name: 'File Name Info'!$A$34:$A$130
Name Company_Name_ID: 'File Name Info'!$A$34:$B$130
Name Consortium: 'אפשרויות בחירה'!$C$512:$C$513
Name Country_list: 'אפשרויות בחירה'!$C$4:$C$85
Name Country_list_funds: 'אפשרויות בחירה'!$C$4:$C$103
Name CSA: 'אפשרויות בחירה'!$C$693:$C$694
Name Delivery: 'אפשרויות בחירה'!$C$670:$C$671
Name Dependence_Independence: 'אפשרויות בחירה'!$C$658:$C$659
Name Duration_Underlying_Interest_Rate: 'אפשרויות בחירה'!$C$685:$C$692
Name File_Type: 'File Name Info'!$A$10:$A$12
Name Full_File_Type: 'File Name Info'!$A$11:$B$13
Name Full_Type: 'File Name Info'!$A$2:$B$8
Name Full_Type_Nostro: 'File Name Info'!$A$3:$B$6
Name Full_Year: 'File Name Info'!$A$22:$B$31
Name Fund_Strategy: 'אפשרויות בחירה'!$C$595:$C$625
Name Fund_type: 'אפשרויות בחירה'!$C$326:$C$496
Name Holding_interest: 'אפשרויות בחירה'!$C$146:$C$147
Name In_the_books: 'אפשרויות בחירה'!$C$660:$C$661
Name Industry_Sector: 'אפשרויות בחירה'!#REF!
Name Industry_sector_all: 'אפשרויות בחירה'!$C$202:$C$325
Name Industry_sectors: 'אפשרויות בחירה'!$C$202:$C$325
Name israel_abroad: 'אפשרויות בחירה'!$C$2:$C$3
Name Issuer_Number_Banks: 'אפשרויות בחירה'!$C$111:$C$113
Name Issuer_Number_Fund: 'אפשרויות בחירה'!$C$114:$C$117
Name issuer_number_loan: 'אפשרויות בחירה'!$C$118:$C$126
Name Issuer_Number_Type: 'אפשרויות בחירה'!$C$104:$C$110
Name Issuer_Number_Type_2: 'אפשרויות בחירה'!#REF!
Name Issuer_Number_Type_3: 'אפשרויות בחירה'!#REF!
Name Issuer_Number_Type_V2: 'אפשרויות בחירה'!$C$104:$C$110
Name Issuer_Type_TFunds: 'אפשרויות בחירה'!#REF!
Name Leading_factor: 'אפשרויות בחירה'!$C$697:$C$705
Name Linked_Type: 'אפשרויות בחירה'!$C$514:$C$517
Name other_investments: 'אפשרויות בחירה'!$C$1018:$C$1051
Name Penalty: 'אפשרויות בחירה'!$C$855:$C$856
Name QTR: 'File Name Info'!$A$15:$A$19
Name Rating_Agency: 'אפשרויות בחירה'!$C$188:$C$201
Name real_estate_lifestage: 'אפשרויות בחירה'!$C$638:$C$646
Name real_estate_loans: 'אפשרויות בחירה'!$C$551:$C$589
Name Real_Estate_Main_Use: 'אפשרויות בחירה'!$C$626:$C$637
Name Recourse_Nonrecourse: 'אפשרויות בחירה'!$C$542:$C$543
Name Repayment_Rights: 'אפשרויות בחירה'!$C$549:$C$550
Name Reset_frequency: 'אפשרויות בחירה'!$C$662:$C$669
Name Security_ID_Number_Type: 'אפשרויות בחירה'!#REF!
Name Security_Number_Loans: 'אפשרויות בחירה'!$C$131
Name Stock_Exchange: 'אפשרויות בחירה'!#REF!
Name Stock_Exchange_Gov_Bonds: 'אפשרויות בחירה'!$C$148:$C$181
Name Subordination_Risk: 'אפשרויות בחירה'!$C$186:$C$187
Name Tradeable_Status: 'אפשרויות בחירה'!#REF!
Name Tradeable_Status_All: 'אפשרויות בחירה'!$C$135:$C$145
Name tradeable_status_bonds: 'אפשרויות בחירה'!#REF!
Name tradeable_status_funds: 'אפשרויות בחירה'!#REF!
Name tradeable_status_stock: 'אפשרויות בחירה'!#REF!
Name Tradeable_Status_v2: 'אפשרויות בחירה'!#REF!
Name tradeable_status_warrants: 'אפשרויות בחירה'!#REF!
Name tradeable_status_warrants_v2: 'אפשרויות בחירה'!#REF!
Name Transaction: 'אפשרויות בחירה'!$C$647:$C$650
Name Type: 'File Name Info'!$A$2:$A$8

Sheet עמוד פתיחה
A1: קובץ דיווח עבור רשימת נכסים ברמת הנכס הבודד (חוזר גופים מוסדיים 2015-9-14)
A3: יש לבחור תחום: | D3: נכסי עמיתים - קופות גמל
A5: האם מדובר בקובץ לממומנה או לציבור: | D5: לציבור
A7: יש לבחור את רבעון הדיווח: | D7: 01
A9: יש לבחור את שנת הדיווח: | D9: 2026
A11: יש לבחור את הגוף המוסדי: | D11: ילין לפידות ניהול קופות גמל בע"מ
A13: ח.פ. הגוף המוסדי: | D13: =IFERROR(VLOOKUP(D11,'File Name Info'!A35:B130,2,0),"תא מחושב") -> 513611509
A15: שם קובץ לשמירה | D15: =IF(D5="לממונה",CONCATENATE(D13, "_",VLOOKUP(D3,Full_Type,2,0),"_",D7,VLOOKUP(D9,Full_Year,2,0),".xlxs"),IF(D5="לציבור",CONCATENATE(D13,"_",VLOOKUP(D3,Full_Type_Nostro,2,0),"_",VLOOKUP(D5,Full_File_Type,2,0),"_",D7,VLOOKUP(D9,Full_Year,2,0),".xlsx"),"שם קובץ לשמירה")) -> 513611509_gm_p_0126.xlsx

Sheet סכום נכסים
C1: ידווח בקבצי נכסי הנוסטרו בלבד
A2: אפיק | B2: שווי הוגן (באלפי ש"ח) | C2: עלות מופחתת (באלפי ש"ח) | D2: השיטה שיושמה בדוח הכספי | E2: שיעור מסך נכסי השקעה
A3: מזומנים ושווי מזומנים | B3: =SUM('מזומנים ושווי מזומנים'!O:O) -> 11871881 | E3: =SUM('מזומנים ושווי מזומנים'!O:O)/B30 -> 0.14498377
A4: איגרות חוב ממשלתיות | B4: =SUM('איגרות חוב ממשלתיות'!U:U) -> 31137460 | E4: =SUM('איגרות חוב ממשלתיות'!U:U)/B30 -> 0.38026212
A5: ניירות ערך מסחריים | B5: =SUM('ניירות ערך מסחריים'!AD:AD) -> 0 | E5: =SUM('ניירות ערך מסחריים'!AD:AD)/B30 -> 0
A6: איגרות חוב | B6: =SUM('איגרות חוב'!AD:AD) -> 11046078 | E6: =SUM('איגרות חוב'!AD:AD)/B30 -> 0.13489876
A7: מניות מבכ ויהש | B7: =SUM('מניות מבכ ויהש'!U:U) -> 17457764 | E7: =SUM('מניות מבכ ויהש'!U:U)/B30 -> 0.21320064
A8: קרנות סל | B8: =SUM('קרנות סל'!T:T) -> 3114399.3 | E8: =SUM('קרנות סל'!T:T)/B30 -> 0.038034189
A9: קרנות נאמנות | B9: =SUM('קרנות נאמנות'!T:T) -> 613073.03 | E9: =SUM('קרנות נאמנות'!T:T)/B30 -> 0.0074870733
A10: כתבי אופציה | B10: =SUM('כתבי אופציה'!W:W) -> 38456.162 | E10: =SUM('כתבי אופציה'!W:W)/B30 -> 0.00046964079
A11: אופציות | B11: =SUM(אופציות!V:V) -> -21594.04 | E11: =SUM(אופציות!V:V)/B30 -> -0.00026371436
A12: חוזים עתידיים | B12: =SUM('חוזים עתידיים'!R:R) -> -113792.53 | E12: =SUM('חוזים עתידיים'!R:R)/B30 -> -0.0013896763
A13: מוצרים מובנים | B13: =SUM('מוצרים מובנים'!Z:Z) -> 417804.53 | E13: =SUM('מוצרים מובנים'!Z:Z)/B30 -> 0.0051023825
A14: לא סחיר איגרות חוב ממשלתיות | B14: =SUM('לא סחיר איגרות חוב ממשלתיות'!U:U) -> 0 | E14: =SUM('לא סחיר איגרות חוב ממשלתיות'!U:U)/B30 -> 0
A15: לא סחיר איגרות חוב מיועדות | B15: =SUM('לא סחיר איגרות חוב מיועדות'!N:N) -> 0 | E15: =SUM('לא סחיר איגרות חוב מיועדות'!N:N)/B30 -> 0
A16: אפיק השקעה מובטח תשואה | B16: =SUM('אפיק השקעה מובטח תשואה'!F:F) -> 0 | E16: =SUM('אפיק השקעה מובטח תשואה'!F:F)/B30 -> 0
A17: לא סחיר ניירות ערך מסחריים | B17: =SUM('לא סחיר ניירות ערך מסחריים'!AI:AI) -> 310050.6 | E17: =SUM('לא סחיר ניירות ערך מסחריים'!AI:AI)/B30 -> 0.0037864519
A18: לא סחיר איגרות חוב | B18: =SUM('לא סחיר איגרות חוב'!AG:AG) -> 950796.19 | E18: =SUM('לא סחיר איגרות חוב'!AG:AG)/B30 -> 0.011611473
A19: לא סחיר מניות מבכ ויהש | B19: =SUM('לא סחיר מניות מבכ ויהש'!X:X) -> 9053.768 | E19: =SUM('לא סחיר מניות מבכ ויהש'!X:X)/B30 -> 0.00011056794
A20: קרנות השקעה | B20: =SUM('קרנות השקעה'!W:W) -> 1286614.3 | E20: =SUM('קרנות השקעה'!W:W)/B30 -> 0.015712608
A21: לא סחיר כתבי אופציה | B21: =SUM('לא סחיר כתבי אופציה'!Z:Z) -> 48720.925 | E21: =SUM('לא סחיר כתבי אופציה'!Z:Z)/B30 -> 0.00059499785
A22: לא סחיר אופציות | B22: =SUM('לא סחיר אופציות'!Z:Z) -> 0 | E22: =SUM('לא סחיר אופציות'!Z:Z)/B30 -> 0
A23: לא סחיר נגזרים אחרים | B23: =SUM('לא סחיר נגזרים אחרים'!R:R) -> -1605516.8 | E23: =SUM('לא סחיר נגזרים אחרים'!R:R)/B30 -> -0.019607161
A24: הלוואות | B24: =SUM(הלוואות!AT:AT) -> 528165.7 | E24: =SUM(הלוואות!AT:AT)/B30 -> 0.0064501538
A25: לא סחיר מוצרים מובנים | B25: =SUM('לא סחיר מוצרים מובנים'!AB:AB) -> 296916.39 | E25: =SUM('לא סחיר מוצרים מובנים'!AB:AB)/B30 -> 0.0036260521
A26: פיקדונות מעל 3 חודשים | B26: =SUM('פיקדונות מעל 3 חודשים'!T:T) -> 4550065.2 | E26: =SUM('פיקדונות מעל 3 חודשים'!T:T)/B30 -> 0.055567069
A27: זכויות מקרקעין | B27: =SUM('זכויות מקרקעין'!S:S) -> 0 | E27: =SUM('זכויות מקרקעין'!S:S)/B30 -> 0
A28: השקעה בחברות מוחזקות | B28: =SUM('השקעה בחברות מוחזקות'!U:U) -> 0 | E28: =SUM('השקעה בחברות מוחזקות'!U:U)/B30 -> 0
A29: נכסים אחרים | B29: =SUM('נכסים אחרים'!N:N) -> -52192.971 | E29: =SUM('נכסים אחרים'!N:N)/B30 -> -0.00063739976
A30: סך הכל נכסים | B30: =IF(SUM(B3:B29)=0,0.0001,SUM(B3:B29)) -> 81884203 | C30: =SUM(C3:C29) -> 0 | D30: =SUM(D3:D29) -> 0 | E30: =SUM(E3:E29) -> 1
A31: מסגרות אשראי
A32: יתרות התחייבות להשקעה | B32: =SUM('יתרות התחייבות להשקעה'!O:O) -> 1271156.7 | E32: 0.015523833

Sheet מזומנים ושווי מזומנים
A1: מספר קופה/קרן/ח.פ. עבור חברת ביטוח | B1: מספר מסלול | C1: שם הבנק | D1: מספר מזהה בנק | E1: סוג מספר מזהה בנק | F1: מאפיין עיקרי | G1: ישראל/חו"ל | H1: בעל עניין/צד קשור | I1: דירוג הבנק | J1: שם מדרג | K1: מטבע פעילות | L1: שווי מטבעי | M1: שער חליפין | N1: שיעור ריבית | O1: שווי הוגן (באלפי ש"ח) | P1: שיעור מנכסי אפיק ההשקעה | Q1: שיעור מסך נכסי ההשקעה
A2: 1035 | B2: 1036 | C2: בנק לאומי לישראל בע"מ | D2: 10-800 | E2: סימול בנק | F2: מזומן ועו"ש נקוב במט"ח | G2: ישראל | H2: לא | I2: AAA | J2: S&P מעלות | K2: USD | L2: 28094.885 | M2: 3.165 | O2: 88920.31 | P2: 0.056436874 | Q2: 0.014247223
A3: 1035 | B3: 1036 | C3: בנק לאומי לישראל בע"מ | D3: 10-800 | E3: סימול בנק | F3: מזומן ועו"ש נקוב במט"ח | G3: ישראל | H3: לא | I3: AAA | J3: S&P מעלות | K3: EUR | L3: 5980.99 | M3: 3.636 | O3: 21746.878 | P3: 0.013802537 | Q3: 0.0034843854
A4: 1035 | B4: 1036 | C4: בנק לאומי לישראל בע"מ | D4: 10-800 | E4: סימול בנק | F4: מזומן ועו"ש נקוב במט"ח | G4: ישראל | H4: לא | I4: AAA | J4: S&P מעלות | K4: GBP | L4: 280.385 | M4: 4.1873 | O4: 1174.055 | P4: 0.00074516183 | Q4: 0.0001881126
A5: 1035 | B5: 1036 | C5: בנק לאומי לישראל בע"מ | D5: 10-800 | E5: סימול בנק | F5: מזומן ועו"ש נקוב במט"ח | G5: ישראל | H5: לא | I5: AAA | J5: S&P מעלות | K5: AUD | L5: 2848.05 | M5: 2.1793 | O5: 6206.756 | P5: 0.0039393689 | Q5: 0.00099447514
A6: 1035 | B6: 1036 | C6: בנק לאומי לישראל בע"מ | D6: 10-800 | E6: סימול בנק | F6: מזומן ועו"ש נקוב במט"ח | G6: ישראל | H6: לא | I6: AAA | J6: S&P מעלות | K6: SGD | L6: 143.927 | M6: 2.4567 | O6: 353.587 | P6: 0.00022441804 | Q6: 5.6653278e-05
A7: 1035 | B7: 1036 | C7: בנק לאומי לישראל בע"מ | D7: 10-800 | E7: סימול בנק | F7: מזומן ועו"ש נקוב במט"ח | G7: ישראל | H7: לא | I7: AAA | J7: S&P מעלות | K7: HKD | L7: 94728.004 | M7: 0.4044 | O7: 38308.005 | P7: 0.024313726 | Q7: 0.0061378856
A8: 1035 | B8: 1036 | C8: בנק לאומי לישראל בע"מ | D8: 10-800 | E8: סימול בנק | F8: פק"מ לתקופה של עד שלושה חודשים | G8: ישראל | H8: לא | I8: AAA | J8: S&P מעלות | K8: ILS | L8: 280324.88 | M8: 1 | O8: 280324.88 | P8: 0.17791953 | Q8: 0.044914948
A9: 1035 | B9: 1036 | C9: בנק לאומי לישראל בע"מ | D9: 10-800 | E9: סימול בנק | F9: פק"מ לתקופה של עד שלושה חודשים | G9: ישראל | H9: לא | I9: AAA | J9: S&P מעלות | K9: ILS | L9: 180000 | M9: 1 | O9: 180000 | P9: 0.11424429 | Q9: 0.028840432
A10: 1035 | B10: 1036 | C10: בנק לאומי לישראל בע"מ | D10: 10-800 | E10: סימול בנק | F10: מזומן ועו"ש בש"ח | G10: ישראל | H10: לא | I10: AAA | J10: S&P מעלות | K10: ILS | L10: 325840.49 | M10: 1 | O10: 325840.49 | P10: 0.20680786 | Q10: 0.05220767
A11: 1035 | B11: 1036 | C11: בנק מזרחי | D11: 20-61 | E11: סימול בנק | F11: מזומן ועו"ש נקוב במט"ח | G11: ישראל | H11: לא | I11: AAA | J11: S&P מעלות | K11: USD | L11: 19585.171 | M11: 3.165 | O11: 61987.065 | P11: 0.0393426 | Q11: 0.0099318541
A12: 1035 | B12: 1036 | C12: בנק מזרחי | D12: 20-61 | E12: סימול בנק | F12: מזומן ועו"ש נקוב במט"ח | G12: ישראל | H12: לא | I12: AAA | J12: S&P מעלות | K12: EUR | L12: 1.991 | M12: 3.636 | O12: 7.238 | P12: 4.5936611e-06 | Q12: 1.1596481e-06
A13: 1035 | B13: 1036 | C13: בנק מזרחי | D13: 20-61 | E13: סימול בנק | F13: מזומן ועו"ש נקוב במט"ח | G13: ישראל | H13: לא | I13: AAA | J13: S&P מעלות | K13: GBP | L13: 0.001 | M13: 4.1873 | O13: 0.004 | P13: 2.5513339e-09 | Q13: 6.4407222e-10
... A454: 11389 | B454: 15715 | C454: בנק דיסקונט לישראל בע"מ | D454: 11-10 | E454: סימול בנק | F454: מזומן ועו"ש בש"ח | G454: ישראל | H454: לא | I454: AAA | J454: S&P מעלות | K454: ILS | L454: 1013.456 | M454: 1 | O454: 1013.456 | P454: 0.045612182 | Q454: 0.014153515

Sheet איגרות חוב ממשלתיות
A1: מספר קופה/קרן/ח.פ. עבור חברת ביטוח | B1: מספר מסלול | C1: שם מנפיק | D1: שם נייר ערך | E1: מספר נייר ערך | F1: מאפיין עיקרי | G1: ישראל/חו"ל | H1: מדינה לפי חשיפה כלכלית | I1: זירת מסחר | J1: דירוג | K1: שם מדרג | L1: מטבע פעילות | M1: מח"מ | N1: מועד פדיון | O1: שיעור ריבית | P1: תשואה לפדיון | Q1: סכום לקבל (במטבע הפעילות) | R1: ערך נקוב (יחידות) | S1: שער חליפין | T1: שער נייר הערך | U1: שווי הוגן (באלפי ש"ח) | V1: עלות מופחתת (באלפי ש"ח) | W1: השיטה שיושמה בדוח הכספי | X1: שיעור מערך נקוב מונפק | Y1: שיעור מנכסי אפיק ההשקעה | Z1: שיעור מסך נכסי ההשקעה
A2: 1035 | B2: 1036 | C2: מדינת ישראל | D2: ממשל קצרה 0526 | E2: IL0012239245 | F2: מק"מ קצר משנים עשר חודשים | G2: ישראל | H2: ישראל | I2: TASE | J2: RF | K2: פנימי | L2: ILS | M2: 0.159 | N2: 31/05/2026 | O2: 0 | P2: 0.04057 | R2: 242693107 | S2: 1 | T2: 99.37 | U2: 241164.14 | W2: שווי הוגן | X2: 0.062469 | Y2: 0.13956696 | Z2: 0.038640433
A3: 1035 | B3: 1036 | C3: מדינת ישראל | D3: מלווה קצר מועד 416 | E3: IL0082604161 | F3: מק"מ קצר משנים עשר חודשים | G3: ישראל | H3: ישראל | I3: TASE | J3: RF | K3: פנימי | L3: ILS | M3: 0.014 | N3: 01/04/2026 | O3: 0 | P3: 0.05245 | Q3: 31243.261 | R3: 0 | S3: 1 | T3: 0 | U3: 31243.261 | W3: שווי הוגן | X3: 0 | Y3: 0.018081158 | Z3: 0.0050059397
A4: 1035 | B4: 1036 | C4: מדינת ישראל | D4: מקמ 516 | E4: IL0082605150 | F4: מק"מ קצר משנים עשר חודשים | G4: ישראל | H4: ישראל | I4: TASE | J4: RF | K4: פנימי | L4: ILS | M4: 0.09 | N4: 06/05/2026 | O4: 0 | P4: 0.0407 | R4: 111532615 | S4: 1 | T4: 99.64 | U4: 111131.1 | W4: שווי הוגן | X4: 0.00328 | Y4: 0.064313995 | Z4: 0.017805938
A5: 1035 | B5: 1036 | C5: מדינת ישראל | D5: מלווה קצר מועד 616 | E5: IL0082606141 | F5: מק"מ קצר משנים עשר חודשים | G5: ישראל | H5: ישראל | I5: TASE | J5: RF | K5: פנימי | L5: ILS | M5: 0.167 | N5: 03/06/2026 | O5: 0 | P5: 0.03979 | R5: 263090764 | S5: 1 | T5: 99.35 | U5: 261380.67 | W5: שווי הוגן | X5: 0.007738 | Y5: 0.15126671 | Z5: 0.04187962
A6: 1035 | B6: 1036 | C6: מדינת ישראל | D6: מקמ 726 | E6: IL0082607214 | F6: מק"מ קצר משנים עשר חודשים | G6: ישראל | H6: ישראל | I6: TASE | J6: RF | K6: פנימי | L6: ILS | M6: 0.263 | N6: 08/07/2026 | O6: 0 | P6: 0.03975 | R6: 123058694 | S6: 1 | T6: 98.98 | U6: 121803.49 | W6: שווי הוגן | X6: 0.003619 | Y6: 0.070490344 | Z6: 0.019515919
A7: 1035 | B7: 1036 | C7: מדינת ישראל | D7: מקמ 816 | E7: IL0082608121 | F7: מק"מ קצר משנים עשר חודשים | G7: ישראל | H7: ישראל | I7: TASE | J7: RF | K7: פנימי | L7: ILS | M7: 0.34 | N7: 06/08/2026 | O7: 0 | P7: 0.03927 | R7: 55807433 | S7: 1 | T7: 98.7 | U7: 55081.936 | W7: שווי הוגן | X7: 0.0031 | Y7: 0.03187712 | Z7: 0.0088254825
A8: 1035 | B8: 1036 | C8: מדינת ישראל | D8: מלווה קצר מועד 916 | E8: IL0082609111 | F8: מק"מ קצר משנים עשר חודשים | G8: ישראל | H8: ישראל | I8: TASE | J8: RF | K8: פנימי | L8: ILS | M8: 0.416 | N8: 02/09/2026 | O8: 0 | P8: 0.03924 | R8: 174976378 | S8: 1 | T8: 98.41 | U8: 172194.25 | W8: שווי הוגן | X8: 0.009721 | Y8: 0.099652577 | Z8: 0.027589759
A9: 1035 | B9: 1036 | C9: מדינת ישראל | D9: מלווה קצר מועד 1016 | E9: IL0082610184 | F9: מק"מ קצר משנים עשר חודשים | G9: ישראל | H9: ישראל | I9: TASE | J9: RF | K9: פנימי | L9: ILS | M9: 0.512 | N9: 07/10/2026 | O9: 0 | P9: 0.03898 | R9: 95735494 | S9: 1 | T9: 98.06 | U9: 93878.225 | W9: שווי הוגן | X9: 0.005319 | Y9: 0.05432938 | Z9: 0.015041603
A10: 1035 | B10: 1036 | C10: מדינת ישראל | D10: מקמ 1216 | E10: IL0082612164 | F10: מק"מ קצר משנים עשר חודשים | G10: ישראל | H10: ישראל | I10: TASE | J10: RF | K10: פנימי | L10: ILS | M10: 0.666 | N10: 02/12/2026 | O10: 0 | P10: 0.03908 | R10: 152144174 | S10: 1 | T10: 97.48 | U10: 148310.14 | W10: שווי הוגן | X10: 0.008452 | Y10: 0.085830319 | Z10: 0.023762936
A11: 1035 | B11: 1036 | C11: מדינת ישראל | D11: מקמ 317 | E11: IL0082703161 | F11: מק"מ קצר משנים עשר חודשים | G11: ישראל | H11: ישראל | I11: TASE | J11: RF | K11: פנימי | L11: ILS | M11: 0.915 | N11: 03/03/2027 | O11: 0 | P11: 0.03841 | R11: 175879936 | S11: 1 | T11: 96.61 | U11: 169917.61 | W11: שווי הוגן | X11: 0.009771 | Y11: 0.098335032 | Z11: 0.027224984
A12: 1035 | B12: 1036 | C12: מדינת ישראל | D12: מלווה קצר מועד 616 | E12: IL0082606141 | F12: מק"מ קצר משנים עשר חודשים | G12: ישראל | H12: ישראל | I12: TASE | J12: RF | K12: פנימי | L12: ILS | M12: 0.167 | N12: 03/06/2026 | O12: 0 | P12: 0.03979 | R12: 3000000 | S12: 1 | T12: 99.35 | U12: 2980.5 | W12: שווי הוגן | X12: 8.8e-05 | Y12: 0.0017248805 | Z12: 0.00047754949
A13: 1035 | B13: 1036 | C13: מדינת ישראל | D13: מקמ 726 | E13: IL0082607214 | F13: מק"מ קצר משנים עשר חודשים | G13: ישראל | H13: ישראל | I13: TASE | J13: RF | K13: פנימי | L13: ILS | M13: 0.263 | N13: 08/07/2026 | O13: 0 | P13: 0.03975 | R13: 3000000 | S13: 1 | T13: 98.98 | U13: 2969.4 | W13: שווי הוגן | X13: 8.8e-05 | Y13: 0.0017184567 | Z13: 0.000475771
A14: 1035 | B14: 1036 | C14: מדינת ישראל | D14: מלווה קצר מועד 916 | E14: IL0082609111 | F14: מק"מ קצר משנים עשר חודשים | G14: ישראל | H14: ישראל | I14: TASE | J14: RF | K14: פנימי | L14: ILS | M14: 0.416 | N14: 02/09/2026 | O14: 0 | P14: 0.03924 | R14: 6000000 | S14: 1 | T14: 98.41 | U14: 5904.6 | W14: שווי הוגן | X14: 0.000333 | Y14: 0.003417121 | Z14: 0.00094606231
A15: 1035 | B15: 1036 | C15: מדינת ישראל | D15: מלווה קצר מועד 1016 | E15: IL0082610184 | F15: מק"מ קצר משנים עשר חודשים | G15: ישראל | H15: ישראל | I15: TASE | J15: RF | K15: פנימי | L15: ILS | M15: 0.512 | N15: 07/10/2026 | O15: 0 | P15: 0.03898 | R15: 3000000 | S15: 1 | T15: 98.06 | U15: 2941.8 | W15: שווי הוגן | X15: 0.000167 | Y15: 0.0017024839 | Z15: 0.0004713488
... A20: 1035 | B20: 1036 | C20: Federal Republic Of Germany | D20: OBL 0 10/09/26 | E20: DE0001141844 | F20: נקוב במט"ח | G20: חו"ל | H20: גרמניה | I20: FOREIGN_GOV_SEC | J20: Aaa | K20: Moodys | L20: EUR | M20: 0.679 | N20: 09/10/2026 | O20: 0 | P20: 0.01999 | R20: 5197000 | S20: 3.636 | T20: 98.796 | U20: 18668.686 | W20: שווי הוגן | X20: 0.000217 | Y20: 0.010803977 | Z20: 0.0029911832
A21: 1035 | B21: 1036 | C21: US Govt | D21: TREASURY BILL 07/09/26 | E21: US912797RF64 | F21: נקוב במט"ח | G21: חו"ל | H21: ארה"ב | I21: FOREIGN_GOV_SEC | J21: Aa1 | K21: Moodys | L21: USD | M21: 0.180 | N21: 07/09/2026 | O21: 0 | P21: 0.03669 | R21: 10952000 | S21: 3.165 | T21: 99.01 | U21: 34319.881 | W21: שווי הוגן | X21: 8.2e-05 | Y21: 0.019861665 | Z21: 0.00549889
A22: 1035 | B22: 1036 | C22: US Govt | D22: B 0 05/19/26 | E22: US912797TS67 | F22: נקוב במט"ח | G22: חו"ל | H22: ארה"ב | I22: FOREIGN_GOV_SEC | J22: Aa1 | K22: Moodys | L22: USD | M22: 0.293 | N22: 19/05/2026 | O22: 0 | P22: 0.03663 | R22: 1400000 | S22: 3.165 | T22: 99.517 | U22: 4409.581 | W22: שווי הוגן | X22: 2e-05 | Y22: 0.0025519206 | Z22: 0.00070652338
A23: 1035 | B23: 1036 | C23: US Govt | D23: B 002/06/26 | E23: US912797TU14 | F23: נקוב במט"ח | G23: חו"ל | H23: ארה"ב | I23: FOREIGN_GOV_SEC | J23: Aa1 | K23: Moodys | L23: USD | M23: 0.078 | N23: 02/06/2026 | O23: 0 | P23: 0.03666 | R23: 5549000 | S23: 3.165 | T23: 99.379 | U23: 17453.539 | W23: שווי הוגן | X23: 0 | Y23: 0.010100744 | Z23: 0.0027964867
A24: 1035 | B24: 1036 | C24: US Govt | D24: T 1 1/8 02/28/27 | E24: US912828ZB95 | F24: נקוב במט"ח | G24: חו"ל | H24: ארה"ב | I24: FOREIGN_GOV_SEC | J24: Aa1 | K24: Moodys | L24: USD | M24: 0.818 | N24: 28/02/2027 | O24: 0.01125 | P24: 0.03754 | R24: 35684000 | S24: 3.165 | T24: 97.774 | U24: 110425.42 | W24: שווי הוגן | X24: 0 | Y24: 0.063905604 | Z24: 0.017692871
A25: 1035 | B25: 1037 | C25: מדינת ישראל | D25: ממשלתי שקלית 0142 | E25: IL0011254005 | F25: לא צמוד למדד המחירים לצרכן ריבית קבועה | G25: ישראל | H25: ישראל | I25: TASE | J25: RF | K25: פנימי | L25: ILS | M25: 11.221 | N25: 31/01/2042 | O25: 0.055 | P25: 0.04255 | R25: 8415565 | S25: 1 | T25: 115.07 | U25: 9683.791 | W25: שווי הוגן | X25: 0.000242 | Y25: 0.045896222 | Z25: 0.021604126
A26: 1035 | B26: 1037 | C26: מדינת ישראל | D26: ממשל שקלית 0327 | E26: IL0011393449 | F26: לא צמוד למדד המחירים לצרכן ריבית קבועה | G26: ישראל | H26: ישראל | I26: TASE | J26: RF | K26: פנימי | L26: ILS | M26: 0.992 | N26: 31/03/2027 | O26: 0.02 | P26: 0.03785 | R26: 12484191 | S26: 1 | T26: 98.31 | U26: 12273.208 | W26: שווי הוגן | X26: 0.000442 | Y26: 0.058168738 | Z26: 0.027381007
A27: 1035 | B27: 1037 | C27: מדינת ישראל | D27: ממשל שקלית 0347 | E27: IL0011401937 | F27: לא צמוד למדד המחירים לצרכן ריבית קבועה | G27: ישראל | H27: ישראל | I27: TASE | J27: RF | K27: פנימי | L27: ILS | M27: 14.563 | N27: 31/03/2047 | O27: 0.0375 | P27: 0.04414 | R27: 1211820 | S27: 1 | T27: 91.06 | U27: 1103.483 | W27: שווי הוגן | X27: 4.5e-05 | Y27: 0.0052299472 | Z27: 0.0024618244
A28: 1035 | B28: 1037 | C28: מדינת ישראל | D28: ממשל צמודה 0527 | E28: IL0011408478 | F28: צמוד למדד המחירים לצרכן בריבית קבועה | G28: ישראל | H28: ישראל | I28: TASE | J28: RF | K28: פנימי | L28: ILS | M28: 1.151 | N28: 31/05/2027 | O28: 0.0075 | P28: 0.01069 | R28: 2295052 | S28: 1 | T28: 119.45 | U28: 2741.44 | W28: שווי הוגן | X28: 9.4e-05 | Y28: 0.012993024 | Z28: 0.0061160355
A29: 1035 | B29: 1037 | C29: מדינת ישראל | D29: ממשלתית משתנה 05/26 0.0866% | E29: IL0011417958 | F29: לא צמוד למדד המחירים לצרכן ריבית משתנה | G29: ישראל | H29: ישראל | I29: TASE | J29: RF | K29: פנימי | L29: ILS | M29: 0.159 | N29: 31/05/2026 | O29: 0.0432 | P29: 0.04113 | R29: 1019801 | S29: 1 | T29: 100.24 | U29: 1022.249 | W29: שווי הוגן | X29: 7e-05 | Y29: 0.0048449359 | Z29: 0.0022805931
A30: 1035 | B30: 1037 | C30: מדינת ישראל | D30: ממשל שיקלית 0928 | E30: IL0011508798 | F30: לא צמוד למדד המחירים לצרכן ריבית קבועה | G30: ישראל | H30: ישראל | I30: TASE | J30: RF | K30: פנימי | L30: ILS | M30: 2.423 | N30: 28/09/2028 | O30: 0.0225 | P30: 0.03924 | R30: 901409 | S30: 1 | T30: 97.23 | U30: 876.44 | W30: שווי הוגן | X30: 2.6e-05 | Y30: 0.0041538778 | Z30: 0.0019553004
A31: 1035 | B31: 1037 | C31: מדינת ישראל | D31: ממשלתית צמודה 0.5% 0529 | E31: IL0011570236 | F31: צמוד למדד המחירים לצרכן בריבית קבועה | G31: ישראל | H31: ישראל | I31: TASE | J31: RF | K31: פנימי | L31: ILS | M31: 3.131 | N31: 31/05/2029 | O31: 0.005 | P31: 0.01828 | R31: 5239456 | S31: 1 | T31: 113.68 | U31: 5956.214 | W31: שווי הוגן | X31: 0.000174 | Y31: 0.02822941 | Z31: 0.01328806
A32: 1035 | B32: 1037 | C32: מדינת ישראל | D32: ממשלתית שקלית 1.00% 03/30 | E32: IL0011609851 | F32: לא צמוד למדד המחירים לצרכן ריבית קבועה | G32: ישראל | H32: ישראל | I32: TASE | J32: RF | K32: פנימי | L32: ILS | M32: 3.931 | N32: 31/03/2030 | O32: 0.01 | P32: 0.03921 | R32: 313588 | S32: 1 | T32: 89.4 | U32: 280.348 | W32: שווי הוגן | X32: 8e-06 | Y32: 0.0013287048 | Z32: 0.00062544377
A33: 1035 | B33: 1037 | C33: מדינת ישראל | D33: ממשלתית שקלית 0537 | E33: IL0011661803 | F33: לא צמוד למדד המחירים לצרכן ריבית קבועה | G33: ישראל | H33: ישראל | I33: TASE | J33: RF | K33: פנימי | L33: ILS | M33: 10.056 | N33: 31/05/2037 | O33: 0.015 | P33: 0.04165 | R33: 12530034 | S33: 1 | T33: 77.84 | U33: 9753.378 | W33: שווי הוגן | X33: 0.000299 | Y33: 0.046226032 | Z33: 0.021759374
A34: 1035 | B34: 1037 | C34: מדינת ישראל | D34: ממשלתי משתנה 1130 | E34: IL0011665523 | F34: לא צמוד למדד המחירים לצרכן ריבית משתנה | G34: ישראל | H34: ישראל | I34: TASE | J34: RF | K34: פנימי | L34: ILS | M34: 4.275 | N34: 29/11/2030 | O34: 0.0432 | P34: 0.04234 | R34: 703467 | S34: 1 | T34: 98.85 | U34: 695.377 | W34: שווי הוגן | X34: 1.9e-05 | Y34: 0.0032957324 | Z34: 0.0015513569
A35: 1035 | B35: 1037 | C35: מדינת ישראל | D35: ממשלתית צמודה 0726 | E35: IL0011695645 | F35: צמוד למדד המחירים לצרכן בריבית קבועה | G35: ישראל | H35: ישראל | I35: TASE | J35: RF | K35: פנימי | L35: ILS | M35: 0.326 | N35: 31/07/2026 | O35: 0.001 | P35: -0.00438 | R35: 8019375 | S35: 1 | T35: 118.24 | U35: 9482.109 | W35: שווי הוגן | X35: 0.000455 | Y35: 0.044940354 | Z35: 0.021154183
A36: 1035 | B36: 1037 | C36: מדינת ישראל | D36: ממשל צמודה 1131 | E36: IL0011722209 | F36: צמוד למדד המחירים לצרכן בריבית קבועה | G36: ישראל | H36: ישראל | I36: TASE | J36: RF | K36: פנימי | L36: ILS | M36: 5.647 | N36: 30/11/2031 | O36: 0.001 | P36: 0.01936 | R36: 3368540 | S36: 1 | T36: 106.48 | U36: 3586.821 | W36: שווי הוגן | X36: 9.8e-05 | Y36: 0.016999701 | Z36: 0.0080020464
... A158: 1035 | B158: 9939 | C158: US Govt | D158: TSY INFL IX N/B .75 022045 | E158: US912810RL44 | F158: נקוב במט"ח | G158: חו"ל | H158: ארה"ב | I158: FOREIGN_GOV_SEC | J158: Aa1 | K158: Moodys | L158: USD | M158: 17.411 | N158: 15/02/2045 | O158: 0.0075 | P158: 0.02552 | R158: 910000 | S158: 3.165 | T158: 97.666 | U158: 2812.921 | W158: שווי הוגן | X158: 4e-05 | Y158: 0.0015947305 | Z158: 0.00069876412
A159: 1035 | B159: 9939 | C159: US Govt | D159: TREASURY BILL 07/09/26 | E159: US912797RF64 | F159: נקוב במט"ח | G159: חו"ל | H159: ארה"ב | I159: FOREIGN_GOV_SEC | J159: Aa1 | K159: Moodys | L159: USD | M159: 0.180 | N159: 07/09/2026 | O159: 0 | P159: 0.03669 | R159: 6171000 | S159: 3.165 | T159: 99.01 | U159: 19337.836 | W159: שווי הוגן | X159: 4.6e-05 | Y159: 0.010963208 | Z159: 0.004803756
A160: 1035 | B160: 9939 | C160: מדינת ישראל | D160: ISRAEL 5 01/13/36 | E160: US46515CJZ86 | F160: נקוב במט"ח | G160: חו"ל | H160: ישראל | I160: אחר | J160: Baa1 | K160: Moodys | L160: USD | M160: 7.92 | N160: 13/01/2036 | O160: 0.05 | P160: 0.05219 | R160: 1018000 | S160: 3.165 | T160: 97.405 | U160: 3138.35 | W160: שווי הוגן | X160: 0.000509 | Y160: 0.0017792261 | Z160: 0.00077960469
A161: 1035 | B161: 9939 | C161: מדינת ישראל | D161: ISRAEL 5 7/8 01/13/56 | E161: US46515CKR42 | F161: נקוב במט"ח | G161: חו"ל | H161: ישראל | I161: אחר | J161: Baa1 | K161: Moodys | L161: USD | M161: 13.808 | N161: 13/01/2056 | O161: 0.05875 | P161: 0.06031 | R161: 473000 | S161: 3.165 | T161: 95.781 | U161: 1433.885 | W161: שווי הוגן | X161: 0.00027 | Y161: 0.0008129128 | Z161: 0.00035619455
A162: 1035 | B162: 9939 | C162: מדינת ישראל | D162: ISRAEL 4 1/2 13/01/2031 | E162: US46515CJY12 | F162: נקוב במט"ח | G162: חו"ל | H162: ישראל | I162: אחר | J162: Baa1 | K162: Moodys | L162: USD | M162: 4.479 | N162: 13/01/2031 | O162: 0.045 | P162: 0.04635 | R162: 26000 | S162: 3.165 | T162: 98.901 | U162: 81.385 | W162: שווי הוגן | X162: 1.2e-05 | Y162: 4.613985e-05 | Z162: 2.0217129e-05
A163: 1035 | B163: 9939 | C163: US Govt | D163: B 0 05/19/26 | E163: US912797TS67 | F163: נקוב במט"ח | G163: חו"ל | H163: ארה"ב | I163: FOREIGN_GOV_SEC | J163: Aa1 | K163: Moodys | L163: USD | M163: 0.293 | N163: 19/05/2026 | O163: 0 | P163: 0.03663 | R163: 820000 | S163: 3.165 | T163: 99.517 | U163: 2582.754 | W163: שווי הוגן | X163: 1.2e-05 | Y163: 0.001464242 | Z163: 0.00064158789
A164: 1035 | B164: 9939 | C164: US Govt | D164: B 002/06/26 | E164: US912797TU14 | F164: נקוב במט"ח | G164: חו"ל | H164: ארה"ב | I164: FOREIGN_GOV_SEC | J164: Aa1 | K164: Moodys | L164: USD | M164: 0.078 | N164: 02/06/2026 | O164: 0 | P164: 0.03666 | R164: 6419000 | S164: 3.165 | T164: 99.379 | U164: 20189.992 | W164: שווי הוגן | X164: 0 | Y164: 0.011446321 | Z164: 0.005015442
A165: 1035 | B165: 9939 | C165: US Govt | D165: T 1 1/8 02/28/27 | E165: US912828ZB95 | F165: נקוב במט"ח | G165: חו"ל | H165: ארה"ב | I165: FOREIGN_GOV_SEC | J165: Aa1 | K165: Moodys | L165: USD | M165: 0.818 | N165: 28/02/2027 | O165: 0.01125 | P165: 0.03754 | R165: 10580000 | S165: 3.165 | T165: 97.774 | U165: 32740.19 | W165: שווי הוגן | X165: 0 | Y165: 0.01856141 | Z165: 0.0081330653
...

Sheet ניירות ערך מסחריים
A1: מספר קופה/קרן/ח.פ. עבור חברת ביטוח | B1: מספר מסלול | C1: שם מנפיק | D1: מספר מנפיק | E1: סוג מספר מזהה מנפיק | F1: שם נייר ערך | G1: מספר נייר ערך | H1: סוג מספר נייר ערך | I1: מאפיין עיקרי | J1: ישראל/חו"ל | K1: מדינה לפי חשיפה כלכלית | L1: זירת מסחר | M1: ענף מסחר | N1: בעל עניין/צד קשור | O1: דירוג | P1: שם מדרג | Q1: דירוג נייר הערך/המנפיק | R1: מטבע פעילות | S1: מח"מ | T1: ריבית עוגן | U1: מועד פדיון | V1: שיעור ריבית | W1: תשואה לפדיון | X1: נחיתות חוזית | Y1: האם סווג כחוב בעייתי | Z1: ערך נקוב (יחידות) | AA1: שער חליפין | AB1: שער נייר הערך | AC1: סכום לקבל (במטבע הפעילות) | AD1: שווי הוגן (באלפי ש"ח) | AE1: עלות מופחתת (באלפי ש"ח) | AF1: עלות מופחתת (במטבע הפעילות) | AG1: השיטה שיושמה בדוח הכספי | AH1: שיעור מערך נקוב מונפק | AI1: שיעור מנכסי אפיק ההשקעה | AJ1: שיעור מסך נכסי ההשקעה

Sheet איגרות חוב
A1: מספר קופה/קרן/ח.פ. עבור חברת ביטוח | B1: מספר מסלול | C1: שם מנפיק | D1: מספר מנפיק | E1: סוג מספר מזהה מנפיק | F1: שם נייר ערך | G1: מספר נייר ערך | H1: סוג מספר נייר ערך | I1: מאפיין עיקרי | J1: ישראל/חו"ל | K1: מדינה לפי חשיפה כלכלית | L1: סטאטוס סחירות | M1: זירת מסחר | N1: ענף מסחר | O1: בעל עניין/צד קשור | P1: דירוג | Q1: שם מדרג | R1: דירוג נייר הערך/המנפיק | S1: מטבע פעילות | T1: מח"מ | U1: מועד פדיון | V1: שיעור ריבית | W1: תשואה לפדיון | X1: נחיתות חוזית | Y1: האם סווג כחוב בעייתי | Z1: ערך נקוב (יחידות) | AA1: שער חליפין | AB1: שער נייר הערך | AC1: סכום לקבל (במטבע הפעילות) | AD1: שווי הוגן (באלפי ש"ח) | AE1: עלות מופחתת (באלפי ש"ח) | AF1: עלות מופחתת (במטבע הפעילות) | AG1: השיטה שיושמה בדוח הכספי | AH1: שיעור מערך נקוב מונפק | AI1: שיעור מנכסי אפיק ההשקעה | AJ1: שיעור מסך נכסי ההשקעה
A2: 1035 | B2: 1036 | C2: פלאזה סנטרס | D2: 33248324 | E2: מספר תאגיד או שותפות בחו"ל | F2: פלאזה סנטרס אגח א | G2: IL0011094955 | H2: ISIN | I2: צמוד למדד המחירים לצרכן | J2: ישראל | K2: ישראל | L2: סחיר | M2: TASE | N2: בנייה | O2: לא | P2: NR | Q2: NR | R2: NR | S2: ILS | T2: NA | U2: 01/07/2026 | V2: 0.06 | W2: 0.0001 | X2: החוב לא נחות | Z2: 1498817.5 | AA2: 1 | AB2: 7.53 | AD2: 112.861 | AG2: שווי הוגן | AH2: 0.012728 | AI2: 0.0016659228 | AJ2: 1.8083105e-05
A3: 1035 | B3: 1036 | C3: פלאזה סנטרס | D3: 33248324 | E3: מספר תאגיד או שותפות בחו"ל | F3: פלאזה סנטרס אגח ב | G3: IL0011095036 | H3: ISIN | I3: צמוד למדד המחירים לצרכן | J3: ישראל | K3: ישראל | L3: סחיר | M3: TASE | N3: בנייה | O3: לא | P3: NR | Q3: NR | R3: NR | S3: ILS | T3: NA | U3: 01/07/2026 | V3: 0.069 | W3: 0.0001 | X3: החוב לא נחות | Z3: 421512.41 | AA3: 1 | AB3: 7 | AD3: 29.506 | AG3: שווי הוגן | AH3: 0.00244 | AI3: 0.00043553147 | AJ3: 4.7275667e-06
A4: 1035 | B4: 1036 | C4: קרדן אן.וי. | D4: 1239114 | E4: מספר תאגיד או שותפות בחו"ל | F4: קרדן אן וי אגח ב ( שימור | G4: IL0011130346 | H4: ISIN | I4: צמוד למדד המחירים לצרכן | J4: ישראל | K4: ישראל | L4: סחיר | M4: TASE | N4: השקעה ואחזקות | O4: לא | P4: NR | Q4: NR | R4: NR | S4: ILS | T4: NA | U4: 31/12/2026 | V4: 0.068 | W4: 0 | X4: החוב לא נחות | Z4: 31656.14 | AA4: 1 | AB4: 27.5 | AD4: 8.705 | AG4: שווי הוגן | AH4: 7e-05 | AI4: 0.0001284996 | AJ4: 1.3948256e-06
A5: 1035 | B5: 1036 | C5: פריים אנרג'י פי.אי בע"מ | D5: 514902147 | E5: ח.פ. | F5: פריים אנרג'י אגח ב | G5: IL0011846628 | H5: ISIN | I5: צמוד למדד המחירים לצרכן | J5: ישראל | K5: ישראל | L5: סחיר | M5: TASE | N5: אנרגיה מתחדשת | O5: לא | P5: NR | Q5: NR | R5: NR | S5: ILS | T5: 1.34 | U5: 30/06/2028 | V5: 0.04 | W5: 0.03302 | X5: החוב לא נחות | Z5: 64346.18 | AA5: 1 | AB5: 117.02 | AD5: 75.298 | AG5: שווי הוגן | AH5: 0.000991 | AI5: 0.0011114604 | AJ5: 1.2064578e-05
A6: 1035 | B6: 1036 | C6: מפעלים פטרוכימיים בישראל בע"מ | D6: 520029315 | E6: ח.פ. | F6: פטרוכימים אגח י | G6: IL0011902975 | H6: ISIN | I6: לא צמוד למדד המחירים לצרכן | J6: ישראל | K6: ישראל | L6: סחיר | M6: TASE | N6: אנרגיה | O6: לא | P6: NR | Q6: NR | R6: NR | S6: ILS | T6: 1.329 | U6: 01/08/2027 | V6: 0.1054 | W6: -0.03586 | X6: החוב לא נחות | Z6: 1336235 | AA6: 1 | AB6: 158.97 | AD6: 2124.213 | AG6: שווי הוגן | AH6: 0.008946 | AI6: 0.03135517 | AJ6: 0.00034035119
A7: 1035 | B7: 1036 | C7: כלל החזקות עסקי ביטוח בע"מ | D7: 520036120 | E7: ח.פ. | F7: כלל ביטוח אג ב | G7: IL0011934994 | H7: ISIN | I7: אג"ח להמרה לא צמוד למדד המחירים לצרכן | J7: ישראל | K7: ישראל | L7: סחיר | M7: TASE | N7: ביטוח | O7: לא | P7: AA- | Q7: S&P מעלות | R7: נייר ערך | S7: ILS | T7: 1.89 | U7: 28/02/2028 | V7: 0.028 | W7: 0 | X7: החוב לא נחות | Z7: 1710223 | AA7: 1 | AB7: 266 | AD7: 4549.193 | AG7: שווי הוגן | AH7: 0.018862 | AI7: 0.067149922 | AJ7: 0.00072889276
A8: 1035 | B8: 1036 | C8: איסתא בע"מ | D8: 520042763 | E8: ח.פ. | F8: איסתא אגח א להמרה | G8: IL0011971285 | H8: ISIN | I8: אג"ח להמרה לא צמוד למדד המחירים לצרכן | J8: ישראל | K8: ישראל | L8: סחיר | M8: TASE | N8: מלונאות ותיירות | O8: לא | P8: NR | Q8: NR | R8: NR | S8: ILS | T8: 2.137 | U8: 30/06/2028 | V8: 0.0485 | W8: -0.00773 | X8: החוב לא נחות | Z8: 2150995 | AA8: 1 | AB8: 114 | AD8: 2452.134 | AG8: שווי הוגן | AH8: 0.00717 | AI8: 0.036195567 | AJ8: 0.00039289229
A9: 1035 | B9: 1036 | C9: ג'י סיטי בע"מ | D9: 520033234 | E9: ח.פ. | F9: ג'י סיטי אג יז | G9: IL0011981425 | H9: ISIN | I9: אג"ח להמרה לא צמוד למדד המחירים לצרכן | J9: ישראל | K9: גלובלי | L9: סחיר | M9: TASE | N9: נדל"ן מניב בחו"ל | O9: לא | P9: A- | Q9: S&P מעלות | R9: נייר ערך | S9: ILS | T9: 2.939 | U9: 01/07/2029 | V9: 0.055 | W9: 0.06383 | X9: החוב לא נחות | Z9: 8787348.9 | AA9: 1 | AB9: 101.6 | AD9: 8927.946 | AG9: שווי הוגן | AH9: 0.017021 | AI9: 0.13178401 | AJ9: 0.0014304769
A10: 1035 | B10: 1036 | C10: סולאיר אנרגיות מתחדשות בע"מ | D10: 516046307 | E10: ח.פ. | F10: סולאיר ב | G10: IL0012148321 | H10: ISIN | I10: צמוד למדד המחירים לצרכן | J10: ישראל | K10: ישראל | L10: סחיר | M10: TASE | N10: אנרגיה מתחדשת | O10: לא | P10: NR | Q10: NR | R10: NR | S10: ILS | T10: 3.337 | U10: 30/06/2030 | V10: 0.049 | W10: 0.03788 | X10: החוב לא נחות | Z10: 303546 | AA10: 1 | AB10: 107.48 | AD10: 326.251 | AG10: שווי הוגן | AH10: 0.00046 | AI10: 0.0048157431 | AJ10: 5.2273482e-05
A11: 1035 | B11: 1036 | C11: ג'נריישן קפיטל בע"מ | D11: 515846558 | E11: ח.פ. | F11: ג'נרישן קפ אגחד | G11: IL0012149642 | H11: ISIN | I11: אג"ח להמרה לא צמוד למדד המחירים לצרכן | J11: ישראל | K11: ישראל | L11: סחיר | M11: TASE | N11: השקעה ואחזקות | O11: לא | P11: A+ | Q11: S&P מעלות | R11: נייר ערך | S11: ILS | T11: 3.236 | U11: 31/12/2029 | V11: 0.04 | W11: 0 | X11: החוב לא נחות | Z11: 10796905 | AA11: 1 | AB11: 300 | AD11: 32390.715 | AG11: שווי הוגן | AH11: 0.089506 | AI11: 0.47811423 | AJ11: 0.0051897901
A12: 1035 | B12: 1036 | C12: אנלייט אנרגיה מתחדשת בע"מ | D12: 520041146 | E12: ח.פ. | F12: אנלייט אג ח | G12: IL0012181306 | H12: ISIN | I12: אג"ח להמרה לא צמוד למדד המחירים לצרכן | J12: ישראל | K12: ישראל | L12: סחיר | M12: TASE | N12: אנרגיה מתחדשת | O12: לא | P12: A | Q12: S&P מעלות | R12: נייר ערך | S12: ILS | T12: 5.756 | U12: 01/09/2033 | V12: 0.04 | W12: -0.13002 | X12: החוב לא נחות | Z12: 2275000 | AA12: 1 | AB12: 270 | AD12: 6142.5 | AG12: שווי הוגן | AH12: 0.005742 | AI12: 0.090668473 | AJ12: 0.00098417975
A13: 1035 | B13: 1036 | C13: הפניקס אחזקות בע"מ | D13: 520017450 | E13: ח.פ. | F13: הפניקס 7 | G13: IL0012346321 | H13: ISIN | I13: אג"ח להמרה לא צמוד למדד המחירים לצרכן | J13: ישראל | K13: ישראל | L13: סחיר | M13: TASE | N13: ביטוח | O13: לא | P13: AA | Q13: S&P מעלות | R13: נייר ערך | S13: ILS | T13: 2.187 | U13: 30/06/2028 | V13: 0.025 | W13: 0.00409 | X13: החוב לא נחות | Z13: 1755290 | AA13: 1 | AB13: 105.2 | AD13: 1846.565 | AG13: שווי הוגן | AH13: 0.004441 | AI13: 0.027256856 | AJ13: 0.00029586519
A14: 1035 | B14: 1036 | C14: מטריקס אי.טי בע"מ | D14: 520039413 | E14: ח.פ. | F14: מטריקס 2 0.5% 01.02.31 | G14: IL0012359696 | H14: ISIN | I14: אג"ח להמרה לא צמוד למדד המחירים לצרכן | J14: ישראל | K14: ישראל | L14: סחיר | M14: TASE | N14: שרותי מידע | O14: לא | P14: Aa2 | Q14: מידרוג Moodys | R14: נייר ערך | S14: ILS | T14: 4.779 | U14: 01/02/2031 | V14: 0.005 | W14: 0.02637 | X14: החוב לא נחות | Z14: 1148780 | AA14: 1 | AB14: 90.5 | AD14: 1039.646 | AG14: שווי הוגן | AH14: 0.003868 | AI14: 0.015346049 | AJ14: 0.00016657687
A15: 1035 | B15: 1036 | C15: אלומה קרן תשתיות (2020) בע"מ | D15: 516214871 | E15: ח.פ. | F15: אלומה אג 1 | G15: IL0012385188 | H15: ISIN | I15: אג"ח להמרה לא צמוד למדד המחירים לצרכן | J15: ישראל | K15: ישראל | L15: סחיר | M15: TASE | N15: השקעה ואחזקות | O15: לא | P15: NR | Q15: NR | R15: NR | S15: ILS | T15: 4.406 | U15: 30/06/2031 | V15: 0.046 | W15: 0.04661 | X15: החוב לא נחות | Z15: 1172000 | AA15: 1 | AB15: 100 | AD15: 1172 | AG15: שווי הוגן | AH15: 0.006168 | AI15: 0.017299707 | AJ15: 0.00018778326
A16: 1035 | B16: 1036 | C16: אנלייט אנרגיה מתחדשת בע"מ | D16: 520041146 | E16: ח.פ. | F16: אנלייט אנרגיה אגח ג | G16: IL0072002491 | H16: ISIN | I16: אג"ח להמרה לא צמוד למדד המחירים לצרכן | J16: ישראל | K16: ארה"ב | L16: סחיר | M16: TASE | N16: אנרגיה מתחדשת | O16: לא | P16: A | Q16: S&P מעלות | R16: נייר ערך | S16: ILS | T16: 2.398 | U16: 01/09/2028 | V16: 0.0075 | W16: -0.01757 | X16: החוב לא נחות | Z16: 407081 | AA16: 1 | AB16: 106.3 | AD16: 432.727 | AG16: שווי הוגן | AH16: 0.000766 | AI16: 0.0063874164 | AJ16: 6.9333537e-05
... A18: 1035 | B18: 1036 | C18: אורמת טכנולגיות אינק | D18: 5493000TSHHWY24VHM09 | E18: LEI | F18: 03/15/31 ֻ ORA 1 | G18: US686688AD42 | H18: ISIN | I18: צמוד למט"ח | J18: חו"ל | K18: ארה"ב | L18: סחיר | M18: אחר | N18: Electric Utilities | O18: לא | P18: NR | Q18: NR | R18: NR | S18: USD | T18: 0 | U18: 15/03/2031 | V18: 0.015 | W18: 0 | X18: החוב לא נחות | Z18: 1827000 | AA18: 3.165 | AB18: 104.062 | AD18: 6017.346 | AG18: שווי הוגן | AH18: 0.00252 | AI18: 0.088821087 | AJ18: 0.00096412692
A19: 1035 | B19: 1037 | C19: פלאזה סנטרס | D19: 33248324 | E19: מספר תאגיד או שותפות בחו"ל | F19: פלאזה סנטרס אגח ב | G19: IL0011095036 | H19: ISIN | I19: צמוד למדד המחירים לצרכן | J19: ישראל | K19: ישראל | L19: סחיר | M19: TASE | N19: בנייה | O19: לא | P19: NR | Q19: NR | R19: NR | S19: ILS | T19: NA | U19: 01/07/2026 | V19: 0.069 | W19: 0.0001 | X19: החוב לא נחות | Z19: 184081.07 | AA19: 1 | AB19: 7 | AD19: 12.886 | AG19: שווי הוגן | AH19: 0.001066 | AI19: 9.8172124e-05 | AJ19: 2.8747394e-05
A20: 1035 | B20: 1037 | C20: קרדן אן.וי. | D20: 1239114 | E20: מספר תאגיד או שותפות בחו"ל | F20: קרדן אן וי אגח ב ( שימור | G20: IL0011130346 | H20: ISIN | I20: צמוד למדד המחירים לצרכן | J20: ישראל | K20: ישראל | L20: סחיר | M20: TASE | N20: השקעה ואחזקות | O20: לא | P20: NR | Q20: NR | R20: NR | S20: ILS | T20: NA | U20: 31/12/2026 | V20: 0.068 | W20: 0 | X20: החוב לא נחות | Z20: 261489.44 | AA20: 1 | AB20: 27.5 | AD20: 71.91 | AG20: שווי הוגן | AH20: 0.000576 | AI20: 0.00054785782 | AJ20: 0.00016042726
A21: 1035 | B21: 1037 | C21: התעשיה האוירית לישראל בע"מ | D21: 520027194 | E21: ח.פ. | F21: תעשיה אוירית אגח ד | G21: IL0011331316 | H21: ISIN | I21: לא צמוד למדד המחירים לצרכן | J21: ישראל | K21: ישראל | L21: סחיר | M21: TASE | N21: ביטחוניות | O21: לא | P21: AAA | Q21: S&P מעלות | R21: נייר ערך | S21: ILS | T21: 0.651 | U21: 01/12/2026 | V21: 0.0495 | W21: 0.04241 | X21: החוב לא נחות | Z21: 36135.53 | AA21: 1 | AB21: 102.15 | AD21: 36.912 | AG21: שווי הוגן | AH21: 0.000234 | AI21: 0.00028122493 | AJ21: 8.2350097e-05
A22: 1035 | B22: 1037 | C22: קרסו מוטורס בע"מ | D22: 514065283 | E22: ח.פ. | F22: קרסו מוטורס אגח א | G22: IL0011364648 | H22: ISIN | I22: לא צמוד למדד המחירים לצרכן | J22: ישראל | K22: ישראל | L22: סחיר | M22: TASE | N22: מסחר | O22: לא | P22: AA- | Q22: S&P מעלות | R22: נייר ערך | S22: ILS | T22: 0.414 | U22: 01/09/2026 | V22: 0.0275 | W22: 0.05024 | X22: החוב לא נחות | Z22: 45271.03 | AA22: 1 | AB22: 99.34 | AD22: 44.972 | AG22: שווי הוגן | AH22: 0.000984 | AI22: 0.00034263013 | AJ22: 0.00010033116
A23: 1035 | B23: 1037 | C23: ריט 1 בע"מ | D23: 513821488 | E23: ח.פ. | F23: ריט 1 אגח ו | G23: IL0011385445 | H23: ISIN | I23: צמוד למדד המחירים לצרכן | J23: ישראל | K23: ישראל | L23: סחיר | M23: TASE | N23: נדל"ן מניב בישראל | O23: לא | P23: AA | Q23: S&P מעלות | R23: נייר ערך | S23: ILS | T23: 2.824 | U23: 21/09/2031 | V23: 0.035 | W23: 0.02587 | X23: החוב לא נחות | Z23: 1314415.7 | AA23: 1 | AB23: 123 | AD23: 1616.731 | AG23: שווי הוגן | AH23: 0.001943 | AI23: 0.012317395 | AJ23: 0.0036068591
A24: 1035 | B24: 1037 | C24: קבוצת עזריאלי בע"מ (לשעבר קנית מימון) | D24: 510960719 | E24: ח.פ. | F24: עזריאלי אגח ד | G24: IL0011386500 | H24: ISIN | I24: צמוד למדד המחירים לצרכן | J24: ישראל | K24: ישראל | L24: סחיר | M24: TASE | N24: נדל"ן מניב בישראל | O24: לא | P24: AA+ | Q24: S&P מעלות | R24: נייר ערך | S24: ILS | T24: 2.196 | U24: 05/07/2030 | V24: 0.0134 | W24: 0.02472 | X24: החוב לא נחות | Z24: 1198885.6 | AA24: 1 | AB24: 116.87 | AD24: 1401.138 | AG24: שווי הוגן | AH24: 0.000603 | AI24: 0.010674851 | AJ24: 0.0031258786
A25: 1035 | B25: 1037 | C25: מגה אור החזקות בע"מ | D25: 513257873 | E25: ח.פ. | F25: מגה אור אגח ו | G25: IL0011386682 | H25: ISIN | I25: צמוד למדד המחירים לצרכן | J25: ישראל | K25: ישראל | L25: סחיר | M25: TASE | N25: נדל"ן מניב בישראל | O25: לא | P25: A+ | Q25: S&P מעלות | R25: נייר ערך | S25: ILS | T25: 0.241 | U25: 30/06/2026 | V25: 0.0205 | W25: 0.00157 | X25: החוב לא נחות | Z25: 137943.5 | AA25: 1 | AB25: 120.55 | AD25: 166.291 | AG25: שווי הוגן | AH25: 0.001118 | AI25: 0.0012669208 | AJ25: 0.00037098792
A26: 1035 | B26: 1037 | C26: ביג מרכזי קניות (2004) בע"מ | D26: 513623314 | E26: ח.פ. | F26: ביג ח | G26: IL0011389249 | H26: ISIN | I26: צמוד למדד המחירים לצרכן | J26: ישראל | K26: ישראל | L26: סחיר | M26: TASE | N26: נדל"ן מניב בישראל | O26: לא | P26: AA | Q26: S&P מעלות | R26: נייר ערך | S26: ILS | T26: 0.025 | U26: 12/04/2026 | V26: 0.0134 | W26: 0.07298 | X26: החוב לא נחות | Z26: 184805.42 | AA26: 1 | AB26: 119.6 | AD26: 221.027 | AG26: שווי הוגן | AH26: 0.00041 | AI26: 0.0016839411 | AJ26: 0.00049310249
A27: 1035 | B27: 1037 | C27: סלע קפיטל נדל"ן בע"מ | D27: 513992529 | E27: ח.פ. | F27: סלע נדלן אגח ג | G27: IL0011389736 | H27: ISIN | I27: צמוד למדד המחירים לצרכן | J27: ישראל | K27: ישראל | L27: סחיר | M27: TASE | N27: נדל"ן מניב בישראל | O27: לא | P27: Aa3 | Q27: מידרוג Moodys | R27: נייר ערך | S27: ILS | T27: 1.485 | U27: 13/04/2029 | V27: 0.0196 | W27: 0.02238 | X27: החוב לא נחות | Z27: 1082033 | AA27: 1 | AB27: 119.16 | AD27: 1289.351 | AG27: שווי הוגן | AH27: 0.00126 | AI27: 0.0098231781 | AJ27: 0.0028764863
A28: 1035 | B28: 1037 | C28: סלקום ישראל בע"מ | D28: 511930125 | E28: ח.פ. | F28: סלקום אגח יא | G28: IL0011392524 | H28: ISIN | I28: לא צמוד למדד המחירים לצרכן | J28: ישראל | K28: ישראל | L28: סחיר | M28: TASE | N28: תקשורת ומדיה | O28: לא | P28: AA- | Q28: S&P מעלות | R28: נייר ערך | S28: ILS | T28: 0.255 | U28: 05/07/2026 | V28: 0.0355 | W28: 0.05113 | X28: החוב לא נחות | Z28: 296090.5 | AA28: 1 | AB28: 100.49 | AD28: 297.541 | AG28: שווי הוגן | AH28: 0.002083 | AI28: 0.002266879 | AJ28: 0.00066380212
A29: 1035 | B29: 1037 | C29: לוינשטיין נכסים | D29: 511134298 | E29: ח.פ. | F29: לוינשט נכ אגח ב | G29: IL0011397168 | H29: ISIN | I29: צמוד למדד המחירים לצרכן | J29: ישראל | K29: ישראל | L29: סחיר | M29: TASE | N29: נדל"ן מניב בישראל | O29: לא | P29: A+ | Q29: S&P מעלות | R29: נייר ערך | S29: ILS | T29: 1.224 | U29: 31/12/2027 | V29: 0.023 | W29: 0.02662 | X29: החוב לא נחות | Z29: 195009 | AA29: 1 | AB29: 119.45 | AD29: 232.938 | AG29: שווי הוגן | AH29: 0.005183 | AI29: 0.0017746872 | AJ29: 0.00051967536
A30: 1035 | B30: 1037 | C30: רבוע כחול נדל"ן בע"מ | D30: 513765859 | E30: ח.פ. | F30: רבוע נדלן אגח ו | G30: IL0011406076 | H30: ISIN | I30: צמוד למדד המחירים לצרכן | J30: ישראל | K30: ישראל | L30: סחיר | M30: TASE | N30: נדל"ן מניב בישראל | O30: לא | P30: AA | Q30: S&P מעלות | R30: נייר ערך | S30: ILS | T30: 0.655 | U30: 30/11/2026 | V30: 0.0215 | W30: 0.01725 | X30: החוב לא נחות | Z30: 304249.5 | AA30: 1 | AB30: 120.7 | AD30: 367.229 | AG30: שווי הוגן | AH30: 0.000434 | AI30: 0.0027978096 | AJ30: 0.00081927265
A31: 1035 | B31: 1037 | C31: רבוע כחול נדל"ן בע"מ | D31: 513765859 | E31: ח.פ. | F31: רבוע נדלן אגח ז | G31: IL0011406159 | H31: ISIN | I31: צמוד למדד המחירים לצרכן | J31: ישראל | K31: ישראל | L31: סחיר | M31: TASE | N31: נדל"ן מניב בישראל | O31: לא | P31: AA | Q31: S&P מעלות | R31: נייר ערך | S31: ILS | T31: 0.656 | U31: 30/11/2026 | V31: 0.016 | W31: 0.02071 | X31: החוב לא נחות | Z31: 260062.02 | AA31: 1 | AB31: 119.78 | AD31: 311.502 | AG31: שווי הוגן | AH31: 0.001792 | AI31: 0.0023732433 | AJ31: 0.00069494839
A32: 1035 | B32: 1037 | C32: ביג מרכזי קניות (2004) בע"מ | D32: 513623314 | E32: ח.פ. | F32: ביג אג"ח ט' | G32: IL0011410508 | H32: ISIN | I32: צמוד למדד המחירים לצרכן | J32: ישראל | K32: ישראל | L32: סחיר | M32: TASE | N32: נדל"ן מניב בישראל | O32: לא | P32: AA- | Q32: S&P מעלות | R32: נייר ערך | S32: ILS | T32: 0.71 | U32: 20/12/2026 | V32: 0.0195 | W32: 0.02024 | X32: החוב לא נחות | Z32: 410405 | AA32: 1 | AB32: 119.5 | AD32: 490.434 | AG32: שווי הוגן | AH32: 0.002437 | AI32: 0.0037364706 | AJ32: 0.0010941374
... A58: 1035 | B58: 1037 | C58: אלון רבוע כחול ישראל בעמ | D58: 520042847 | E58: ח.פ. | F58: אלון רבוע כחול אגח ו | G58: IL0011691271 | H58: ISIN | I58: לא צמוד למדד המחירים לצרכן | J58: ישראל | K58: ישראל | L58: סחיר | M58: TASE | N58: השקעה ואחזקות | O58: לא | P58: AA- | Q58: S&P מעלות | R58: נייר ערך | S58: ILS | T58: 0.493 | U58: 30/09/2026 | V58: 0.039 | W58: 0.05035 | X58: החוב לא נחות | Z58: 970578 | AA58: 1 | AB58: 99.51 | AD58: 965.822 | AG58: שווי הוגן | AH58: 0.003369 | AI58: 0.0073583118 | AJ58: 0.0021547083
A59: 1035 | B59: 1037 | C59: ZARASAI GROUP LTD | D59: 1744984 | E59: מספר תאגיד או שותפות בחו"ל | F59: דה זראסאי אגח ה | G59: IL0011695561 | H59: ISIN | I59: לא צמוד למדד המחירים לצרכן | J59: ישראל | K59: ארה"ב | L59: סחיר | M59: TASE | N59: נדל"ן מניב בחו"ל | O59: לא | P59: NR | Q59: NR | R59: NR | S59: ILS | T59: NA | U59: 31/12/2026 | V59: 0.0265 | W59: 0 | X59: החוב לא נחות | Z59: 1053548 | AA59: 1 | AB59: 64.32 | AD59: 677.642 | AG59: שווי הוגן | AH59: 0.003806 | AI59: 0.0051627533 | AJ59: 0.0015117907
A60: 1035 | B60: 1037 | C60: ריט 1 בע"מ | D60: 513821488 | E60: ח.פ. | F60: ריט 1 אגח ז | G60: IL0011712713 | H60: ISIN | I60: צמוד למדד המחירים לצרכן | J60: ישראל | K60: ישראל | L60: סחיר | M60: TASE | N60: נדל"ן מניב בישראל | O60: לא | P60: AA | Q60: S&P מעלות | R60: נייר ערך | S60: ILS | T60: 5.398 | U60: 20/09/2034 | V60: 0.025 | W60: 0.02772 | X60: החוב לא נחות | Z60: 0.89 | AA60: 1 | AB60: 116.35 | AD60: 0.001 | AG60: שווי הוגן | AH60: 0 | AI60: 7.8892807e-09 | AJ60: 2.31019e-09
A61: 1035 | B61: 1037 | C61: מרכנתיל הנפקות בע"מ | D61: 513686154 | E61: ח.פ. | F61: מרכנתיל 4 | G61: IL0011713059 | H61: ISIN | I61: צמוד למדד המחירים לצרכן | J61: ישראל | K61: ישראל | L61: סחיר | M61: TASE | N61: בנקים | O61: לא | P61: AAA | Q61: S&P מעלות | R61: נייר ערך | S61: ILS | T61: 2.29 | U61: 30/01/2030 | V61: 0.015 | W61: 0.0216 | X61: החוב לא נחות | Z61: 485982.57 | AA61: 1 | AB61: 116.38 | AD61: 565.587 | AG61: שווי הוגן | AH61: 0.002608 | AI61: 0.0043090354 | AJ61: 0.0012617995
A62: 1035 | B62: 1037 | C62: יוניברסל מוטורס ישראל בע"מ | D62: 511809071 | E62: ח.פ. | F62: יוניברסל אגח ד | G62: IL0011722530 | H62: ISIN | I62: לא צמוד למדד המחירים לצרכן | J62: ישראל | K62: ישראל | L62: סחיר | M62: TASE | N62: מסחר | O62: לא | P62: AA- | Q62: S&P מעלות | R62: נייר ערך | S62: ILS | T62: 1.429 | U62: 11/02/2029 | V62: 0.0218 | W62: 0.0486 | X62: החוב לא נחות | Z62: 0.47 | AA62: 1 | AB62: 96.67 | AD62: 0 | AG62: שווי הוגן | AH62: 0 | AI62: 3.4615499e-09 | AJ62: 1.0136333e-09
A63: 1035 | B63: 1037 | C63: אלומיי קפיטל בע"מ | D63: 520039868 | E63: ח.פ. | F63: אלומיי ד | G63: IL0011729568 | H63: ISIN | I63: אג"ח להמרה לא צמוד למדד המחירים לצרכן | J63: ישראל | K63: ישראל | L63: סחיר | M63: TASE | N63: אנרגיה מתחדשת | O63: לא | P63: NR | Q63: NR | R63: NR | S63: ILS | T63: 0.742 | U63: 31/12/2026 | V63: 0.012 | W63: 0.05584 | X63: החוב לא נחות | Z63: 610103 | AA63: 1 | AB63: 97.2 | AD63: 593.02 | AG63: שווי הוגן | AH63: 0.00984 | AI63: 0.0045180438 | AJ63: 0.0013230027
A64: 1035 | B64: 1037 | C64: קרסו מוטורס בע"מ | D64: 514065283 | E64: ח.פ. | F64: קרסו מוטורס אגח ד | G64: IL0011735664 | H64: ISIN | I64: לא צמוד למדד המחירים לצרכן | J64: ישראל | K64: ישראל | L64: סחיר | M64: TASE | N64: מסחר | O64: לא | P64: AA- | Q64: S&P מעלות | R64: נייר ערך | S64: ILS | T64: 1.34 | U64: 01/10/2028 | V64: 0.0215 | W64: 0.04774 | X64: החוב לא נחות | Z64: 135233.66 | AA64: 1 | AB64: 96.67 | AC64: 14.282 | AD64: 145.013 | AG64: שווי הוגן | AH64: 0.000249 | AI64: 0.0011048079 | AJ64: 0.00032351698
A65: 1035 | B65: 1037 | C65: אפי נכסים בע"מ | D65: 510560188 | E65: ח.פ. | F65: אפי נכסים אגח יב | G65: IL0011737645 | H65: ISIN | I65: לא צמוד למדד המחירים לצרכן | J65: ישראל | K65: ישראל | L65: סחיר | M65: TASE | N65: נדל"ן מניב בחו"ל | O65: לא | P65: A+ | Q65: S&P מעלות | R65: נייר ערך | S65: ILS | T65: 1.388 | U65: 15/09/2027 | V65: 0.023 | W65: 0.04775 | X65: החוב לא נחות | Z65: 1167688.6 | AA65: 1 | AB65: 96.86 | AD65: 1131.023 | AG65: שווי הוגן | AH65: 0.00172 | AI65: 0.0086169291 | AJ65: 0.0025232647
A66: 1035 | B66: 1037 | C66: חברת נמלי ישראל - פיתוח נכסים בע"מ | D66: 513569780 | E66: ח.פ. | F66: נמלי ישראל אגח ד | G66: IL0011750333 | H66: ISIN | I66: צמוד למדד המחירים לצרכן | J66: ישראל | K66: ישראל | L66: סחיר | M66: TASE | N66: נדל"ן מניב בישראל | O66: לא | P66: AAA | Q66: S&P מעלות | R66: נייר ערך | S66: ILS | T66: 12.099 | U66: 31/12/2045 | V66: 0.0096 | W66: 0.0282 | X66: החוב לא נחות | Z66: 282707 | AA66: 1 | AB66: 93.74 | AD66: 265.01 | AG66: שווי הוגן | AH66: 0.000259 | AI66: 0.0020190289 | AJ66: 0.00059122505
...

Sheet מניות מבכ ויהש
A1: מספר קופה/קרן/ח.פ. עבור חברת ביטוח | B1: מספר מסלול | C1: שם מנפיק | D1: מספר מנפיק | E1: סוג מספר מזהה מנפיק | F1: שם נייר ערך | G1: מספר נייר ערך | H1: סוג מספר נייר ערך | I1: מאפיין עיקרי | J1: ישראל/חו"ל | K1: מדינה לפי חשיפה כלכלית | L1: סטאטוס סחירות | M1: זירת מסחר | N1: ענף מסחר | O1: בעל עניין/צד קשור | P1: מטבע פעילות | Q1: ערך נקוב (יחידות) | R1: שער חליפין | S1: שער נייר הערך | T1: סכום לקבל (במטבע הפעילות) | U1: שווי הוגן (באלפי ש"ח) | V1: שיעור מערך נקוב מונפק | W1: שיעור מנכסי אפיק ההשקעה | X1: שיעור מסך נכסי ההשקעה
A2: 1035 | B2: 1036 | C2: ג'י סיטי בע"מ | D2: 520033234 | E2: ח.פ. | F2: ג'י סיטי | G2: IL0001260111 | H2: ISIN | I2: מניות | J2: ישראל | K2: גלובלי | L2: סחיר | M2: TASE | N2: נדל"ן מניב בחו"ל | O2: לא | P2: ILS | Q2: 32851 | R2: 1 | S2: 1165 | U2: 382.714 | V2: 0.000164 | W2: 0.0001814089 | X2: 6.132023e-05
A3: 1035 | B3: 1036 | C3: מבטח שמיר אחזקות בע"מ | D3: 520034125 | E3: ח.פ. | F3: מבטח שמיר | G3: IL0001270193 | H3: ISIN | I3: מניות | J3: ישראל | K3: ישראל | L3: סחיר | M3: TASE | N3: השקעה ואחזקות | O3: לא | P3: ILS | Q3: 17153 | R3: 1 | S3: 37350 | U3: 6406.645 | V3: 0.001622 | W3: 0.00303679 | X3: 0.0010265024
A4: 1035 | B4: 1036 | C4: זנלכל בע"מ | D4: 520034208 | E4: ח.פ. | F4: זנלכל | G4: IL0001300131 | H4: ISIN | I4: מניות | J4: ישראל | K4: ישראל | L4: סחיר | M4: TASE | N4: מזון | O4: לא | P4: ILS | Q4: 34133 | R4: 1 | S4: 3921 | U4: 1338.355 | V4: 0.001492 | W4: 0.00063438861 | X4: 0.00021443741
A5: 1035 | B5: 1036 | C5: להב אל.אר רילאסטייט בעמ | D5: 520034257 | E5: ח.פ. | F5: להב | G5: IL0001360101 | H5: ISIN | I5: מניות | J5: ישראל | K5: ישראל | L5: סחיר | M5: TASE | N5: השקעה ואחזקות | O5: לא | P5: ILS | Q5: 444758 | R5: 1 | S5: 1081 | U5: 4807.834 | V5: 0.001517 | W5: 0.0022789434 | X5: 0.00077033339
A6: 1035 | B6: 1036 | C6: תדאה, פיתוח טכנולוגי ואוטומציה בע"מ | D6: 520034364 | E6: ח.פ. | F6: תדאה | G6: IL0001420186 | H6: ISIN | I6: מניות | J6: ישראל | K6: ישראל | L6: סחיר | M6: TASE | N6: השקעה ואחזקות | O6: לא | P6: ILS | Q6: 16004 | R6: 1 | S6: 389.8 | U6: 62.384 | V6: 0.002447 | W6: 2.9570213e-05 | X6: 9.9953875e-06
A7: 1035 | B7: 1036 | C7: קבוצת גולד בונד בע"מ | D7: 520034349 | E7: ח.פ. | F7: גולד | G7: IL0001490130 | H7: ISIN | I7: מניות | J7: ישראל | K7: ישראל | L7: סחיר | M7: TASE | N7: שרותים | O7: לא | P7: ILS | Q7: 806 | R7: 1 | S7: 23740 | U7: 191.344 | V7: 0.000199 | W7: 9.0698443e-05 | X7: 3.0658084e-05
A8: 1035 | B8: 1036 | C8: חירון-מסחר השקעות ומבנה תעשיה בע"מ | D8: 520034216 | E8: ח.פ. | F8: חירון | G8: IL0001500110 | H8: ISIN | I8: מניות | J8: ישראל | K8: ישראל | L8: סחיר | M8: TASE | N8: השקעה ואחזקות | O8: לא | P8: ILS | Q8: 3279 | R8: 1 | S8: 249980 | U8: 8196.844 | V8: 0.00664 | W8: 0.0038853554 | X8: 0.0013133363
A9: 1035 | B9: 1036 | C9: מלם-תים בע"מ | D9: 520034620 | E9: ח.פ. | F9: מלם תים | G9: IL0001560189 | H9: ISIN | I9: מניות | J9: ישראל | K9: ישראל | L9: סחיר | M9: TASE | N9: שרותי מידע | O9: לא | P9: ILS | Q9: 22652 | R9: 1 | S9: 8180 | U9: 1852.934 | V9: 0.000867 | W9: 0.00087830212 | X9: 0.00029688559
A10: 1035 | B10: 1036 | C10: נטו מ.ע. אחזקות בע"מ | D10: 520034109 | E10: ח.פ. | F10: נטו אחזקות | G10: IL0001680136 | H10: ISIN | I10: מניות | J10: ישראל | K10: ישראל | L10: סחיר | M10: TASE | N10: מזון | O10: לא | P10: ILS | Q10: 23377 | R10: 1 | S10: 26330 | U10: 6155.164 | V10: 0.006285 | W10: 0.0029175863 | X10: 0.00098620885
A11: 1035 | B11: 1036 | C11: כלל החזקות עסקי ביטוח בע"מ | D11: 520036120 | E11: ח.פ. | F11: כלל ביטוח | G11: IL0002240146 | H11: ISIN | I11: מניות | J11: ישראל | K11: ישראל | L11: סחיר | M11: TASE | N11: ביטוח | O11: לא | P11: ILS | Q11: 209122 | R11: 1 | S11: 22200 | U11: 46425.084 | V11: 0.002589 | W11: 0.02200578 | X11: 0.0074384416
A12: 1035 | B12: 1036 | C12: מבנה נדל"ן (כ.ד) בע"מ | D12: 520024126 | E12: ח.פ. | F12: מבנה | G12: IL0002260193 | H12: ISIN | I12: מניות | J12: ישראל | K12: ישראל | L12: סחיר | M12: TASE | N12: נדל"ן מניב בישראל | O12: לא | P12: ILS | Q12: 1192163 | R12: 1 | S12: 1303 | U12: 15533.884 | V12: 0.001647 | W12: 0.0073631581 | X12: 0.0024889107
A13: 1035 | B13: 1036 | C13: בזק החברה הישראלית לתקשורת בע"מ | D13: 520031931 | E13: ח.פ. | F13: בזק | G13: IL0002300114 | H13: ISIN | I13: מניות | J13: ישראל | K13: ישראל | L13: סחיר | M13: TASE | N13: תקשורת ומדיה | O13: לא | P13: ILS | Q13: 5053178 | R13: 1 | S13: 749 | U13: 37848.303 | V13: 0.001819 | W13: 0.017940333 | X13: 0.0060642301
... A19: 1035 | B19: 1036 | C19: מפעלי פ.מ.ס. מיגון בע"מ | D19: 520037284 | E19: ח.פ. | F19: פמס | G19: IL0003150104 | H19: ISIN | I19: מניות | J19: ישראל | K19: ישראל | L19: סחיר | M19: TASE | N19: אופנה והלבשה | O19: לא | P19: ILS | Q19: 13494 | R19: 1 | S19: 26010 | U19: 3509.789 | V19: 0.001468 | W19: 0.0016636621 | X19: 0.00056235468
A20: 1035 | B20: 1036 | C20: מליסרון בע"מ | D20: 520037789 | E20: ח.פ. | F20: מליסרון | G20: IL0003230146 | H20: ISIN | I20: מניות | J20: ישראל | K20: ישראל | L20: סחיר | M20: TASE | N20: נדל"ן מניב בישראל | O20: לא | P20: ILS | Q20: 52565 | R20: 1 | S20: 40600 | T20: 99.196 | U20: 21440.586 | V20: 0.001102 | W20: 0.010162972 | X20: 0.0034353097
A21: 1035 | B21: 1036 | C21: פריורטק בע"מ | D21: 520037797 | E21: ח.פ. | F21: פריורטק | G21: IL0003280133 | H21: ISIN | I21: מניות | J21: ישראל | K21: גלובלי | L21: סחיר | M21: TASE | N21: מוליכים למחצה | O21: לא | P21: ILS | Q21: 47490 | R21: 1 | S21: 25650 | U21: 12181.185 | V21: 0.003617 | W21: 0.0057739579 | X21: 0.0019517258
A22: 1035 | B22: 1036 | C22: קבוצת פנינסולה בע"מ | D22: 520033713 | E22: ח.פ. | F22: פנינסולה | G22: IL0003330136 | H22: ISIN | I22: מניות | J22: ישראל | K22: ישראל | L22: סחיר | M22: TASE | N22: אשראי חוץ בנקאי | O22: לא | P22: ILS | Q22: 385412 | R22: 1 | S22: 268.2 | U22: 1033.675 | V22: 0.001614 | W22: 0.00048996841 | X22: 0.00016562018
A23: 1035 | B23: 1036 | C23: ח.מר תעשיות בע"מ | D23: 520037805 | E23: ח.פ. | F23: מר | G23: IL0003380123 | H23: ISIN | I23: מניות | J23: ישראל | K23: ישראל | L23: סחיר | M23: TASE | N23: חשמל | O23: לא | P23: ILS | Q23: 57414 | R23: 1 | S23: 4300 | U23: 2468.802 | V23: 0.004055 | W23: 0.0011702276 | X23: 0.00039556287
A24: 1035 | B24: 1036 | C24: חד-אסף תעשיות בע"מ | D24: 520038449 | E24: ח.פ. | F24: חד אסף תעשיות | G24: IL0003510158 | H24: ISIN | I24: מניות | J24: ישראל | K24: ישראל | L24: סחיר | M24: TASE | N24: מתכת ומוצרי בניה | O24: לא | P24: ILS | Q24: 24739 | R24: 1 | S24: 4325 | U24: 1069.962 | V24: 0.002013 | W24: 0.00050716856 | X24: 0.00017143422
A25: 1035 | B25: 1036 | C25: טלסיס בע"מ | D25: 520038100 | E25: ח.פ. | F25: טלסיס | G25: IL0003540197 | H25: ISIN | I25: מניות | J25: ישראל | K25: ארה"ב | L25: סחיר | M25: TASE | N25: אלקטרוניקה ואופטיקה | O25: לא | P25: ILS | Q25: 28393 | R25: 1 | S25: 26670 | U25: 7572.413 | V25: 0.003035 | W25: 0.0035893712 | X25: 0.001213287
A26: 1035 | B26: 1036 | C26: ארי נדל"ן(ארנה) השקעות בע"מ | D26: 520038332 | E26: ח.פ. | F26: ארי נדלן | G26: IL0003660136 | H26: ISIN | I26: מניות | J26: ישראל | K26: ישראל | L26: סחיר | M26: TASE | N26: נדל"ן מניב בישראל | O26: לא | P26: ILS | Q26: 2798444 | R26: 1 | S26: 506 | T26: 96.305 | U26: 14256.432 | V26: 0.007666 | W26: 0.0067576378 | X26: 0.0022842314
A27: 1035 | B27: 1036 | C27: וילי פוד השקעות בע"מ | D27: 520038225 | E27: ח.פ. | F27: ויליפוד | G27: IL0003710139 | H27: ISIN | I27: מניות | J27: ישראל | K27: ישראל | L27: סחיר | M27: TASE | N27: מסחר | O27: לא | P27: ILS | Q27: 65333 | R27: 1 | S27: 5678 | U27: 3709.608 | V27: 0.004909 | W27: 0.0017583773 | X27: 0.0005943705
A28: 1035 | B28: 1036 | C28: א.מ.ת. מיחשוב בע"מ | D28: 520038514 | E28: ח.פ. | F28: אמת | G28: IL0003820102 | H28: ISIN | I28: מניות | J28: ישראל | K28: ישראל | L28: סחיר | M28: TASE | N28: שרותי מידע | O28: לא | P28: ILS | Q28: 37210 | R28: 1 | S28: 701.9 | U28: 261.177 | V28: 0.000711 | W28: 0.00012379953 | X28: 4.1846985e-05
A29: 1035 | B29: 1036 | C29: אלוני-חץ נכסים והשקעות בע"מ | D29: 520038506 | E29: ח.פ. | F29: אלוני חץ | G29: IL0003900136 | H29: ISIN | I29: מניות | J29: ישראל | K29: ישראל | L29: סחיר | M29: TASE | N29: נדל"ן מניב בישראל | O29: לא | P29: ILS | Q29: 525394 | R29: 1 | S29: 3375 | T29: 131.349 | U29: 17863.396 | V29: 0.002321 | W29: 0.0084673615 | X29: 0.0028621559
A30: 1035 | B30: 1036 | C30: ראלקו סוכנויות בע"מ | D30: 520038183 | E30: ח.פ. | F30: ראלקו | G30: IL0003930174 | H30: ISIN | I30: מניות | J30: ישראל | K30: ישראל | L30: סחיר | M30: TASE | N30: מסחר | O30: לא | P30: ILS | Q30: 27733 | R30: 1 | S30: 4184 | U30: 1160.349 | V30: 0.006578 | W30: 0.00055001255 | X30: 0.00018591644
A31: 1035 | B31: 1036 | C31: רציו חיפושי נפט (1992) - שותפות מוגבלת | D31: 550012777 | E31: מספר שותפות | F31: רציו יהש | G31: IL0003940157 | H31: ISIN | I31: מניות | J31: ישראל | K31: ישראל | L31: סחיר | M31: TASE | N31: חיפושי נפט וגז | O31: לא | P31: ILS | Q31: 669098 | R31: 1 | S31: 435 | T31: 75.369 | U31: 2985.945 | V31: 0.000595 | W31: 0.0014153566 | X31: 0.00047842192
A32: 1035 | B32: 1036 | C32: אחים דוניץ בע"מ | D32: 520038605 | E32: ח.פ. | F32: דוניץ | G32: IL0004000100 | H32: ISIN | I32: מניות | J32: ישראל | K32: ישראל | L32: סחיר | M32: TASE | N32: בנייה | O32: לא | P32: ILS | Q32: 37815 | R32: 1 | S32: 22000 | U32: 8319.3 | V32: 0.00419 | W32: 0.0039434002 | X32: 0.0013329567
A33: 1035 | B33: 1036 | C33: וילאר אינטרנשיונל בע"מ | D33: 520038910 | E33: ח.פ. | F33: וילאר | G33: IL0004160169 | H33: ISIN | I33: מניות | J33: ישראל | K33: ישראל | L33: סחיר | M33: TASE | N33: נדל"ן מניב בישראל | O33: לא | P33: ILS | Q33: 30426 | R33: 1 | S33: 17550 | T33: 16.383 | U33: 5356.146 | V33: 0.00171 | W33: 0.0025388466 | X33: 0.00085818644
A34: 1035 | B34: 1036 | C34: נתנאל גרופ בע"מ | D34: 520039074 | E34: ח.פ. | F34: נתנאל גרופ | G34: IL0004210162 | H34: ISIN | I34: מניות | J34: ישראל | K34: ישראל | L34: סחיר | M34: TASE | N34: בנייה | O34: לא | P34: ILS | Q34: 61833 | R34: 1 | S34: 1065 | U34: 658.521 | V34: 0.001979 | W34: 0.00031214329 | X34: 0.00010551135
A35: 1035 | B35: 1036 | C35: צבי צרפתי השקעות ובנין (1992) בע"מ | D35: 520039090 | E35: ח.פ. | F35: צרפתי | G35: IL0004250176 | H35: ISIN | I35: מניות | J35: ישראל | K35: ישראל | L35: סחיר | M35: TASE | N35: בנייה | O35: לא | P35: ILS | Q35: 33202 | R35: 1 | S35: 4151 | U35: 1378.215 | V35: 0.00163 | W35: 0.00065328254 | X35: 0.00022082398
A36: 1035 | B36: 1036 | C36: איי.אי.אס החזקות בע"מ | D36: 520039132 | E36: ח.פ. | F36: אייאיאס תעש | G36: IL0004310152 | H36: ISIN | I36: מניות | J36: ישראל | K36: ישראל | L36: סחיר | M36: TASE | N36: נדל"ן מניב בישראל | O36: לא | P36: ILS | Q36: 23423 | R36: 1 | S36: 54890 | U36: 12856.885 | V36: 0.002273 | W36: 0.0060942438 | X36: 0.0020599895
A37: 1035 | B37: 1036 | C37: סי אי סיסטמס (ישראל) בע"מ | D37: 520039280 | E37: ח.פ. | F37: סיאי | G37: IL0004420126 | H37: ISIN | I37: מניות | J37: ישראל | K37: ישראל | L37: סחיר | M37: TASE | N37: אלקטרוניקה ואופטיקה | O37: לא | P37: ILS | Q37: 55141 | R37: 1 | S37: 4520 | U37: 2492.373 | V37: 0.004837 | W37: 0.0011814005 | X37: 0.00039933956
A38: 1035 | B38: 1036 | C38: מרדכי אביב תעשיות בניה (1973) בע"מ | D38: 520039264 | E38: ח.פ. | F38: אביב בניה | G38: IL0004440181 | H38: ISIN | I38: מניות | J38: ישראל | K38: ישראל | L38: סחיר | M38: TASE | N38: בנייה | O38: לא | P38: ILS | Q38: 13684 | R38: 1 | S38: 2224 | U38: 304.332 | V38: 0.000995 | W38: 0.00014425535 | X38: 4.8761506e-05
A39: 1035 | B39: 1036 | C39: מטריקס אי.טי בע"מ | D39: 520039413 | E39: ח.פ. | F39: מטריקס | G39: IL0004450156 | H39: ISIN | I39: מניות | J39: ישראל | K39: ישראל | L39: סחיר | M39: TASE | N39: שרותי מידע | O39: לא | P39: ILS | Q39: 63670.33 | R39: 1 | S39: 8714 | U39: 5548.233 | V39: 0.000683 | W39: 0.0026298969 | X39: 0.00088896347
A40: 1035 | B40: 1036 | C40: קבוצת גאון בע"מ | D40: 520025016 | E40: ח.פ. | F40: קבוצת גאון בע"מ | G40: IL0004540170 | H40: ISIN | I40: מניות | J40: ישראל | K40: ישראל | L40: סחיר | M40: TASE | N40: מתכת ומוצרי בניה | O40: לא | P40: ILS | Q40: 530358 | R40: 1 | S40: 1082 | U40: 5738.474 | V40: 0.011332 | W40: 0.0027200724 | X40: 0.00091944476
