Workbook
Name Additional_Factor: 'אפשרויות בחירה'!$C$701:$C$850
Name Amoritization: 'אפשרויות בחירה'!$C$546:$C$550
Name Capsule: 'אפשרויות בחירה'!$C$926:$C$928
Name Company_Name: 'File Name Info'!$A$34:$A$130
Name Company_Name_ID: 'File Name Info'!$A$34:$B$130
Name Consortium: 'אפשרויות בחירה'!$C$514:$C$515
Name Country_list: 'אפשרויות בחירה'!$C$4:$C$85
Name Country_list_funds: 'אפשרויות בחירה'!$C$4:$C$103
Name CSA: 'אפשרויות בחירה'!$C$688:$C$689
Name Delivery: 'אפשרויות בחירה'!$C$666:$C$667
Name Dependence_Independence: 'אפשרויות בחירה'!$C$654:$C$655
Name Duration_Underlying_Interest_Rate: 'אפשרויות בחירה'!$C$680:$C$687
Name File_Type: 'File Name Info'!$A$10:$A$12
Name Full_File_Type: 'File Name Info'!$A$11:$B$13
Name Full_Type: 'File Name Info'!$A$2:$B$8
Name Full_Type_Nostro: 'File Name Info'!$A$3:$B$6
Name Full_Year: 'File Name Info'!$A$22:$B$31
Name Fund_Strategy: 'אפשרויות בחירה'!$C$597:$C$621
Name Fund_type: 'אפשרויות בחירה'!$C$328:$C$498
Name Holding_interest: 'אפשרויות בחירה'!$C$146:$C$147
Name In_the_books: 'אפשרויות בחירה'!$C$656:$C$657
Name Industry_Sector: 'אפשרויות בחירה'!$C$1129:$C$1245
Name Industry_sector_all: 'אפשרויות בחירה'!$C$202:$C$327
Name Industry_sectors: 'אפשרויות בחירה'!$C$202:$C$327
Name israel_abroad: 'אפשרויות בחירה'!$C$2:$C$3
Name Issuer_Number_Banks: 'אפשרויות בחירה'!$C$111:$C$113
Name Issuer_Number_Fund: 'אפשרויות בחירה'!$C$114:$C$117
Name issuer_number_loan: 'אפשרויות בחירה'!$C$118:$C$126
Name Issuer_Number_Type: 'אפשרויות בחירה'!$C$104:$C$110
Name Issuer_Number_Type_2: 'אפשרויות בחירה'!$C$1076:$C$1079
Name Issuer_Number_Type_3: 'אפשרויות בחירה'!$C$1081:$C$1085
Name Issuer_Number_Type_V2: 'אפשרויות בחירה'!$C$104:$C$110
Name Issuer_Type_TFunds: 'אפשרויות בחירה'!$C$1087:$C$1089
Name Leading_factor: 'אפשרויות בחירה'!$C$692:$C$700
Name Linked_Type: 'אפשרויות בחירה'!$C$516:$C$519
Name other_investments: 'אפשרויות בחירה'!$C$1000:$C$1033
Name Penalty: 'אפשרויות בחירה'!$C$851:$C$852
Name QTR: 'File Name Info'!$A$15:$A$19
Name Rating_Agency: 'אפשרויות בחירה'!$C$188:$C$201
Name real_estate_lifestage: 'אפשרויות בחירה'!$C$634:$C$642
Name real_estate_loans: 'אפשרויות בחירה'!$C$553:$C$591
Name Real_Estate_Main_Use: 'אפשרויות בחירה'!$C$622:$C$633
Name Recourse_Nonrecourse: 'אפשרויות בחירה'!$C$544:$C$545
Name Repayment_Rights: 'אפשרויות בחירה'!$C$551:$C$552
Name Reset_frequency: 'אפשרויות בחירה'!$C$658:$C$665
Name Security_ID_Number_Type: 'אפשרויות בחירה'!$C$1113:$C$1116
Name Security_Number_Loans: 'אפשרויות בחירה'!$C$131
Name Stock_Exchange: 'אפשרויות בחירה'!$C$1283:$C$1315
Name Stock_Exchange_Gov_Bonds: 'אפשרויות בחירה'!$C$148:$C$181
Name Subordination_Risk: 'אפשרויות בחירה'!$C$186:$C$187
Name Tradeable_Status: 'אפשרויות בחירה'!$C$1272:$C$1281
Name Tradeable_Status_All: 'אפשרויות בחירה'!$C$135:$C$145
Name tradeable_status_bonds: 'אפשרויות בחירה'!$C$1248:$C$1253
Name tradeable_status_funds: 'אפשרויות בחירה'!$C$1118:$C$1119
Name tradeable_status_stock: 'אפשרויות בחירה'!$C$1255:$C$1259
Name Tradeable_Status_v2: 'אפשרויות בחירה'!$C$1121:$C$1126
Name tradeable_status_warrants: 'אפשרויות בחירה'!$C$1261:$C$1265
Name tradeable_status_warrants_v2: 'אפשרויות בחירה'!$C$1267:$C$1269
Name Transaction: 'אפשרויות בחירה'!$C$643:$C$646
Name Type: 'File Name Info'!$A$2:$A$8

Sheet עמוד פתיחה
A1: קובץ דיווח עבור רשימת נכסים ברמת הנכס הבודד (חוזר גופים מוסדיים 2015-9-14)
A3: יש לבחור תחום: | D3: נכסי עמיתים - קופות גמל
A5: האם מדובר בקובץ לממומנה או לציבור: | D5: לממונה
A7: יש לבחור את רבעון הדיווח: | D7: 04
A9: יש לבחור את שנת הדיווח: | D9: 2025
A11: יש לבחור את הגוף המוסדי: | D11: ילין לפידות ניהול קופות גמל בע"מ
A13: ח.פ. הגוף המוסדי: | D13: =IFERROR(VLOOKUP(D11,'File Name Info'!A35:B130,2,0),"תא מחושב") -> 513611509
A15: שם קובץ לשמירה | D15: =IF(D5="לממונה",CONCATENATE(D13, "_",VLOOKUP(D3,Full_Type,2,0),"_",D7,VLOOKUP(D9,Full_Year,2,0),".xlxs"),IF(D5="לציבור",CONCATENATE(D13,"_",VLOOKUP(D3,Full_Type_Nostro,2,0),"_",VLOOKUP(D5,Full_File_Type,2,0),"_",D7,VLOOKUP(D9,Full_Year,2,0),".xlsx"),"שם קובץ לשמירה")) -> 513611509_gm_0425.xlxs

Sheet סכום נכסים
C1: ידווח בקבצי נכסי הנוסטרו בלבד
B2: שווי הוגן | C2: עלות מופחתת | D2: השיטה שיושמה בדוח הכספי | E2: שיעור מסך נכסי השקעה
A3: מזומנים ושווי מזומנים | B3: =SUM('מזומנים ושווי מזומנים'!O:O) -> 13508121 | E3: =SUM('מזומנים ושווי מזומנים'!O:O)/B30 -> 0.15561841
A4: איגרות חוב ממשלתיות | B4: =SUM('איגרות חוב ממשלתיות'!U:U) -> 35540519 | E4: =SUM('איגרות חוב ממשלתיות'!U:U)/B30 -> 0.40943958
A5: ניירות ערך מסחריים | B5: =SUM('ניירות ערך מסחריים'!AD:AD) -> 149007.38 | E5: =SUM('ניירות ערך מסחריים'!AD:AD)/B30 -> 0.0017166187
A6: איגרות חוב | B6: =SUM('איגרות חוב'!AD:AD) -> 11443932 | E6: =SUM('איגרות חוב'!AD:AD)/B30 -> 0.13183822
A7: מניות, מניות בכורה ויחידות השתתפות | B7: =SUM('מניות מבכ ויהש'!U:U) -> 16360380 | E7: =SUM('מניות מבכ ויהש'!U:U)/B30 -> 0.18847747
A8: קרנות סל | B8: =SUM('קרנות סל'!T:T) -> 3875789.1 | E8: =SUM('קרנות סל'!T:T)/B30 -> 0.044650486
A9: קרנות נאמנות | B9: =SUM('קרנות נאמנות'!T:T) -> 714941 | E9: =SUM('קרנות נאמנות'!T:T)/B30 -> 0.0082363778
A10: כתבי אופציה | B10: =SUM('כתבי אופציה'!W:W) -> 30533.774 | E10: =SUM('כתבי אופציה'!W:W)/B30 -> 0.00035176007
A11: אופציות | B11: =SUM(אופציות!V:V) -> -3040.82 | E11: =SUM(אופציות!V:V)/B30 -> -3.5031342e-05
A12: חוזים עתידיים | B12: =SUM('חוזים עתידיים'!R:R) -> -24173.076 | E12: =SUM('חוזים עתידיים'!R:R)/B30 -> -0.00027848254
A13: מוצרים מובנים | B13: =SUM('מוצרים מובנים'!Z:Z) -> 460186.11 | E13: =SUM('מוצרים מובנים'!Z:Z)/B30 -> 0.0053015097
A14: לא סחיר איגרות חוב ממשלתיות | B14: =SUM('לא סחיר איגרות חוב ממשלתיות'!U:U) -> 0 | E14: =SUM('לא סחיר איגרות חוב ממשלתיות'!U:U)/B30 -> 0
A15: לא סחיר איגרות חוב מיועדות | B15: =SUM('לא סחיר איגרות חוב מיועדות'!N:N) -> 0 | E15: =SUM('לא סחיר איגרות חוב מיועדות'!N:N)/B30 -> 0
A16: אפיק השקעה מובטח תשואה | B16: =SUM('אפיק השקעה מובטח תשואה'!F:F) -> 0 | E16: =SUM('אפיק השקעה מובטח תשואה'!F:F)/B30 -> 0
A17: לא סחיר ניירות ערך מסחריים | B17: =SUM('לא סחיר ניירות ערך מסחריים'!AI:AI) -> 341452.89 | E17: =SUM('לא סחיר ניירות ערך מסחריים'!AI:AI)/B30 -> 0.0039336603
A18: לא סחיר איגרות חוב | B18: =SUM('לא סחיר איגרות חוב'!AG:AG) -> 982307.67 | E18: =SUM('לא סחיר איגרות חוב'!AG:AG)/B30 -> 0.011316538
A19: לא סחיר מניות, מניות בכורה ויחידות השתתפות | B19: =SUM('לא סחיר מניות מבכ ויהש'!X:X) -> 34920.841 | E19: =SUM('לא סחיר מניות מבכ ויהש'!X:X)/B30 -> 0.00040230066
A20: קרנות השקעה | B20: =SUM('קרנות השקעה'!W:W) -> 1286253 | E20: =SUM('קרנות השקעה'!W:W)/B30 -> 0.014818098
A21: לא סחיר כתבי אופציה | B21: =SUM('לא סחיר כתבי אופציה'!Z:Z) -> 24542.123 | E21: =SUM('לא סחיר כתבי אופציה'!Z:Z)/B30 -> 0.0002827341
A22: לא סחיר אופציות | B22: =SUM('לא סחיר אופציות'!Z:Z) -> 0 | E22: =SUM('לא סחיר אופציות'!Z:Z)/B30 -> 0
A23: לא סחיר נגזרים אחרים | B23: =SUM('לא סחיר נגזרים אחרים'!R:R) -> 135918.06 | E23: =SUM('לא סחיר נגזרים אחרים'!R:R)/B30 -> 0.001565825
A24: הלוואות | B24: =SUM(הלוואות!AT:AT) -> 487040.09 | E24: =SUM(הלוואות!AT:AT)/B30 -> 0.0056108773
A25: לא סחיר מוצרים מובנים | B25: =SUM('לא סחיר מוצרים מובנים'!AB:AB) -> 294499.69 | E25: =SUM('לא סחיר מוצרים מובנים'!AE:AE)/B30 -> 0
A26: פיקדונות מעל 3 חודשים | B26: =SUM('פיקדונות מעל 3 חודשים'!T:T) -> 1215624.1 | E26: =SUM('פיקדונות מעל 3 חודשים'!T:T)/B30 -> 0.014004427
A27: זכויות מקרקעין | B27: =SUM('זכויות מקרקעין'!S:S) -> 0 | E27: =SUM('זכויות מקרקעין'!S:S)/B30 -> 0
A28: השקעה בחברות מוחזקות | B28: =SUM('השקעה בחברות מוחזקות'!U:U) -> 0 | E28: =SUM('השקעה בחברות מוחזקות'!U:U)/B30 -> 0
A29: נכסים אחרים | B29: =SUM('נכסים אחרים'!N:N) -> -55911.941 | E29: =SUM('נכסים אחרים'!N:N)/B30 -> -0.0006441257
A30: סך הכל נכסים | B30: =IF(SUM(B3:B29)=0,0.0001,SUM(B3:B29)) -> 86802842 | C30: =SUM(C3:C29) -> 0 | D30: =SUM(D3:D29) -> 0 | E30: =SUM(E3:E29) -> 0.99660726
A31: מסגרות אשראי | B31: 80000 | E31: 0.00092162881
A32: יתרות התחייבויות להשקעה | B32: 785579.22 | E32: 0.0090501555

Sheet מזומנים ושווי מזומנים
A1: מספר קופה/קרן/ח.פ. עבור חברת ביטוח | B1: מספר מסלול | C1: שם הבנק | D1: מספר מזהה בנק | E1: סוג מספר מזהה בנק | F1: מאפיין עיקרי | G1: ישראל/חו"ל | H1: בעל עניין/צד קשור | I1: דירוג הבנק | J1: שם מדרג | K1: מטבע פעילות | L1: שווי מטבעי | M1: שער חליפין | N1: שיעור ריבית | O1: שווי הוגן (באלפי ש"ח) | P1: שיעור מנכסי אפיק ההשקעה | Q1: שיעור מסך נכסי ההשקעה
A2: 1035 | B2: 1036 | C2: בנק לאומי לישראל בע"מ | D2: 10-800 | E2: סימול בנק | F2: מזומן ועו"ש נקוב במט"ח | G2: ישראל | H2: לא | I2: AAA | J2: S&P מעלות | K2: USD | L2: 11060.536 | M2: 3.19 | O2: 35283.111 | P2: 0.019772315 | Q2: 0.0055554728
A3: 1035 | B3: 1036 | C3: בנק לאומי לישראל בע"מ | D3: 10-800 | E3: סימול בנק | F3: מזומן ועו"ש נקוב במט"ח | G3: ישראל | H3: לא | I3: AAA | J3: S&P מעלות | K3: EUR | L3: 3335.721 | M3: 3.7455 | O3: 12493.944 | P3: 0.0070014856 | Q3: 0.0019672235
A4: 1035 | B4: 1036 | C4: בנק לאומי לישראל בע"מ | D4: 10-800 | E4: סימול בנק | F4: מזומן ועו"ש נקוב במט"ח | G4: ישראל | H4: לא | I4: AAA | J4: S&P מעלות | K4: GBP | L4: 280.385 | M4: 4.29 | O4: 1202.851 | P4: 0.0006740661 | Q4: 0.0001893939
A5: 1035 | B5: 1036 | C5: בנק לאומי לישראל בע"מ | D5: 10-800 | E5: סימול בנק | F5: מזומן ועו"ש נקוב במט"ח | G5: ישראל | H5: לא | I5: AAA | J5: S&P מעלות | K5: AUD | L5: 29.969 | M5: 2.1319 | O5: 63.891 | P5: 3.580391e-05 | Q5: 1.0059907e-05
A6: 1035 | B6: 1036 | C6: בנק לאומי לישראל בע"מ | D6: 10-800 | E6: סימול בנק | F6: מזומן ועו"ש נקוב במט"ח | G6: ישראל | H6: לא | I6: AAA | J6: S&P מעלות | K6: SGD | L6: 139.653 | M6: 2.4754 | O6: 345.696 | P6: 0.0001937247 | Q6: 5.4431275e-05
A7: 1035 | B7: 1036 | C7: בנק לאומי לישראל בע"מ | D7: 10-800 | E7: סימול בנק | F7: מזומן ועו"ש נקוב במט"ח | G7: ישראל | H7: לא | I7: AAA | J7: S&P מעלות | K7: HKD | L7: 83785.336 | M7: 0.4093 | O7: 34293.338 | P7: 0.019217656 | Q7: 0.005399629
A8: 1035 | B8: 1036 | C8: בנק לאומי לישראל בע"מ | D8: 10-800 | E8: סימול בנק | F8: פקדון במט"ח עד שלושה חודשים | G8: ישראל | H8: לא | I8: AAA | J8: S&P מעלות | K8: USD | L8: 35607.496 | M8: 3.19 | O8: 113587.91 | P8: 0.06365357 | Q8: 0.01788489
A9: 1035 | B9: 1036 | C9: בנק לאומי לישראל בע"מ | D9: 10-800 | E9: סימול בנק | F9: פק"מ לתקופה של עד שלושה חודשים | G9: ישראל | H9: לא | I9: AAA | J9: S&P מעלות | K9: ILS | L9: 134045.49 | M9: 1 | O9: 134045.49 | P9: 0.075117797 | Q9: 0.02110602
A10: 1035 | B10: 1036 | C10: בנק לאומי לישראל בע"מ | D10: 10-800 | E10: סימול בנק | F10: מזומן ועו"ש בש"ח | G10: ישראל | H10: לא | I10: AAA | J10: S&P מעלות | K10: ILS | L10: 816852.43 | M10: 1 | O10: 816852.43 | P10: 0.45775622 | Q10: 0.12861682
A11: 1035 | B11: 1036 | C11: בנק מזרחי | D11: 20-61 | E11: סימול בנק | F11: מזומן ועו"ש נקוב במט"ח | G11: ישראל | H11: לא | I11: AAA | J11: S&P מעלות | K11: USD | L11: 15859.479 | M11: 3.19 | O11: 50591.737 | P11: 0.028351121 | Q11: 0.0079658798
A12: 1035 | B12: 1036 | C12: בנק מזרחי | D12: 20-61 | E12: סימול בנק | F12: מזומן ועו"ש נקוב במט"ח | G12: ישראל | H12: לא | I12: AAA | J12: S&P מעלות | K12: EUR | L12: 1.991 | M12: 3.7455 | O12: 7.456 | P12: 4.1780491e-06 | Q12: 1.1739161e-06
A13: 1035 | B13: 1036 | C13: בנק מזרחי | D13: 20-61 | E13: סימול בנק | F13: מזומן ועו"ש נקוב במט"ח | G13: ישראל | H13: לא | I13: AAA | J13: S&P מעלות | K13: GBP | L13: 0.001 | M13: 4.29 | O13: 0.004 | P13: 2.3079116e-09 | Q13: 6.4845924e-10
... A514: 11389 | B514: 15715 | C514: בנק דיסקונט לישראל בע"מ | D514: 11-10 | E514: סימול בנק | F514: מזומן ועו"ש בש"ח | G514: ישראל | H514: לא | I514: AAA | J514: S&P מעלות | K514: ILS | L514: 1004.409 | M514: 1 | O514: 1004.409 | P514: 0.15642348 | Q514: 0.037609882

Sheet איגרות חוב ממשלתיות
A1: מספר קופה/קרן/ח.פ. עבור חברת ביטוח | B1: מספר מסלול | C1: שם מנפיק | D1: שם נייר ערך | E1: מספר נייר ערך | F1: מאפיין עיקרי | G1: ישראל/חו"ל | H1: מדינה לפי חשיפה כלכלית | I1: זירת מסחר | J1: דירוג | K1: שם מדרג | L1: מטבע פעילות | M1: מח"מ | N1: מועד פדיון | O1: שיעור ריבית | P1: תשואה לפדיון | Q1: סכום לקבל (במטבע הפעילות) | R1: ערך נקוב (יחידות) | S1: שער חליפין | T1: שער נייר הערך | U1: שווי הוגן (באלפי ש"ח) | V1: עלות מופחתת (באלפי ש"ח) | W1: השיטה שיושמה בדוח הכספי | X1: שיעור מערך נקוב מונפק | Y1: שיעור מנכסי אפיק ההשקעה | Z1: שיעור מסך נכסי ההשקעה
A2: 1035 | B2: 1036 | C2: מדינת ישראל | D2: ממשל קצרה 0226 | E2: IL0012194689 | F2: מק"מ קצר משנים עשר חודשים | G2: ישראל | H2: ישראל | I2: TASE | J2: RF | K2: פנימי | L2: ILS | M2: 0.156 | N2: 27/02/2026 | O2: 0 | P2: 0.04197 | R2: 208970708 | S2: 1 | T2: 99.36 | U2: 207633.3 | W2: שווי הוגן | X2: 0.039998 | Y2: 0.096762997 | Z2: 0.032692728
A3: 1035 | B3: 1036 | C3: מדינת ישראל | D3: ממשל קצרה 0526 | E3: IL0012239245 | F3: מק"מ קצר משנים עשר חודשים | G3: ישראל | H3: ישראל | I3: TASE | J3: RF | K3: פנימי | L3: ILS | M3: 0.411 | N3: 31/05/2026 | O3: 0 | P3: 0.03951 | R3: 242693107 | S3: 1 | T3: 98.42 | U3: 238858.56 | W3: שווי הוגן | X3: 0.062469 | Y3: 0.11131485 | Z3: 0.037609275
A4: 1035 | B4: 1036 | C4: מדינת ישראל | D4: מלווה קצר מועד 116 | E4: IL0082601191 | F4: מק"מ קצר משנים עשר חודשים | G4: ישראל | H4: ישראל | I4: TASE | J4: RF | K4: פנימי | L4: ILS | M4: 0.016 | N4: 07/01/2026 | O4: 0 | P4: 0.04352 | R4: 113302310 | S4: 1 | T4: 99.93 | U4: 113223 | W4: שווי הוגן | X4: 0.003541 | Y4: 0.052765124 | Z4: 0.017827433
A5: 1035 | B5: 1036 | C5: מדינת ישראל | D5: מקמ 216 | E5: IL0082602181 | F5: מק"מ קצר משנים עשר חודשים | G5: ישראל | H5: ישראל | I5: TASE | J5: RF | K5: פנימי | L5: ILS | M5: 0.093 | N5: 04/02/2026 | O5: 0 | P5: 0.0406 | R5: 122680220 | S5: 1 | T5: 99.63 | U5: 122226.3 | W5: שווי הוגן | X5: 0.003834 | Y5: 0.056960919 | Z5: 0.019245041
A6: 1035 | B6: 1036 | C6: מדינת ישראל | D6: מקמ 316 | E6: IL0082603171 | F6: מק"מ קצר משנים עשר חודשים | G6: ישראל | H6: ישראל | I6: TASE | J6: RF | K6: פנימי | L6: ILS | M6: 0.17 | N6: 04/03/2026 | O6: 0 | P6: 0.04037 | R6: 177447788 | S6: 1 | T6: 99.33 | U6: 176258.89 | W6: שווי הוגן | X6: 0.005915 | Y6: 0.082141634 | Z6: 0.027752696
A7: 1035 | B7: 1036 | C7: מדינת ישראל | D7: מלווה קצר מועד 416 | E7: IL0082604161 | F7: מק"מ קצר משנים עשר חודשים | G7: ישראל | H7: ישראל | I7: TASE | J7: RF | K7: פנימי | L7: ILS | M7: 0.247 | N7: 01/04/2026 | O7: 0 | P7: 0.04032 | R7: 33479777 | S7: 1 | T7: 99.03 | U7: 33155.023 | W7: שווי הוגן | X7: 0.00186 | Y7: 0.01545118 | Z7: 0.0052203966
A8: 1035 | B8: 1036 | C8: מדינת ישראל | D8: מקמ 516 | E8: IL0082605150 | F8: מק"מ קצר משנים עשר חודשים | G8: ישראל | H8: ישראל | I8: TASE | J8: RF | K8: פנימי | L8: ILS | M8: 0.342 | N8: 06/05/2026 | O8: 0 | P8: 0.03987 | R8: 111532615 | S8: 1 | T8: 98.67 | U8: 110049.23 | W8: שווי הוגן | X8: 0.006196 | Y8: 0.051286059 | Z8: 0.01732771
A9: 1035 | B9: 1036 | C9: מדינת ישראל | D9: מלווה קצר מועד 616 | E9: IL0082606141 | F9: מק"מ קצר משנים עשר חודשים | G9: ישראל | H9: ישראל | I9: TASE | J9: RF | K9: פנימי | L9: ILS | M9: 0.419 | N9: 03/06/2026 | O9: 0 | P9: 0.04024 | R9: 216982951 | S9: 1 | T9: 98.36 | U9: 213424.43 | W9: שווי הוגן | X9: 0.012055 | Y9: 0.09946183 | Z9: 0.033604566
A10: 1035 | B10: 1036 | C10: מדינת ישראל | D10: מקמ 726 | E10: IL0082607214 | F10: מק"מ קצר משנים עשר חודשים | G10: ישראל | H10: ישראל | I10: TASE | J10: RF | K10: פנימי | L10: ILS | M10: 0.515 | N10: 08/07/2026 | O10: 0 | P10: 0.04 | R10: 123058694 | S10: 1 | T10: 98 | U10: 120597.52 | W10: שווי הוגן | X10: 0.006837 | Y10: 0.05620186 | Z10: 0.018988582
A11: 1035 | B11: 1036 | C11: מדינת ישראל | D11: מקמ 816 | E11: IL0082608121 | F11: מק"מ קצר משנים עשר חודשים | G11: ישראל | H11: ישראל | I11: TASE | J11: RF | K11: פנימי | L11: ILS | M11: 0.592 | N11: 06/08/2026 | O11: 0 | P11: 0.03884 | R11: 60656237 | S11: 1 | T11: 97.77 | U11: 59303.603 | W11: שווי הוגן | X11: 0.00337 | Y11: 0.027637159 | Z11: 0.0093375994
A12: 1035 | B12: 1036 | C12: מדינת ישראל | D12: מלווה קצר מועד 916 | E12: IL0082609111 | F12: מק"מ קצר משנים עשר חודשים | G12: ישראל | H12: ישראל | I12: TASE | J12: RF | K12: פנימי | L12: ILS | M12: 0.668 | N12: 02/09/2026 | O12: 0 | P12: 0.03876 | R12: 237659831 | S12: 1 | T12: 97.49 | U12: 231694.57 | W12: שווי הוגן | X12: 0.013203 | Y12: 0.10797623 | Z12: 0.036481275
A13: 1035 | B13: 1036 | C13: מדינת ישראל | D13: מלווה קצר מועד 1016 | E13: IL0082610184 | F13: מק"מ קצר משנים עשר חודשים | G13: ישראל | H13: ישראל | I13: TASE | J13: RF | K13: פנימי | L13: ILS | M13: 0.764 | N13: 07/10/2026 | O13: 0 | P13: 0.03883 | R13: 98735494 | S13: 1 | T13: 97.13 | U13: 95901.785 | W13: שווי הוגן | X13: 0.005485 | Y13: 0.044692948 | Z13: 0.015100136
... A846: 11389 | B846: 14658 | C846: מדינת ישראל | D846: מלווה קצר מועד 1016 | E846: IL0082610184 | F846: מק"מ קצר משנים עשר חודשים | G846: ישראל | H846: ישראל | I846: TASE | J846: RF | K846: פנימי | L846: ILS | M846: 0.764 | N846: 07/10/2026 | O846: 0 | P846: 0.03883 | R846: 3830769 | S846: 1 | T846: 97.13 | U846: 3720.826 | W846: שווי הוגן | X846: 0.000213 | Y846: 0.41768646 | Z846: 0.034665754

Sheet ניירות ערך מסחריים
A1: מספר קופה/קרן/ח.פ. עבור חברת ביטוח | B1: מספר מסלול | C1: שם מנפיק | D1: מספר מנפיק | E1: סוג מספר מזהה מנפיק | F1: שם נייר ערך | G1: מספר נייר ערך | H1: סוג מספר נייר ערך | I1: מאפיין עיקרי | J1: ישראל/חו"ל | K1: מדינה לפי חשיפה כלכלית | L1: זירת מסחר | M1: ענף מסחר | N1: בעל עניין/צד קשור | O1: דירוג | P1: שם מדרג | Q1: דירוג נייר הערך/המנפיק | R1: מטבע פעילות | S1: מח"מ | T1: ריבית עוגן | U1: מועד פדיון | V1: שיעור ריבית | W1: תשואה לפדיון | X1: נחיתות חוזית | Y1: האם סווג כחוב בעייתי | Z1: ערך נקוב (יחידות) | AA1: שער חליפין | AB1: שער נייר הערך | AC1: סכום לקבל (במטבע הפעילות) | AD1: שווי הוגן (באלפי ש"ח) | AE1: עלות מופחתת (באלפי ש"ח) | AF1: עלות מופחתת (במטבע הפעילות) | AG1: השיטה שיושמה בדוח הכספי | AH1: שיעור מערך נקוב מונפק | AI1: שיעור מנכסי אפיק ההשקעה | AJ1: שיעור מסך נכסי ההשקעה
A2: 1035 | B2: 1037 | C2: דיסקונט מנפיקים בע"מ | D2: 520029935 | E2: ח.פ. | F2: דיסק מנ מסחרי 5 | G2: IL0012159468 | H2: ISIN | I2: לא צמוד למדד המחירים לצרכן ריבית קבועה | J2: ישראל | K2: ישראל | L2: TASE | M2: בנקים | N2: לא | O2: AAA | P2: S&P מעלות | Q2: נייר ערך | R2: ILS | S2: 0.03 | T2: ריבית בנק ישראל | U2: 12/01/2026 | V2: 0.0429 | W2: 0.05567 | X2: החוב לא נחות | Z2: 144400 | AA2: 1 | AB2: 1043.38 | AD2: 1506.641 | AG2: שווי הוגן | AH2: 9.5e-05 | AI2: 0.77326319 | AJ2: 0.0036054772
A3: 1035 | B3: 1037 | C3: בנק לאומי לישראל בע"מ | D3: 520018078 | E3: ח.פ. | F3: לאומי מסחרי 7 | G3: IL0012164153 | H3: ISIN | I3: לא צמוד למדד המחירים לצרכן ריבית קבועה | J3: ישראל | K3: ישראל | L3: TASE | M3: בנקים | N3: לא | O3: AAA | P3: S&P מעלות | Q3: נייר ערך | R3: ILS | S3: 0.06 | T3: ריבית בנק ישראל | U3: 23/01/2026 | V3: 0.0427 | W3: 0.04685 | X3: החוב לא נחות | Z3: 42400 | AA3: 1 | AB3: 1041.93 | AD3: 441.778 | AG3: שווי הוגן | AH3: 2.8e-05 | AI3: 0.22673681 | AJ3: 0.0010572007
A4: 1035 | B4: 9939 | C4: דיסקונט מנפיקים בע"מ | D4: 520029935 | E4: ח.פ. | F4: דיסק מנ מסחרי 5 | G4: IL0012159468 | H4: ISIN | I4: לא צמוד למדד המחירים לצרכן ריבית קבועה | J4: ישראל | K4: ישראל | L4: TASE | M4: בנקים | N4: לא | O4: AAA | P4: S&P מעלות | Q4: נייר ערך | R4: ILS | S4: 0.03 | T4: ריבית בנק ישראל | U4: 12/01/2026 | V4: 0.0429 | W4: 0.05567 | X4: החוב לא נחות | Z4: 465100 | AA4: 1 | AB4: 1043.38 | AD4: 4852.76 | AG4: שווי הוגן | AH4: 0.000306 | AI4: 0.76978277 | AJ4: 0.0011325922
A5: 1035 | B5: 9939 | C5: בנק לאומי לישראל בע"מ | D5: 520018078 | E5: ח.פ. | F5: לאומי מסחרי 7 | G5: IL0012164153 | H5: ISIN | I5: לא צמוד למדד המחירים לצרכן ריבית קבועה | J5: ישראל | K5: ישראל | L5: TASE | M5: בנקים | N5: לא | O5: AAA | P5: S&P מעלות | Q5: נייר ערך | R5: ILS | S5: 0.06 | T5: ריבית בנק ישראל | U5: 23/01/2026 | V5: 0.0427 | W5: 0.04685 | X5: החוב לא נחות | Z5: 139290 | AA5: 1 | AB5: 1041.93 | AD5: 1451.304 | AG5: שווי הוגן | AH5: 9.3e-05 | AI5: 0.23021723 | AJ5: 0.00033872184
A6: 1035 | B6: 9940 | C6: דיסקונט מנפיקים בע"מ | D6: 520029935 | E6: ח.פ. | F6: דיסק מנ מסחרי 5 | G6: IL0012159468 | H6: ISIN | I6: לא צמוד למדד המחירים לצרכן ריבית קבועה | J6: ישראל | K6: ישראל | L6: TASE | M6: בנקים | N6: לא | O6: AAA | P6: S&P מעלות | Q6: נייר ערך | R6: ILS | S6: 0.03 | T6: ריבית בנק ישראל | U6: 12/01/2026 | V6: 0.0429 | W6: 0.05567 | X6: החוב לא נחות | Z6: 2254500 | AA6: 1 | AB6: 1043.38 | AD6: 23523.002 | AG6: שווי הוגן | AH6: 0.001484 | AI6: 0.76880935 | AJ6: 0.0017312233
A7: 1035 | B7: 9940 | C7: בנק לאומי לישראל בע"מ | D7: 520018078 | E7: ח.פ. | F7: לאומי מסחרי 7 | G7: IL0012164153 | H7: ISIN | I7: לא צמוד למדד המחירים לצרכן ריבית קבועה | J7: ישראל | K7: ישראל | L7: TASE | M7: בנקים | N7: לא | O7: AAA | P7: S&P מעלות | Q7: נייר ערך | R7: ILS | S7: 0.06 | T7: ריבית בנק ישראל | U7: 23/01/2026 | V7: 0.0427 | W7: 0.04685 | X7: החוב לא נחות | Z7: 678900 | AA7: 1 | AB7: 1041.93 | AD7: 7073.663 | AG7: שווי הוגן | AH7: 0.000452 | AI7: 0.23119065 | AJ7: 0.00052060063
A8: 1035 | B8: 9941 | C8: דיסקונט מנפיקים בע"מ | D8: 520029935 | E8: ח.פ. | F8: דיסק מנ מסחרי 5 | G8: IL0012159468 | H8: ISIN | I8: לא צמוד למדד המחירים לצרכן ריבית קבועה | J8: ישראל | K8: ישראל | L8: TASE | M8: בנקים | N8: לא | O8: AAA | P8: S&P מעלות | Q8: נייר ערך | R8: ILS | S8: 0.03 | T8: ריבית בנק ישראל | U8: 12/01/2026 | V8: 0.0429 | W8: 0.05567 | X8: החוב לא נחות | Z8: 1641228 | AA8: 1 | AB8: 1043.38 | AD8: 17124.245 | AG8: שווי הוגן | AH8: 0.00108 | AI8: 0.76918527 | AJ8: 0.0022643461
A9: 1035 | B9: 9941 | C9: בנק לאומי לישראל בע"מ | D9: 520018078 | E9: ח.פ. | F9: לאומי מסחרי 7 | G9: IL0012164153 | H9: ISIN | I9: לא צמוד למדד המחירים לצרכן ריבית קבועה | J9: ישראל | K9: ישראל | L9: TASE | M9: בנקים | N9: לא | O9: AAA | P9: S&P מעלות | Q9: נייר ערך | R9: ILS | S9: 0.06 | T9: ריבית בנק ישראל | U9: 23/01/2026 | V9: 0.0427 | W9: 0.04685 | X9: החוב לא נחות | Z9: 493180 | AA9: 1 | AB9: 1041.93 | AD9: 5138.59 | AG9: שווי הוגן | AH9: 0.000329 | AI9: 0.23081473 | AJ9: 0.00067947796
A10: 1035 | B10: 14292 | C10: דיסקונט מנפיקים בע"מ | D10: 520029935 | E10: ח.פ. | F10: דיסק מנ מסחרי 5 | G10: IL0012159468 | H10: ISIN | I10: לא צמוד למדד המחירים לצרכן ריבית קבועה | J10: ישראל | K10: ישראל | L10: TASE | M10: בנקים | N10: לא | O10: AAA | P10: S&P מעלות | Q10: נייר ערך | R10: ILS | S10: 0.03 | T10: ריבית בנק ישראל | U10: 12/01/2026 | V10: 0.0429 | W10: 0.05567 | X10: החוב לא נחות | Z10: 22500 | AA10: 1 | AB10: 1043.38 | AD10: 234.761 | AG10: שווי הוגן | AH10: 1.5e-05 | AI10: 0.7237508 | AJ10: 0.0003894726
A11: 1035 | B11: 14292 | C11: בנק לאומי לישראל בע"מ | D11: 520018078 | E11: ח.פ. | F11: לאומי מסחרי 7 | G11: IL0012164153 | H11: ISIN | I11: לא צמוד למדד המחירים לצרכן ריבית קבועה | J11: ישראל | K11: ישראל | L11: TASE | M11: בנקים | N11: לא | O11: AAA | P11: S&P מעלות | Q11: נייר ערך | R11: ILS | S11: 0.06 | T11: ריבית בנק ישראל | U11: 23/01/2026 | V11: 0.0427 | W11: 0.04685 | X11: החוב לא נחות | Z11: 8600 | AA11: 1 | AB11: 1041.93 | AD11: 89.606 | AG11: שווי הוגן | AH11: 6e-06 | AI11: 0.2762492 | AJ11: 0.0001486582
A12: 1038 | B12: 1038 | C12: דיסקונט מנפיקים בע"מ | D12: 520029935 | E12: ח.פ. | F12: דיסק מנ מסחרי 5 | G12: IL0012159468 | H12: ISIN | I12: לא צמוד למדד המחירים לצרכן ריבית קבועה | J12: ישראל | K12: ישראל | L12: TASE | M12: בנקים | N12: לא | O12: AAA | P12: S&P מעלות | Q12: נייר ערך | R12: ILS | S12: 0.03 | T12: ריבית בנק ישראל | U12: 12/01/2026 | V12: 0.0429 | W12: 0.05567 | X12: החוב לא נחות | Z12: 1305500 | AA12: 1 | AB12: 1043.38 | AD12: 13621.326 | AG12: שווי הוגן | AH12: 0.000859 | AI12: 0.76986271 | AJ12: 0.0028583785
A13: 1038 | B13: 1038 | C13: בנק לאומי לישראל בע"מ | D13: 520018078 | E13: ח.פ. | F13: לאומי מסחרי 7 | G13: IL0012164153 | H13: ISIN | I13: לא צמוד למדד המחירים לצרכן ריבית קבועה | J13: ישראל | K13: ישראל | L13: TASE | M13: בנקים | N13: לא | O13: AAA | P13: S&P מעלות | Q13: נייר ערך | R13: ILS | S13: 0.06 | T13: ריבית בנק ישראל | U13: 23/01/2026 | V13: 0.0427 | W13: 0.04685 | X13: החוב לא נחות | Z13: 390800 | AA13: 1 | AB13: 1041.93 | AD13: 4071.862 | AG13: שווי הוגן | AH13: 0.00026 | AI13: 0.23013729 | AJ13: 0.00085446337
... A26: 11389 | B26: 11392 | C26: בנק לאומי לישראל בע"מ | D26: 520018078 | E26: ח.פ. | F26: לאומי מסחרי 7 | G26: IL0012164153 | H26: ISIN | I26: לא צמוד למדד המחירים לצרכן ריבית קבועה | J26: ישראל | K26: ישראל | L26: TASE | M26: בנקים | N26: לא | O26: AAA | P26: S&P מעלות | Q26: נייר ערך | R26: ILS | S26: 0.06 | T26: ריבית בנק ישראל | U26: 23/01/2026 | V26: 0.0427 | W26: 0.04685 | X26: החוב לא נחות | Z26: 23500 | AA26: 1 | AB26: 1041.93 | AD26: 244.854 | AG26: שווי הוגן | AH26: 1.6e-05 | AI26: 0.2321951 | AJ26: 0.00073197761

Sheet איגרות חוב
A1: מספר קופה/קרן/ח.פ. עבור חברת ביטוח | B1: מספר מסלול | C1: שם מנפיק | D1: מספר מנפיק | E1: סוג מספר מזהה מנפיק | F1: שם נייר ערך | G1: מספר נייר ערך | H1: סוג מספר נייר ערך | I1: מאפיין עיקרי | J1: ישראל/חו"ל | K1: מדינה לפי חשיפה כלכלית | L1: סטאטוס סחירות | M1: זירת מסחר | N1: ענף מסחר | O1: בעל עניין/צד קשור | P1: דירוג | Q1: שם מדרג | R1: דירוג נייר הערך/המנפיק | S1: מטבע פעילות | T1: מח"מ | U1: מועד פדיון | V1: שיעור ריבית | W1: תשואה לפדיון | X1: נחיתות חוזית | Y1: האם סווג כחוב בעייתי | Z1: ערך נקוב (יחידות) | AA1: שער חליפין | AB1: שער נייר הערך | AC1: סכום לקבל (במטבע הפעילות) | AD1: שווי הוגן (באלפי ש"ח) | AE1: עלות מופחתת (באלפי ש"ח) | AF1: עלות מופחתת (במטבע הפעילות) | AG1: השיטה שיושמה בדוח הכספי | AH1: שיעור מערך נקוב מונפק | AI1: שיעור מנכסי אפיק ההשקעה | AJ1: שיעור מסך נכסי ההשקעה
A2: 1035 | B2: 1036 | C2: פלאזה סנטרס | D2: 33248324 | E2: מספר תאגיד או שותפות בחו"ל | F2: פלאזה סנטרס אגח א | G2: IL0011094955 | H2: ISIN | I2: צמוד למדד המחירים לצרכן | J2: ישראל | K2: ישראל | L2: סחיר | M2: TASE | N2: בנייה | O2: לא | P2: NR | Q2: NR | R2: NR | S2: ILS | T2: 4.426 | U2: 01/01/2026 | V2: 0.06 | W2: 0.0001 | X2: החוב לא נחות | Z2: 1498817.5 | AA2: 1 | AB2: 7.81 | AD2: 117.058 | AG2: שווי הוגן | AH2: 0.012728 | AI2: 0.0028006937 | AJ2: 1.8431214e-05
A3: 1035 | B3: 1036 | C3: פלאזה סנטרס | D3: 33248324 | E3: מספר תאגיד או שותפות בחו"ל | F3: פלאזה סנטרס אגח ב | G3: IL0011095036 | H3: ISIN | I3: צמוד למדד המחירים לצרכן | J3: ישראל | K3: ישראל | L3: סחיר | M3: TASE | N3: בנייה | O3: לא | P3: NR | Q3: NR | R3: NR | S3: ILS | T3: 4.443 | U3: 01/01/2026 | V3: 0.069 | W3: 0.0001 | X3: החוב לא נחות | Z3: 421512.41 | AA3: 1 | AB3: 7.97 | AD3: 33.595 | AG3: שווי הוגן | AH3: 0.00244 | AI3: 0.00080377503 | AJ3: 5.2896002e-06
A4: 1035 | B4: 1036 | C4: קרדן אן.וי. | D4: 1239114 | E4: מספר תאגיד או שותפות בחו"ל | F4: קרדן אן וי אגח ב ( שימור | G4: IL0011130346 | H4: ISIN | I4: צמוד למדד המחירים לצרכן | J4: ישראל | K4: ישראל | L4: סחיר | M4: TASE | N4: השקעה ואחזקות | O4: לא | P4: NR | Q4: NR | R4: NR | S4: ILS | T4: 0.997 | U4: 31/12/2026 | V4: 0.068 | W4: 0.0001 | X4: החוב לא נחות | Z4: 31656.14 | AA4: 1 | AB4: 28.54 | AD4: 9.035 | AG4: שווי הוגן | AH4: 7e-05 | AI4: 0.0002161612 | AJ4: 1.4225452e-06
A5: 1035 | B5: 1036 | C5: תמר פטרוליום בעמ | D5: 515334662 | E5: ח.פ. | F5: תמר פטרו אגח ב | G5: IL0011435935 | H5: ISIN | I5: צמוד למט"ח | J5: ישראל | K5: ישראל | L5: סחיר | M5: TASE | N5: חיפושי נפט וגז | O5: לא | P5: A1 | Q5: מידרוג Moodys | R5: נייר ערך | S5: ILS | T5: 2.257 | U5: 30/08/2028 | V5: 0.0469 | W5: 0.05988 | X5: החוב לא נחות | Z5: 1865601.2 | AA5: 1 | AB5: 91.28 | AD5: 1702.921 | AG5: שווי הוגן | AH5: 0.001624 | AI5: 0.040743681 | AJ5: 0.00026813197
A6: 1035 | B6: 1036 | C6: פריים אנרג'י פי.אי בע"מ | D6: 514902147 | E6: ח.פ. | F6: פריים אנרג'י אגח ב | G6: IL0011846628 | H6: ISIN | I6: צמוד למדד המחירים לצרכן | J6: ישראל | K6: ישראל | L6: סחיר | M6: TASE | N6: אנרגיה מתחדשת | O6: לא | P6: NR | Q6: NR | R6: NR | S6: ILS | T6: 1.586 | U6: 30/06/2028 | V6: 0.04 | W6: 0.04252 | X6: החוב לא נחות | Z6: 64346.18 | AA6: 1 | AB6: 114.5 | AD6: 73.676 | AG6: שווי הוגן | AH6: 0.000991 | AI6: 0.0017627636 | AJ6: 1.1600652e-05
A7: 1035 | B7: 1036 | C7: מפעלים פטרוכימיים בישראל בע"מ | D7: 520029315 | E7: ח.פ. | F7: פטרוכימים אגח י | G7: IL0011902975 | H7: ISIN | I7: לא צמוד למדד המחירים לצרכן | J7: ישראל | K7: ישראל | L7: סחיר | M7: TASE | N7: אנרגיה | O7: לא | P7: NR | Q7: NR | R7: NR | S7: ILS | T7: 1.581 | U7: 01/08/2027 | V7: 0.1054 | W7: 0.01586 | X7: החוב לא נחות | Z7: 1332235 | AA7: 1 | AB7: 147.72 | AD7: 1967.978 | AG7: שווי הוגן | AH7: 0.008866 | AI7: 0.047085368 | AJ7: 0.00030986627
A8: 1035 | B8: 1036 | C8: כלל החזקות עסקי ביטוח בע"מ | D8: 520036120 | E8: ח.פ. | F8: כלל ביטוח אג ב | G8: IL0011934994 | H8: ISIN | I8: אג"ח להמרה לא צמוד למדד המחירים לצרכן | J8: ישראל | K8: ישראל | L8: סחיר | M8: TASE | N8: ביטוח | O8: לא | P8: AA- | Q8: S&P מעלות | R8: נייר ערך | S8: ILS | T8: 2.117 | U8: 28/02/2028 | V8: 0.028 | W8: 0.0001 | X8: החוב לא נחות | Z8: 1660815 | AA8: 1 | AB8: 251 | AD8: 4168.646 | AG8: שווי הוגן | AH8: 0.011073 | AI8: 0.099738034 | AJ8: 0.00065637063
A9: 1035 | B9: 1036 | C9: איסתא בע"מ | D9: 520042763 | E9: ח.פ. | F9: איסתא אגח א להמרה | G9: IL0011971285 | H9: ISIN | I9: אג"ח להמרה לא צמוד למדד המחירים לצרכן | J9: ישראל | K9: ישראל | L9: סחיר | M9: TASE | N9: מלונאות ותיירות | O9: לא | P9: NR | Q9: NR | R9: NR | S9: ILS | T9: 2.39 | U9: 30/06/2028 | V9: 0.0485 | W9: -0.0159 | X9: החוב לא נחות | Z9: 1759678 | AA9: 1 | AB9: 116.5 | AD9: 2050.025 | AG9: שווי הוגן | AH9: 0.005866 | AI9: 0.049048412 | AJ9: 0.00032278496
A10: 1035 | B10: 1036 | C10: ג'י סיטי בע"מ | D10: 520033234 | E10: ח.פ. | F10: ג'י סיטי אג יז | G10: IL0011981425 | H10: ISIN | I10: אג"ח להמרה לא צמוד למדד המחירים לצרכן | J10: ישראל | K10: גלובלי | L10: סחיר | M10: TASE | N10: נדל"ן מניב בחו"ל | O10: לא | P10: A- | Q10: S&P מעלות | R10: נייר ערך | S10: ILS | T10: 3.178 | U10: 01/07/2029 | V10: 0.055 | W10: 0.08479 | X10: החוב לא נחות | Z10: 8787348.9 | AA10: 1 | AB10: 94 | AD10: 8260.108 | AG10: שווי הוגן | AH10: 0.017006 | AI10: 0.1976294 | AJ10: 0.0013005884
A11: 1035 | B11: 1036 | C11: אקונרג'י אנרגיה מתחדשת בע"מ | D11: 516339777 | E11: ח.פ. | F11: אקונרג'י אגח ב | G11: IL0012144288 | H11: ISIN | I11: לא צמוד למדד המחירים לצרכן | J11: ישראל | K11: ישראל | L11: סחיר | M11: TASE | N11: אנרגיה מתחדשת | O11: לא | P11: NR | Q11: NR | R11: NR | S11: ILS | T11: 3.86 | U11: 31/12/2030 | V11: 0.0695 | W11: 0.05863 | X11: החוב לא נחות | Z11: 666522 | AA11: 1 | AB11: 104.47 | AD11: 696.316 | AG11: שווי הוגן | AH11: 0.00117 | AI11: 0.016659881 | AJ11: 0.00010963778
A12: 1035 | B12: 1036 | C12: סולאיר אנרגיות מתחדשות בע"מ | D12: 516046307 | E12: ח.פ. | F12: סולאיר ב | G12: IL0012148321 | H12: ISIN | I12: צמוד למדד המחירים לצרכן | J12: ישראל | K12: ישראל | L12: סחיר | M12: TASE | N12: אנרגיה מתחדשת | O12: לא | P12: NR | Q12: NR | R12: NR | S12: ILS | T12: 3.586 | U12: 30/06/2030 | V12: 0.049 | W12: 0.0399 | X12: החוב לא נחות | Z12: 315000 | AA12: 1 | AB12: 105.84 | AD12: 333.396 | AG12: שווי הוגן | AH12: 0.000668 | AI12: 0.0079767542 | AJ12: 5.2494589e-05
A13: 1035 | B13: 1036 | C13: ג'נריישן קפיטל בע"מ | D13: 515846558 | E13: ח.פ. | F13: ג'נרישן קפ אגחד | G13: IL0012149642 | H13: ISIN | I13: אג"ח להמרה לא צמוד למדד המחירים לצרכן | J13: ישראל | K13: ישראל | L13: סחיר | M13: TASE | N13: השקעה ואחזקות | O13: לא | P13: A+ | Q13: S&P מעלות | R13: נייר ערך | S13: ILS | T13: 3.402 | U13: 31/12/2029 | V13: 0.04 | W13: 0.0001 | X13: החוב לא נחות | Z13: 10796905 | AA13: 1 | AB13: 162.3 | AD13: 17523.377 | AG13: שווי הוגן | AH13: 0.049649 | AI13: 0.41926019 | AJ13: 0.0027591287
... A21: 1035 | B21: 1037 | C21: ריט 1 בע"מ | D21: 513821488 | E21: ח.פ. | F21: ריט 1 אגח ו | G21: IL0011385445 | H21: ISIN | I21: צמוד למדד המחירים לצרכן | J21: ישראל | K21: ישראל | L21: סחיר | M21: TASE | N21: נדל"ן מניב בישראל | O21: לא | P21: AA | Q21: S&P מעלות | R21: נייר ערך | S21: ILS | T21: 2.801 | U21: 21/09/2031 | V21: 0.035 | W21: 0.02503 | X21: החוב לא נחות | Z21: 1455584 | AA21: 1 | AB21: 124.44 | AD21: 1811.329 | AG21: שווי הוגן | AH21: 0.001972 | AI21: 0.01535919 | AJ21: 0.0043346131
A22: 1035 | B22: 1037 | C22: קבוצת עזריאלי בע"מ (לשעבר קנית מימון) | D22: 510960719 | E22: ח.פ. | F22: עזריאלי אגח ד | G22: IL0011386500 | H22: ISIN | I22: צמוד למדד המחירים לצרכן | J22: ישראל | K22: ישראל | L22: סחיר | M22: TASE | N22: נדל"ן מניב בישראל | O22: לא | P22: AA+ | Q22: S&P מעלות | R22: נייר ערך | S22: ILS | T22: 2.447 | U22: 05/07/2030 | V22: 0.0134 | W22: 0.0255 | X22: החוב לא נחות | Z22: 1236446.6 | AA22: 1 | AB22: 116.05 | AC22: 175.154 | AD22: 1610.05 | AG22: שווי הוגן | AH22: 0.000622 | AI22: 0.013652442 | AJ22: 0.0038529411
A23: 1035 | B23: 1037 | C23: מגה אור החזקות בע"מ | D23: 513257873 | E23: ח.פ. | F23: מגה אור אגח ו | G23: IL0011386682 | H23: ISIN | I23: צמוד למדד המחירים לצרכן | J23: ישראל | K23: ישראל | L23: סחיר | M23: TASE | N23: נדל"ן מניב בישראל | O23: לא | P23: A+ | Q23: S&P מעלות | R23: נייר ערך | S23: ILS | T23: 0.493 | U23: 30/06/2026 | V23: 0.0205 | W23: 0.03396 | X23: החוב לא נחות | Z23: 82810.5 | AA23: 1 | AB23: 118.74 | AD23: 98.329 | AG23: שווי הוגן | AH23: 0.000671 | AI23: 0.00083378388 | AJ23: 0.00023530736
A24: 1035 | B24: 1037 | C24: ביג מרכזי קניות (2004) בע"מ | D24: 513623314 | E24: ח.פ. | F24: ביג ח | G24: IL0011389249 | H24: ISIN | I24: צמוד למדד המחירים לצרכן | J24: ישראל | K24: ישראל | L24: סחיר | M24: TASE | N24: נדל"ן מניב בישראל | O24: לא | P24: AA | Q24: S&P מעלות | R24: נייר ערך | S24: ILS | T24: 0.277 | U24: 12/04/2026 | V24: 0.0134 | W24: 0.05178 | X24: החוב לא נחות | Z24: 159916.42 | AA24: 1 | AB24: 118.26 | AD24: 189.117 | AG24: שווי הוגן | AH24: 0.000354 | AI24: 0.0016036219 | AJ24: 0.00045256815
A25: 1035 | B25: 1037 | C25: סלע קפיטל נדל"ן בע"מ | D25: 513992529 | E25: ח.פ. | F25: סלע נדלן אגח ג | G25: IL0011389736 | H25: ISIN | I25: צמוד למדד המחירים לצרכן | J25: ישראל | K25: ישראל | L25: סחיר | M25: TASE | N25: נדל"ן מניב בישראל | O25: לא | P25: Aa3 | Q25: מידרוג Moodys | R25: נייר ערך | S25: ILS | T25: 1.731 | U25: 13/04/2029 | V25: 0.0196 | W25: 0.02694 | X25: החוב לא נחות | Z25: 512193 | AA25: 1 | AB25: 117.7 | AD25: 602.851 | AG25: שווי הוגן | AH25: 0.000447 | AI25: 0.0051118858 | AJ25: 0.0014426572
A26: 1035 | B26: 1037 | C26: סלקום ישראל בע"מ | D26: 511930125 | E26: ח.פ. | F26: סלקום אגח יא | G26: IL0011392524 | H26: ISIN | I26: לא צמוד למדד המחירים לצרכן | J26: ישראל | K26: ישראל | L26: סחיר | M26: TASE | N26: תקשורת ומדיה | O26: לא | P26: AA- | Q26: S&P מעלות | R26: נייר ערך | S26: ILS | T26: 0.507 | U26: 05/07/2026 | V26: 0.0355 | W26: 0.04375 | X26: החוב לא נחות | Z26: 63338.5 | AA26: 1 | AB26: 99.59 | AC26: 1.124 | AD26: 64.203 | AG26: שווי הוגן | AH26: 0.000446 | AI26: 0.00054441095 | AJ26: 0.00015364162
A27: 1035 | B27: 1037 | C27: רבוע כחול נדל"ן בע"מ | D27: 513765859 | E27: ח.פ. | F27: רבוע נדלן אגח ו | G27: IL0011406076 | H27: ISIN | I27: צמוד למדד המחירים לצרכן | J27: ישראל | K27: ישראל | L27: סחיר | M27: TASE | N27: נדל"ן מניב בישראל | O27: לא | P27: AA | Q27: S&P מעלות | R27: נייר ערך | S27: ILS | T27: 0.907 | U27: 30/11/2026 | V27: 0.0215 | W27: 0.02786 | X27: החוב לא נחות | Z27: 81923.5 | AA27: 1 | AB27: 119.17 | AD27: 97.628 | AG27: שווי הוגן | AH27: 0.000117 | AI27: 0.00082784014 | AJ27: 0.00023362994
A28: 1035 | B28: 1037 | C28: רבוע כחול נדל"ן בע"מ | D28: 513765859 | E28: ח.פ. | F28: רבוע נדלן אגח ז | G28: IL0011406159 | H28: ISIN | I28: צמוד למדד המחירים לצרכן | J28: ישראל | K28: ישראל | L28: סחיר | M28: TASE | N28: נדל"ן מניב בישראל | O28: לא | P28: AA | Q28: S&P מעלות | R28: נייר ערך | S28: ILS | T28: 0.908 | U28: 30/11/2026 | V28: 0.016 | W28: 0.02952 | X28: החוב לא נחות | Z28: 49354.02 | AA28: 1 | AB28: 118.35 | AD28: 58.41 | AG28: שווי הוגן | AH28: 0.00034 | AI28: 0.0004952926 | AJ28: 0.00013977962
A29: 1035 | B29: 1037 | C29: ביג מרכזי קניות (2004) בע"מ | D29: 513623314 | E29: ח.פ. | F29: ביג אג"ח ט' | G29: IL0011410508 | H29: ISIN | I29: צמוד למדד המחירים לצרכן | J29: ישראל | K29: ישראל | L29: סחיר | M29: TASE | N29: נדל"ן מניב בישראל | O29: לא | P29: AA- | Q29: S&P מעלות | R29: נייר ערך | S29: ILS | T29: 0.962 | U29: 20/12/2026 | V29: 0.0195 | W29: 0.02961 | X29: החוב לא נחות | Z29: 133603 | AA29: 1 | AB29: 117.97 | AD29: 157.611 | AG29: שווי הוגן | AH29: 0.000793 | AI29: 0.0013364688 | AJ29: 0.00037717322
A30: 1035 | B30: 1037 | C30: תמר פטרוליום בעמ | D30: 515334662 | E30: ח.פ. | F30: תמר פטרוליום אגח א | G30: IL0011413320 | H30: ISIN | I30: צמוד למט"ח | J30: ישראל | K30: ישראל | L30: סחיר | M30: TASE | N30: חיפושי נפט וגז | O30: לא | P30: A1 | Q30: מידרוג Moodys | R30: נייר ערך | S30: ILS | T30: 2.104 | U30: 30/08/2028 | V30: 0.0469 | W30: 0.05937 | X30: החוב לא נחות | Z30: 1350762.9 | AA30: 1 | AB30: 89.9 | AD30: 1214.336 | AG30: שווי הוגן | AH30: 0.001 | AI30: 0.01029698 | AJ30: 0.0029059749
A31: 1035 | B31: 1037 | C31: קרסו מוטורס בע"מ | D31: 514065283 | E31: ח.פ. | F31: קרסו מוטורס אגח ג | G31: IL0011418295 | H31: ISIN | I31: לא צמוד למדד המחירים לצרכן | J31: ישראל | K31: ישראל | L31: סחיר | M31: TASE | N31: מסחר | O31: לא | P31: AA- | Q31: S&P מעלות | R31: נייר ערך | S31: ILS | T31: 1.141 | U31: 01/09/2027 | V31: 0.023 | W31: 0.04407 | X31: החוב לא נחות | Z31: 25121.33 | AA31: 1 | AB31: 98.46 | AD31: 24.734 | AG31: שווי הוגן | AH31: 3e-05 | AI31: 0.00020973625 | AJ31: 5.9190978e-05
A32: 1035 | B32: 1037 | C32: אפי נכסים בע"מ | D32: 510560188 | E32: ח.פ. | F32: אפי נכסים אגח 8 | G32: IL0011422313 | H32: ISIN | I32: צמוד למדד המחירים לצרכן | J32: ישראל | K32: ישראל | L32: סחיר | M32: TASE | N32: נדל"ן מניב בחו"ל | O32: לא | P32: A+ | Q32: S&P מעלות | R32: נייר ערך | S32: ILS | T32: 0.78 | U32: 15/10/2026 | V32: 0.0257 | W32: 0.02984 | X32: החוב לא נחות | Z32: 11717.71 | AA32: 1 | AB32: 119.3 | AD32: 13.979 | AG32: שווי הוגן | AH32: 1.4e-05 | AI32: 0.00011853708 | AJ32: 3.345309e-05
A33: 1035 | B33: 1037 | C33: גירון פיתוח ובניה בע"מ | D33: 520044520 | E33: ח.פ. | F33: גירון אגח ז | G33: IL0011426298 | H33: ISIN | I33: צמוד למדד המחירים לצרכן | J33: ישראל | K33: ישראל | L33: סחיר | M33: TASE | N33: נדל"ן מניב בישראל | O33: לא | P33: A1 | Q33: מידרוג Moodys | R33: נייר ערך | S33: ILS | T33: 4.492 | U33: 01/01/2034 | V33: 0.019 | W33: 0.02624 | X33: החוב לא נחות | Z33: 0.09 | AA33: 1 | AB33: 114.97 | AC33: 0 | AD33: 0 | AG33: שווי הוגן | AH33: 0 | AI33: 9.6219607e-10 | AJ33: 2.7154736e-10
A34: 1035 | B34: 1037 | C34: מישורים השקעות נדלן בעמ | D34: 511491839 | E34: ח.פ. | F34: מישורים אגח ח | G34: IL0011431637 | H34: ISIN | I34: צמוד למדד המחירים לצרכן | J34: ישראל | K34: ישראל | L34: סחיר | M34: TASE | N34: נדל"ן מניב בחו"ל | O34: לא | P34: BBB+ | Q34: S&P מעלות | R34: נייר ערך | S34: ILS | T34: 0.571 | U34: 31/07/2026 | V34: 0.03 | W34: 0.0668 | X34: החוב לא נחות | Z34: 102548 | AA34: 1 | AB34: 118.02 | AD34: 121.027 | AG34: שווי הוגן | AH34: 0.002516 | AI34: 0.0010262516 | AJ34: 0.00028962488
A35: 1035 | B35: 1037 | C35: אוריין ש.מ. בע"מ | D35: 511068256 | E35: ח.פ. | F35: אוריין אגח ב | G35: IL0011433799 | H35: ISIN | I35: לא צמוד למדד המחירים לצרכן | J35: ישראל | K35: ישראל | L35: סחיר | M35: TASE | N35: שירותים | O35: לא | P35: A- | Q35: S&P מעלות | R35: נייר ערך | S35: ILS | T35: 0.989 | U35: 31/12/2026 | V35: 0.0325 | W35: 0.03506 | X35: החוב לא נחות | Z35: 245741.91 | AA35: 1 | AB35: 99.79 | AD35: 245.226 | AG35: שווי הוגן | AH35: 0.011265 | AI35: 0.0020793964 | AJ35: 0.00058683946
A36: 1035 | B36: 1037 | C36: עמידר | D36: 520017393 | E36: ח.פ. | F36: עמידר אגח א | G36: IL0011435851 | H36: ISIN | I36: לא צמוד למדד המחירים לצרכן | J36: ישראל | K36: ישראל | L36: סחיר | M36: TASE | N36: נדל"ן מניב בישראל | O36: לא | P36: AAA | Q36: S&P מעלות | R36: נייר ערך | S36: ILS | T36: 1.219 | U36: 31/03/2028 | V36: 0.0144 | W36: 0.03935 | X36: החוב לא נחות | Z36: 537715.11 | AA36: 1 | AB36: 97.43 | AD36: 523.896 | AG36: שווי הוגן | AH36: 0.002151 | AI36: 0.0044423829 | AJ36: 0.0012537126
A37: 1035 | B37: 1037 | C37: תמר פטרוליום בעמ | D37: 515334662 | E37: ח.פ. | F37: תמר פטרו אגח ב | G37: IL0011435935 | H37: ISIN | I37: צמוד למט"ח | J37: ישראל | K37: ישראל | L37: סחיר | M37: TASE | N37: חיפושי נפט וגז | O37: לא | P37: A1 | Q37: מידרוג Moodys | R37: נייר ערך | S37: ILS | T37: 2.257 | U37: 30/08/2028 | V37: 0.0469 | W37: 0.05988 | X37: החוב לא נחות | Z37: 2667407.2 | AA37: 1 | AB37: 91.28 | AD37: 2434.809 | AG37: שווי הוגן | AH37: 0.002321 | AI37: 0.020646004 | AJ37: 0.0058266377
A38: 1035 | B38: 1037 | C38: חברת נמלי ישראל - פיתוח נכסים בע"מ | D38: 513569780 | E38: ח.פ. | F38: נמלי ישראל אגח א | G38: IL0011455644 | H38: ISIN | I38: צמוד למדד המחירים לצרכן | J38: ישראל | K38: ישראל | L38: סחיר | M38: TASE | N38: נדל"ן מניב בישראל | O38: לא | P38: AAA | Q38: S&P מעלות | R38: נייר ערך | S38: ILS | T38: 0.995 | U38: 31/12/2026 | V38: 0.0083 | W38: 0.02901 | X38: החוב לא נחות | Z38: 32910.28 | AA38: 1 | AB38: 116.63 | AD38: 38.383 | AG38: שווי הוגן | AH38: 0.000151 | AI38: 0.00032547145 | AJ38: 9.1853331e-05
A39: 1035 | B39: 1037 | C39: חברת נמלי ישראל - פיתוח נכסים בע"מ | D39: 513569780 | E39: ח.פ. | F39: נמלי ישראל אג ב | G39: IL0011455727 | H39: ISIN | I39: צמוד למדד המחירים לצרכן | J39: ישראל | K39: ישראל | L39: סחיר | M39: TASE | N39: נדל"ן מניב בישראל | O39: לא | P39: AAA | Q39: S&P מעלות | R39: נייר ערך | S39: ILS | T39: 3.86 | U39: 31/12/2031 | V39: 0.0165 | W39: 0.0219 | X39: החוב לא נחות | Z39: 333168 | AA39: 1 | AB39: 116.63 | AD39: 388.574 | AG39: שווי הוגן | AH39: 0.000157 | AI39: 0.0032949179 | AJ39: 0.00092987937
A40: 1035 | B40: 1037 | C40: תומר תמלוגי אנרגיה (2012) בע"מ | D40: 514837111 | E40: ח.פ. | F40: תומר אנרגיה אגח א | G40: IL0011474793 | H40: ISIN | I40: צמוד למט"ח | J40: ישראל | K40: ישראל | L40: סחיר | M40: TASE | N40: חיפושי נפט וגז | O40: לא | P40: Aa3 | Q40: מידרוג Moodys | R40: נייר ערך | S40: ILS | T40: 1.942 | U40: 30/08/2028 | V40: 0.0548 | W40: 0.05923 | X40: החוב לא נחות | Z40: 156576 | AA40: 1 | AB40: 90.61 | AD40: 141.874 | AG40: שווי הוגן | AH40: 0.000583 | AI40: 0.0012030187 | AJ40: 0.00033951141
A41: 1035 | B41: 1037 | C41: מגה אור החזקות בע"מ | D41: 513257873 | E41: ח.פ. | F41: מגה אור אגח 8 | G41: IL0011476020 | H41: ISIN | I41: צמוד למדד המחירים לצרכן | J41: ישראל | K41: ישראל | L41: סחיר | M41: TASE | N41: נדל"ן מניב בישראל | O41: לא | P41: AA- | Q41: S&P מעלות | R41: נייר ערך | S41: ILS | T41: 0.9 | U41: 31/03/2027 | V41: 0.014 | W41: 0.03057 | X41: החוב לא נחות | Z41: 341739.8 | AA41: 1 | AB41: 117.24 | AD41: 400.656 | AG41: שווי הוגן | AH41: 0.000565 | AI41: 0.0033973666 | AJ41: 0.00095879205
A42: 1035 | B42: 1037 | C42: מניבים קרן הריט החדשה בע"מ | D42: 515327120 | E42: ח.פ. | F42: מניבים ריט אגח ב | G42: IL0011559288 | H42: ISIN | I42: צמוד למדד המחירים לצרכן | J42: ישראל | K42: ישראל | L42: סחיר | M42: TASE | N42: נדל"ן מניב בישראל | O42: לא | P42: Aa3 | Q42: מידרוג Moodys | R42: נייר ערך | S42: ILS | T42: 1.893 | U42: 31/12/2027 | V42: 0.0275 | W42: 0.02633 | X42: החוב לא נחות | Z42: 362844.88 | AA42: 1 | AB42: 117.56 | AD42: 426.56 | AG42: שווי הוגן | AH42: 0.000692 | AI42: 0.0036170259 | AJ42: 0.0010207835
A43: 1035 | B43: 1037 | C43: Chamoss International Limited | D43: 633896 | E43: מספר תאגיד או שותפות בחו"ל | F43: שמוס אגח א | G43: IL0011559510 | H43: ISIN | I43: צמוד למט"ח | J43: ישראל | K43: בריטניה | L43: סחיר | M43: TASE | N43: נדל"ן מניב בחו"ל | O43: לא | P43: Aa3 | Q43: מידרוג Moodys | R43: נייר ערך | S43: ILS | T43: 2.103 | U43: 10/07/2028 | V43: 0.043 | W43: 0.0738 | X43: החוב לא נחות | Z43: 721362.04 | AA43: 1 | AB43: 85.4 | AD43: 616.043 | AG43: שווי הוגן | AH43: 0.000674 | AI43: 0.0052237478 | AJ43: 0.0014742265
A44: 1035 | B44: 1037 | C44: קבוצת עזריאלי בע"מ (לשעבר קנית מימון) | D44: 510960719 | E44: ח.פ. | F44: עזריאלי אגח ה | G44: IL0011566036 | H44: ISIN | I44: צמוד למדד המחירים לצרכן | J44: ישראל | K44: ישראל | L44: סחיר | M44: TASE | N44: נדל"ן מניב בישראל | O44: לא | P44: Aa1 | Q44: מידרוג Moodys | R44: נייר ערך | S44: ILS | T44: 1.47 | U44: 30/06/2028 | V44: 0.0177 | W44: 0.02573 | X44: החוב לא נחות | Z44: 256397.59 | AA44: 1 | AB44: 116.62 | AD44: 299.011 | AG44: שווי הוגן | AH44: 0.000105 | AI44: 0.0025354673 | AJ44: 0.00071555008
A45: 1035 | B45: 1037 | C45: דור אלון אנרגיה בישראל (1988) בע"מ | D45: 520043878 | E45: ח.פ. | F45: דור אלון אגח ז | G45: IL0011577009 | H45: ISIN | I45: לא צמוד למדד המחירים לצרכן | J45: ישראל | K45: ישראל | L45: סחיר | M45: TASE | N45: אנרגיה | O45: לא | P45: A2 | Q45: מידרוג Moodys | R45: נייר ערך | S45: ILS | T45: 1.214 | U45: 30/09/2027 | V45: 0.0329 | W45: 0.04525 | X45: החוב לא נחות | Z45: 196458.02 | AA45: 1 | AB45: 99.42 | AD45: 195.319 | AG45: שווי הוגן | AH45: 0.000412 | AI45: 0.0016562068 | AJ45: 0.00046740847
... A50: 1035 | B50: 1037 | C50: יוניברסל מוטורס ישראל בע"מ | D50: 511809071 | E50: ח.פ. | F50: יוניברסל אגח ג | G50: IL0011606709 | H50: ISIN | I50: צמוד למדד המחירים לצרכן | J50: ישראל | K50: ישראל | L50: סחיר | M50: TASE | N50: מסחר | O50: לא | P50: AA- | Q50: S&P מעלות | R50: נייר ערך | S50: ILS | T50: 0.846 | U50: 10/08/2027 | V50: 0.0105 | W50: 0.02967 | X50: החוב לא נחות | Z50: 364920.11 | AA50: 1 | AB50: 115.34 | AD50: 420.899 | AG50: שווי הוגן | AH50: 0.001139 | AI50: 0.0035690184 | AJ50: 0.001007235
A51: 1035 | B51: 1037 | C51: ויקטורי רשת סופרמרקטים בע"מ | D51: 514068980 | E51: ח.פ. | F51: ויקטורי אגח ב | G51: IL0011614885 | H51: ISIN | I51: לא צמוד למדד המחירים לצרכן | J51: ישראל | K51: ישראל | L51: סחיר | M51: TASE | N51: רשתות שיווק | O51: לא | P51: A2 | Q51: מידרוג Moodys | R51: נייר ערך | S51: ILS | T51: 0.499 | U51: 02/07/2026 | V51: 0.015 | W51: 0.03158 | X51: החוב לא נחות | Z51: 56844.65 | AA51: 1 | AB51: 99.2 | AC51: 57.67 | AD51: 114.06 | AG51: שווי הוגן | AH51: 0.006818 | AI51: 0.00096717128 | AJ51: 0.00027295145
...

Sheet מניות מבכ ויהש
A1: מספר קופה/קרן/ח.פ. עבור חברת ביטוח | B1: מספר מסלול | C1: שם מנפיק | D1: מספר מנפיק | E1: סוג מספר מזהה מנפיק | F1: שם נייר ערך | G1: מספר נייר ערך | H1: סוג מספר נייר ערך | I1: מאפיין עיקרי | J1: ישראל/חו"ל | K1: מדינה לפי חשיפה כלכלית | L1: סטאטוס סחירות | M1: זירת מסחר | N1: ענף מסחר | O1: בעל עניין/צד קשור | P1: מטבע פעילות | Q1: ערך נקוב (יחידות) | R1: שער חליפין | S1: שער נייר הערך | T1: סכום לקבל (במטבע הפעילות) | U1: שווי הוגן (באלפי ש"ח) | V1: שיעור מערך נקוב מונפק | W1: שיעור מנכסי אפיק ההשקעה | X1: שיעור מסך נכסי ההשקעה
A2: 1035 | B2: 1036 | C2: ג'י סיטי בע"מ | D2: 520033234 | E2: ח.פ. | F2: ג'י סיטי | G2: IL0001260111 | H2: ISIN | I2: מניות | J2: ישראל | K2: גלובלי | L2: סחיר | M2: TASE | N2: נדל"ן מניב בחו"ל | O2: לא | P2: ILS | Q2: 74321 | R2: 1 | S2: 800 | U2: 594.568 | V2: 0.00037 | W2: 0.00030371736 | X2: 9.3617209e-05
A3: 1035 | B3: 1036 | C3: מבטח שמיר אחזקות בע"מ | D3: 520034125 | E3: ח.פ. | F3: מבטח שמיר | G3: IL0001270193 | H3: ISIN | I3: מניות | J3: ישראל | K3: ישראל | L3: סחיר | M3: TASE | N3: השקעה ואחזקות | O3: לא | P3: ILS | Q3: 17153 | R3: 1 | S3: 41030 | U3: 7037.876 | V3: 0.001622 | W3: 0.0035950894 | X3: 0.0011081429
A4: 1035 | B4: 1036 | C4: זנלכל בע"מ | D4: 520034208 | E4: ח.פ. | F4: זנלכל | G4: IL0001300131 | H4: ISIN | I4: מניות | J4: ישראל | K4: ישראל | L4: סחיר | M4: TASE | N4: מזון | O4: לא | P4: ILS | Q4: 34133 | R4: 1 | S4: 4438 | U4: 1514.823 | V4: 0.001495 | W4: 0.000773802 | X4: 0.00023851512
A5: 1035 | B5: 1036 | C5: להב אל.אר רילאסטייט בעמ | D5: 520034257 | E5: ח.פ. | F5: להב | G5: IL0001360101 | H5: ISIN | I5: מניות | J5: ישראל | K5: ישראל | L5: סחיר | M5: TASE | N5: השקעה ואחזקות | O5: לא | P5: ILS | Q5: 444758 | R5: 1 | S5: 840 | U5: 3735.967 | V5: 0.001648 | W5: 0.0019084076 | X5: 0.0005882436
A6: 1035 | B6: 1036 | C6: תדאה, פיתוח טכנולוגי ואוטומציה בע"מ | D6: 520034364 | E6: ח.פ. | F6: תדאה | G6: IL0001420186 | H6: ISIN | I6: מניות | J6: ישראל | K6: ישראל | L6: סחיר | M6: TASE | N6: השקעה ואחזקות | O6: לא | P6: ILS | Q6: 16004 | R6: 1 | S6: 314.1 | U6: 50.269 | V6: 0.002447 | W6: 2.5678199e-05 | X6: 7.9149949e-06
A7: 1035 | B7: 1036 | C7: קבוצת גולד בונד בע"מ | D7: 520034349 | E7: ח.פ. | F7: גולד | G7: IL0001490130 | H7: ISIN | I7: מניות | J7: ישראל | K7: ישראל | L7: סחיר | M7: TASE | N7: שירותים | O7: לא | P7: ILS | Q7: 806 | R7: 1 | S7: 22460 | U7: 181.028 | V7: 0.000199 | W7: 9.247256e-05 | X7: 2.850355e-05
A8: 1035 | B8: 1036 | C8: חירון-מסחר השקעות ומבנה תעשיה בע"מ | D8: 520034216 | E8: ח.פ. | F8: חירון | G8: IL0001500110 | H8: ISIN | I8: מניות | J8: ישראל | K8: ישראל | L8: סחיר | M8: TASE | N8: השקעה ואחזקות | O8: לא | P8: ILS | Q8: 3278 | R8: 1 | S8: 261300 | T8: 81.95 | U8: 8647.364 | V8: 0.006638 | W8: 0.0044172485 | X8: 0.0013615635
A9: 1035 | B9: 1036 | C9: מלם-תים בע"מ | D9: 520034620 | E9: ח.פ. | F9: מלם תים | G9: IL0001560189 | H9: ISIN | I9: מניות | J9: ישראל | K9: ישראל | L9: סחיר | M9: TASE | N9: שירותי מידע | O9: לא | P9: ILS | Q9: 23837 | R9: 1 | S9: 13300 | U9: 3170.321 | V9: 0.000912 | W9: 0.0016194641 | X9: 0.00049918025
A10: 1035 | B10: 1036 | C10: נטו מ.ע. אחזקות בע"מ | D10: 520034109 | E10: ח.פ. | F10: נטו אחזקות | G10: IL0001680136 | H10: ISIN | I10: מניות | J10: ישראל | K10: ישראל | L10: סחיר | M10: TASE | N10: מזון | O10: לא | P10: ILS | Q10: 22555 | R10: 1 | S10: 23400 | U10: 5277.87 | V10: 0.006064 | W10: 0.0026960428 | X10: 0.00083102262
A11: 1035 | B11: 1036 | C11: כלל החזקות עסקי ביטוח בע"מ | D11: 520036120 | E11: ח.פ. | F11: כלל ביטוח | G11: IL0002240146 | H11: ISIN | I11: מניות | J11: ישראל | K11: ישראל | L11: סחיר | M11: TASE | N11: ביטוח | O11: לא | P11: ILS | Q11: 209406 | R11: 1 | S11: 20570 | U11: 43074.814 | V11: 0.002616 | W11: 0.022003487 | X11: 0.006782309
A12: 1035 | B12: 1036 | C12: מבנה נדל"ן (כ.ד) בע"מ | D12: 520024126 | E12: ח.פ. | F12: מבנה | G12: IL0002260193 | H12: ISIN | I12: מניות | J12: ישראל | K12: ישראל | L12: סחיר | M12: TASE | N12: נדל"ן מניב בישראל | O12: לא | P12: ILS | Q12: 1165856 | R12: 1 | S12: 1559 | U12: 18175.695 | V12: 0.001611 | W12: 0.0092845127 | X12: 0.0028618389
A13: 1035 | B13: 1036 | C13: בזק החברה הישראלית לתקשורת בע"מ | D13: 520031931 | E13: ח.פ. | F13: בזק | G13: IL0002300114 | H13: ISIN | I13: מניות | J13: ישראל | K13: ישראל | L13: סחיר | M13: TASE | N13: תקשורת ומדיה | O13: לא | P13: ILS | Q13: 5427627 | R13: 1 | S13: 709.9 | U13: 38530.724 | V13: 0.001956 | W13: 0.019682273 | X13: 0.0060668231
A14: 1035 | B14: 1036 | C14: ישראמקו נגב 2 שותפות מוגבלת | D14: 550010003 | E14: מספר שותפות | F14: ישראמקו יהש | G14: IL0002320179 | H14: ISIN | I14: מניות | J14: ישראל | K14: ישראל | L14: סחיר | M14: TASE | N14: חיפושי נפט וגז | O14: לא | P14: ILS | Q14: 12880323 | R14: 1 | S14: 245.5 | U14: 31621.194 | V14: 0.004954 | W14: 0.016152746 | X14: 0.0049788888
A15: 1035 | B15: 1036 | C15: בית-הזהב בע"מ | D15: 520034562 | E15: ח.פ. | F15: בית הזהב | G15: IL0002350101 | H15: ISIN | I15: מניות | J15: ישראל | K15: ישראל | L15: סחיר | M15: TASE | N15: נדל"ן מניב בישראל | O15: לא | P15: ILS | Q15: 69613 | R15: 1 | S15: 1022 | U15: 711.445 | V15: 0.003878 | W15: 0.00036342043 | X15: 0.00011201996
A16: 1035 | B16: 1036 | C16: פורמולה מערכות (1985)בע"מ | D16: 520036690 | E16: ח.פ. | F16: פורמולה מערכות | G16: IL0002560162 | H16: ISIN | I16: מניות | J16: ישראל | K16: ישראל | L16: סחיר | M16: TASE | N16: שירותי מידע | O16: לא | P16: ILS | Q16: 83283 | R16: 1 | S16: 53730 | T16: 136.584 | U16: 44884.54 | V16: 0.005238 | W16: 0.022927931 | X16: 0.0070672579
A17: 1035 | B17: 1036 | C17: אורביט-אלחוט טכנולוגיות בע"מ | D17: 520036153 | E17: ח.פ. | F17: אורביט | G17: IL0002650179 | H17: ISIN | I17: מניות | J17: ישראל | K17: ארה"ב | L17: סחיר | M17: TASE | N17: ביטחוניות | O17: לא | P17: ILS | Q17: 198980 | R17: 1 | S17: 4134 | U17: 8225.833 | V17: 0.007784 | W17: 0.004201922 | X17: 0.0012951917
A18: 1035 | B18: 1036 | C18: נייס מערכות בע"מ | D18: 520036872 | E18: ח.פ. | F18: נייס | G18: IL0002730112 | H18: ISIN | I18: מניות | J18: ישראל | K18: ארה"ב | L18: סחיר | M18: TASE | N18: תוכנה ואינטרנט | O18: לא | P18: ILS | Q18: 33657 | R18: 1 | S18: 35710 | U18: 12018.915 | V18: 0.00045 | W18: 0.0061395048 | X18: 0.0018924282
A19: 1035 | B19: 1036 | C19: קבוצת סקופ מתכות בע"מ | D19: 520037425 | E19: ח.פ. | F19: סקופ | G19: IL0002880198 | H19: ISIN | I19: מניות | J19: ישראל | K19: גלובלי | L19: סחיר | M19: TASE | N19: מסחר | O19: לא | P19: ILS | Q19: 16084 | R19: 1 | S19: 17410 | U19: 2800.224 | V19: 0.001216 | W19: 0.0014304113 | X19: 0.000440907
A20: 1035 | B20: 1036 | C20: עשות - אשקלון תעשיות בע"מ | D20: 520037581 | E20: ח.פ. | F20: עשות | G20: IL0003120172 | H20: ISIN | I20: מניות | J20: ישראל | K20: ישראל | L20: סחיר | M20: TASE | N20: מתכת ומוצרי בניה | O20: לא | P20: ILS | Q20: 1246 | R20: 1 | S20: 8145 | U20: 101.487 | V20: 5.2e-05 | W20: 5.1841459e-05 | X20: 1.5979504e-05
A21: 1035 | B21: 1036 | C21: מליסרון בע"מ | D21: 520037789 | E21: ח.פ. | F21: מליסרון | G21: IL0003230146 | H21: ISIN | I21: מניות | J21: ישראל | K21: ישראל | L21: סחיר | M21: TASE | N21: נדל"ן מניב בישראל | O21: לא | P21: ILS | Q21: 52178 | R21: 1 | S21: 41330 | U21: 21565.167 | V21: 0.001095 | W21: 0.011015924 | X21: 0.0033955255
A22: 1035 | B22: 1036 | C22: פריורטק בע"מ | D22: 520037797 | E22: ח.פ. | F22: פריורטק | G22: IL0003280133 | H22: ISIN | I22: מניות | J22: ישראל | K22: גלובלי | L22: סחיר | M22: TASE | N22: מוליכים למחצה | O22: לא | P22: ILS | Q22: 42497 | R22: 1 | S22: 21750 | U22: 9243.097 | V22: 0.003262 | W22: 0.0047215612 | X22: 0.0014553642
A23: 1035 | B23: 1036 | C23: קבוצת פנינסולה בע"מ | D23: 520033713 | E23: ח.פ. | F23: פנינסולה | G23: IL0003330136 | H23: ISIN | I23: מניות | J23: ישראל | K23: ישראל | L23: סחיר | M23: TASE | N23: אשראי חוץ בנקאי | O23: לא | P23: ILS | Q23: 385412 | R23: 1 | S23: 343.7 | U23: 1324.661 | V23: 0.001614 | W23: 0.00067666366 | X23: 0.0002085734
A24: 1035 | B24: 1036 | C24: ח.מר תעשיות בע"מ | D24: 520037805 | E24: ח.פ. | F24: מר | G24: IL0003380123 | H24: ISIN | I24: מניות | J24: ישראל | K24: ישראל | L24: סחיר | M24: TASE | N24: חשמל | O24: לא | P24: ILS | Q24: 46341 | R24: 1 | S24: 3524 | U24: 1633.057 | V24: 0.003314 | W24: 0.00083419847 | X24: 0.0002571316
A25: 1035 | B25: 1036 | C25: חד-אסף תעשיות בע"מ | D25: 520038449 | E25: ח.פ. | F25: חד אסף תעשיות | G25: IL0003510158 | H25: ISIN | I25: מניות | J25: ישראל | K25: ישראל | L25: סחיר | M25: TASE | N25: מתכת ומוצרי בניה | O25: לא | P25: ILS | Q25: 24739 | R25: 1 | S25: 4363 | U25: 1079.363 | V25: 0.002013 | W25: 0.00055136024 | X25: 0.00016995013
A26: 1035 | B26: 1036 | C26: טלסיס בע"מ | D26: 520038100 | E26: ח.פ. | F26: טלסיס | G26: IL0003540197 | H26: ISIN | I26: מניות | J26: ישראל | K26: ארה"ב | L26: סחיר | M26: TASE | N26: אלקטרוניקה ואופטיקה | O26: לא | P26: ILS | Q26: 28393 | R26: 1 | S26: 23140 | T26: 94.093 | U26: 6664.234 | V26: 0.003035 | W26: 0.0034042253 | X26: 0.0010493114
A27: 1035 | B27: 1036 | C27: ארי נדל"ן(ארנה) השקעות בע"מ | D27: 520038332 | E27: ח.פ. | F27: ארי נדלן | G27: IL0003660136 | H27: ISIN | I27: מניות | J27: ישראל | K27: ישראל | L27: סחיר | M27: TASE | N27: נדל"ן מניב בישראל | O27: לא | P27: ILS | Q27: 2798444 | R27: 1 | S27: 398 | U27: 11137.807 | V27: 0.007876 | W27: 0.0056894172 | X27: 0.0017536941
A28: 1035 | B28: 1036 | C28: וילי פוד השקעות בע"מ | D28: 520038225 | E28: ח.פ. | F28: ויליפוד | G28: IL0003710139 | H28: ISIN | I28: מניות | J28: ישראל | K28: ישראל | L28: סחיר | M28: TASE | N28: מסחר | O28: לא | P28: ILS | Q28: 100728 | R28: 1 | S28: 5462 | U28: 5501.763 | V28: 0.007568 | W28: 0.002810412 | X28: 0.00086627557
A29: 1035 | B29: 1036 | C29: א.מ.ת. מיחשוב בע"מ | D29: 520038514 | E29: ח.פ. | F29: אמת | G29: IL0003820102 | H29: ISIN | I29: מניות | J29: ישראל | K29: ישראל | L29: סחיר | M29: TASE | N29: שירותי מידע | O29: לא | P29: ILS | Q29: 37210 | R29: 1 | S29: 950 | U29: 353.495 | V29: 0.000711 | W29: 0.0001805724 | X29: 5.5659261e-05
A30: 1035 | B30: 1036 | C30: אלוני-חץ נכסים והשקעות בע"מ | D30: 520038506 | E30: ח.פ. | F30: אלוני חץ | G30: IL0003900136 | H30: ISIN | I30: מניות | J30: ישראל | K30: ישראל | L30: סחיר | M30: TASE | N30: נדל"ן מניב בישראל | O30: לא | P30: ILS | Q30: 525394 | R30: 1 | S30: 3920 | U30: 20595.445 | V30: 0.00238 | W30: 0.01052057 | X30: 0.0032428386
A31: 1035 | B31: 1036 | C31: ראלקו סוכנויות בע"מ | D31: 520038183 | E31: ח.פ. | F31: ראלקו | G31: IL0003930174 | H31: ISIN | I31: מניות | J31: ישראל | K31: ישראל | L31: סחיר | M31: TASE | N31: מסחר | O31: לא | P31: ILS | Q31: 27733 | R31: 1 | S31: 4203 | U31: 1165.618 | V31: 0.006578 | W31: 0.00059542125 | X31: 0.00018353141
A32: 1035 | B32: 1036 | C32: רציו חיפושי נפט (1992) - שותפות מוגבלת | D32: 550012777 | E32: מספר שותפות | F32: רציו יהש | G32: IL0003940157 | H32: ISIN | I32: מניות | J32: ישראל | K32: ישראל | L32: סחיר | M32: TASE | N32: חיפושי נפט וגז | O32: לא | P32: ILS | Q32: 669098 | R32: 1 | S32: 477.4 | U32: 3194.274 | V32: 0.000595 | W32: 0.0016316997 | X32: 0.00050295173
A33: 1035 | B33: 1036 | C33: אחים דוניץ בע"מ | D33: 520038605 | E33: ח.פ. | F33: דוניץ | G33: IL0004000100 | H33: ISIN | I33: מניות | J33: ישראל | K33: ישראל | L33: סחיר | M33: TASE | N33: בנייה | O33: לא | P33: ILS | Q33: 31445 | R33: 1 | S33: 27000 | U33: 8490.15 | V33: 0.003484 | W33: 0.0043369404 | X33: 0.0013368095
A34: 1035 | B34: 1036 | C34: וילאר אינטרנשיונל בע"מ | D34: 520038910 | E34: ח.פ. | F34: וילאר | G34: IL0004160169 | H34: ISIN | I34: מניות | J34: ישראל | K34: ישראל | L34: סחיר | M34: TASE | N34: נדל"ן מניב בישראל | O34: לא | P34: ILS | Q34: 30317 | R34: 1 | S34: 16580 | U34: 5026.559 | V34: 0.001704 | W34: 0.0025676678 | X34: 0.0007914526
A35: 1035 | B35: 1036 | C35: נתנאל גרופ בע"מ | D35: 520039074 | E35: ח.פ. | F35: נתנאל גרופ | G35: IL0004210162 | H35: ISIN | I35: מניות | J35: ישראל | K35: ישראל | L35: סחיר | M35: TASE | N35: בנייה | O35: לא | P35: ILS | Q35: 61833 | R35: 1 | S35: 1165 | U35: 720.354 | V35: 0.002191 | W35: 0.00036797163 | X35: 0.00011342281
A36: 1035 | B36: 1036 | C36: איי.אי.אס החזקות בע"מ | D36: 520039132 | E36: ח.פ. | F36: אייאיאס תעש | G36: IL0004310152 | H36: ISIN | I36: מניות | J36: ישראל | K36: ישראל | L36: סחיר | M36: TASE | N36: נדל"ן מניב בישראל | O36: לא | P36: ILS | Q36: 22035 | R36: 1 | S36: 41470 | U36: 9137.915 | V36: 0.002138 | W36: 0.0046678316 | X36: 0.0014388027
A37: 1035 | B37: 1036 | C37: סי אי סיסטמס (ישראל) בע"מ | D37: 520039280 | E37: ח.פ. | F37: סיאי | G37: IL0004420126 | H37: ISIN | I37: מניות | J37: ישראל | K37: ישראל | L37: סחיר | M37: TASE | N37: אלקטרוניקה ואופטיקה | O37: לא | P37: ILS | Q37: 55141 | R37: 1 | S37: 4699 | U37: 2591.076 | V37: 0.004838 | W37: 0.0013235738 | X37: 0.00040797565
A38: 1035 | B38: 1036 | C38: מרדכי אביב תעשיות בניה (1973) בע"מ | D38: 520039264 | E38: ח.פ. | F38: אביב בניה | G38: IL0004440181 | H38: ISIN | I38: מניות | J38: ישראל | K38: ישראל | L38: סחיר | M38: TASE | N38: בנייה | O38: לא | P38: ILS | Q38: 13684 | R38: 1 | S38: 2057 | U38: 281.48 | V38: 0.000995 | W38: 0.00014378562 | X38: 4.432018e-05
... A79: 1035 | B79: 1036 | C79: אילקס מדיקל בע"מ | D79: 520042219 | E79: ח.פ. | F79: אילקס מדיקל | G79: IL0010807530 | H79: ISIN | I79: מניות | J79: ישראל | K79: ישראל | L79: סחיר | M79: TASE | N79: מסחר | O79: לא | P79: ILS | Q79: 17214 | R79: 1 | S79: 6666 | U79: 1147.485 | V79: 0.001526 | W79: 0.00058615867 | X79: 0.00018067633
A80: 1035 | B80: 1036 | C80: שניב תעשיות נייר בע"מ | D80: 520041732 | E80: ח.פ. | F80: שניב | G80: IL0010808371 | H80: ISIN | I80: מניות | J80: ישראל | K80: ישראל | L80: סחיר | M80: TASE | N80: עץ, נייר ודפוס | O80: לא | P80: ILS | Q80: 250841 | R80: 1 | S80: 608.3 | T80: 9.995 | U80: 1535.861 | V80: 0.003928 | W80: 0.00078454875 | X80: 0.00024182768
...

Sheet קרנות סל
A1: מספר קופה/קרן/ח.פ. עבור חברת ביטוח | B1: מספר מסלול | C1: שם מנפיק | D1: מספר מנפיק | E1: סוג מספר מזהה מנפיק | F1: שם נייר ערך | G1: מספר נייר ערך | H1: סוג מספר נייר ערך | I1: מאפיין עיקרי | J1: ישראל/חו"ל | K1: מדינה לפי חשיפה כלכלית | L1: זירת מסחר | M1: סיווג הקרן | N1: בעל עניין/צד קשור | O1: מטבע פעילות | P1: ערך נקוב (יחידות) | Q1: שער חליפין | R1: שער נייר הערך | S1: סכום לקבל (במטבע הפעילות) | T1: שווי הוגן (באלפי ש"ח) | U1: שיעור מערך נקוב מונפק | V1: שיעור מנכסי אפיק ההשקעה | W1: שיעור מסך נכסי ההשקעה
A2: 1035 | B2: 1036 | C2: קסם קרנות נאמנות בע"מ | D2: 510938608 | E2: ח.פ. | F2: קסם MSCI India (!)(4D) ETF | G2: IL0011457475 | H2: ISIN | I2: עוקב אחר מדדי מניות בחו"ל | J2: ישראל | K2: אסיה | L2: TASE | M2: CNX NIFTY - מניות בחו"ל - מניות גיאוגרפי - חשופת מט"ח-אסיה הודו | N2: לא | O2: ILS | P2: 270570 | Q2: 1 | R2: 8751 | T2: 23677.581 | U2: 0.02464 | V2: 0.070567662 | W2: 0.0037281337
A3: 1035 | B3: 1036 | C3: מגדל קרנות נאמנות בע"מ | D3: 511303661 | E3: ח.פ. | F3: MTF סל (S&P 500 (4D | G3: IL0011503336 | H3: ISIN | I3: עוקב אחר מדדי מניות בחו"ל | J3: ישראל | K3: ארה"ב | L3: TASE | M3: S&P 500 - מניות בחו"ל - מניות גיאוגרפי - חשופת מט"ח-ארה"ב | N3: לא | O3: ILS | P3: 54000 | Q3: 1 | R3: 9445 | T3: 5100.3 | U3: 0.000619 | V3: 0.015200719 | W3: 0.00080306349
